BEGIN:VCALENDAR
VERSION:2.0
PRODID:-//Rochester Rotary - ECPv6.15.20//NONSGML v1.0//EN
CALSCALE:GREGORIAN
METHOD:PUBLISH
X-WR-CALNAME:Rochester Rotary
X-ORIGINAL-URL:https://www.rochesterrotary.org
X-WR-CALDESC:Events for Rochester Rotary
REFRESH-INTERVAL;VALUE=DURATION:PT1H
X-Robots-Tag:noindex
X-PUBLISHED-TTL:PT1H
BEGIN:VTIMEZONE
TZID:America/New_York
BEGIN:DAYLIGHT
TZOFFSETFROM:-0500
TZOFFSETTO:-0400
TZNAME:EDT
DTSTART:20230312T070000
END:DAYLIGHT
BEGIN:STANDARD
TZOFFSETFROM:-0400
TZOFFSETTO:-0500
TZNAME:EST
DTSTART:20231105T060000
END:STANDARD
BEGIN:DAYLIGHT
TZOFFSETFROM:-0500
TZOFFSETTO:-0400
TZNAME:EDT
DTSTART:20240310T070000
END:DAYLIGHT
BEGIN:STANDARD
TZOFFSETFROM:-0400
TZOFFSETTO:-0500
TZNAME:EST
DTSTART:20241103T060000
END:STANDARD
BEGIN:DAYLIGHT
TZOFFSETFROM:-0500
TZOFFSETTO:-0400
TZNAME:EDT
DTSTART:20250309T070000
END:DAYLIGHT
BEGIN:STANDARD
TZOFFSETFROM:-0400
TZOFFSETTO:-0500
TZNAME:EST
DTSTART:20251102T060000
END:STANDARD
BEGIN:DAYLIGHT
TZOFFSETFROM:-0500
TZOFFSETTO:-0400
TZNAME:EDT
DTSTART:20260308T070000
END:DAYLIGHT
BEGIN:STANDARD
TZOFFSETFROM:-0400
TZOFFSETTO:-0500
TZNAME:EST
DTSTART:20261101T060000
END:STANDARD
BEGIN:DAYLIGHT
TZOFFSETFROM:-0500
TZOFFSETTO:-0400
TZNAME:EDT
DTSTART:20270314T070000
END:DAYLIGHT
BEGIN:STANDARD
TZOFFSETFROM:-0400
TZOFFSETTO:-0500
TZNAME:EST
DTSTART:20271107T060000
END:STANDARD
END:VTIMEZONE
BEGIN:VEVENT
DTSTART;TZID=America/New_York:20250710T080000
DTEND;TZID=America/New_York:20250710T093000
DTSTAMP:20260419T113158
CREATED:20250630T170620Z
LAST-MODIFIED:20250630T170621Z
UID:10016787-1752134400-1752139800@www.rochesterrotary.org
SUMMARY:No Sunshine Camp Facilities Committee
DESCRIPTION:The committee will not meet in the month of July.
URL:https://www.rochesterrotary.org/event/sunshine-camp-facilities-committee-14/
LOCATION:Via Zoom
CATEGORIES:Committee
END:VEVENT
BEGIN:VEVENT
DTSTART;TZID=America/New_York:20250904T120000
DTEND;TZID=America/New_York:20250904T130000
DTSTAMP:20260419T113158
CREATED:20250625T201749Z
LAST-MODIFIED:20250625T201749Z
UID:10017571-1756987200-1756990800@www.rochesterrotary.org
SUMMARY:Membership Recruitment Committee
DESCRIPTION:
URL:https://www.rochesterrotary.org/event/membership-recruitment-committee-13/2025-09-04/
LOCATION:Via Zoom
CATEGORIES:Committee
END:VEVENT
BEGIN:VEVENT
DTSTART;TZID=America/New_York:20251002T120000
DTEND;TZID=America/New_York:20251002T130000
DTSTAMP:20260419T113158
CREATED:20250625T201749Z
LAST-MODIFIED:20250625T201749Z
UID:10017572-1759406400-1759410000@www.rochesterrotary.org
SUMMARY:Membership Recruitment Committee
DESCRIPTION:
URL:https://www.rochesterrotary.org/event/membership-recruitment-committee-13/2025-10-02/
LOCATION:Via Zoom
CATEGORIES:Committee
END:VEVENT
BEGIN:VEVENT
DTSTART;TZID=America/New_York:20251106T120000
DTEND;TZID=America/New_York:20251106T130000
DTSTAMP:20260419T113158
CREATED:20250625T201749Z
LAST-MODIFIED:20250625T201749Z
UID:10017573-1762430400-1762434000@www.rochesterrotary.org
SUMMARY:Membership Recruitment Committee
DESCRIPTION:
URL:https://www.rochesterrotary.org/event/membership-recruitment-committee-13/2025-11-06/
LOCATION:Via Zoom
CATEGORIES:Committee
END:VEVENT
BEGIN:VEVENT
DTSTART;TZID=America/New_York:20251204T120000
DTEND;TZID=America/New_York:20251204T130000
DTSTAMP:20260419T113158
CREATED:20250625T201749Z
LAST-MODIFIED:20250625T201749Z
UID:10017574-1764849600-1764853200@www.rochesterrotary.org
SUMMARY:Membership Recruitment Committee
DESCRIPTION:
URL:https://www.rochesterrotary.org/event/membership-recruitment-committee-13/2025-12-04/
LOCATION:Via Zoom
CATEGORIES:Committee
END:VEVENT
BEGIN:VEVENT
DTSTART;TZID=America/New_York:20250703T120000
DTEND;TZID=America/New_York:20250703T130000
DTSTAMP:20260419T113158
CREATED:20250617T164110Z
LAST-MODIFIED:20250617T164110Z
UID:10017486-1751544000-1751547600@www.rochesterrotary.org
SUMMARY:No Membership Recruitment Committee
DESCRIPTION:The committee will not meet in the month of July.
URL:https://www.rochesterrotary.org/event/no-membership-recruitment-committee-3/
LOCATION:Via Zoom
CATEGORIES:Committee
END:VEVENT
BEGIN:VEVENT
DTSTART;TZID=America/New_York:20250526T120000
DTEND;TZID=America/New_York:20250526T130000
DTSTAMP:20260419T113158
CREATED:20250519T141517Z
LAST-MODIFIED:20250519T141517Z
UID:10016840-1748260800-1748264400@www.rochesterrotary.org
SUMMARY:No Social Events & Activities Committee
DESCRIPTION:Due to the holiday\, the committee will not meet in May.
URL:https://www.rochesterrotary.org/event/social-events-activities-committee-20/
LOCATION:Via Zoom
CATEGORIES:Committee
END:VEVENT
BEGIN:VEVENT
DTSTART;TZID=America/New_York:20250609T130000
DTEND;TZID=America/New_York:20250609T140000
DTSTAMP:20260419T113158
CREATED:20250513T200809Z
LAST-MODIFIED:20250513T200809Z
UID:10017473-1749474000-1749477600@www.rochesterrotary.org
SUMMARY:Sunshine Camp Golf Invitational Committee
DESCRIPTION:
URL:https://www.rochesterrotary.org/event/sunshine-camp-golf-invitational-committee-6/
LOCATION:Via Zoom
CATEGORIES:Committee
END:VEVENT
BEGIN:VEVENT
DTSTART;TZID=America/New_York:20250508T080000
DTEND;TZID=America/New_York:20250508T093000
DTSTAMP:20260419T113158
CREATED:20250424T140807Z
LAST-MODIFIED:20250424T140834Z
UID:10016785-1746691200-1746696600@www.rochesterrotary.org
SUMMARY:No Sunshine Camp Facilities Committee
DESCRIPTION:The Sunshine Camp Facilities will not meet in May.
URL:https://www.rochesterrotary.org/event/sunshine-camp-facilities-committee-13/
LOCATION:Via Zoom
CATEGORIES:Committee
END:VEVENT
BEGIN:VEVENT
DTSTART;TZID=America/New_York:20250424T120000
DTEND;TZID=America/New_York:20250424T130000
DTSTAMP:20260419T113158
CREATED:20250407T152335Z
LAST-MODIFIED:20250407T152335Z
UID:10017435-1745496000-1745499600@www.rochesterrotary.org
SUMMARY:Sunshine Camp Golf Invitational Committee
DESCRIPTION:
URL:https://www.rochesterrotary.org/event/sunshine-camp-golf-invitational-committee-5/
LOCATION:Via Zoom
CATEGORIES:Committee
END:VEVENT
BEGIN:VEVENT
DTSTART;TZID=America/New_York:20250227T163000
DTEND;TZID=America/New_York:20250227T180000
DTSTAMP:20260419T113158
CREATED:20250206T200824Z
LAST-MODIFIED:20250206T200845Z
UID:10016990-1740673800-1740679200@www.rochesterrotary.org
SUMMARY:Rochester Rotary Club Board Meeting
DESCRIPTION:
URL:https://www.rochesterrotary.org/event/rochester-rotary-club-board-meeting-11/
LOCATION:Via Zoom
END:VEVENT
BEGIN:VEVENT
DTSTART;TZID=America/New_York:20250514T160000
DTEND;TZID=America/New_York:20250514T170000
DTSTAMP:20260419T113158
CREATED:20250102T205041Z
LAST-MODIFIED:20250819T202829Z
UID:10017403-1747238400-1747242000@www.rochesterrotary.org
SUMMARY:Rotary Boot Camp
DESCRIPTION:Rotary Boot Camp is a quick “training” on all the “ins” and “outs” of Rochester Rotary. We ask that all new members attend one session.
URL:https://www.rochesterrotary.org/event/rotary-boot-camp-17/
LOCATION:Via Zoom
END:VEVENT
BEGIN:VEVENT
DTSTART;TZID=America/New_York:20250305T160000
DTEND;TZID=America/New_York:20250305T170000
DTSTAMP:20260419T113158
CREATED:20250102T204949Z
LAST-MODIFIED:20250102T204949Z
UID:10017402-1741190400-1741194000@www.rochesterrotary.org
SUMMARY:Rotary Boot Camp
DESCRIPTION:Rotary Boot Camp is a quick “training” on all the “ins” and “outs” of Rochester Rotary. We ask that all new members attend one session.
URL:https://www.rochesterrotary.org/event/rotary-boot-camp-16/
LOCATION:Via Zoom
END:VEVENT
BEGIN:VEVENT
DTSTART;TZID=America/New_York:20250129T160000
DTEND;TZID=America/New_York:20250129T170000
DTSTAMP:20260419T113158
CREATED:20250102T204903Z
LAST-MODIFIED:20250102T204903Z
UID:10017401-1738166400-1738170000@www.rochesterrotary.org
SUMMARY:Rotary Boot Camp
DESCRIPTION:Rotary Boot Camp is a quick “training” on all the “ins” and “outs” of Rochester Rotary. We ask that all new members attend one session.
URL:https://www.rochesterrotary.org/event/rotary-boot-camp-15/
LOCATION:Via Zoom
END:VEVENT
BEGIN:VEVENT
DTSTART;TZID=America/New_York:20250102T120000
DTEND;TZID=America/New_York:20250102T130000
DTSTAMP:20260419T113158
CREATED:20241223T204626Z
LAST-MODIFIED:20241223T204627Z
UID:10017111-1735819200-1735822800@www.rochesterrotary.org
SUMMARY:No Membership Recruitment Committee
DESCRIPTION:The committee will not meet in the month of January.
URL:https://www.rochesterrotary.org/event/membership-recruitment-committee-12/
LOCATION:Via Zoom
CATEGORIES:Committee
END:VEVENT
BEGIN:VEVENT
DTSTART;TZID=America/New_York:20241223T120000
DTEND;TZID=America/New_York:20241223T130000
DTSTAMP:20260419T113158
CREATED:20241216T162743Z
LAST-MODIFIED:20241216T162744Z
UID:10016835-1734955200-1734958800@www.rochesterrotary.org
SUMMARY:No Social Events & Activities Committee
DESCRIPTION:The committee will not meet in December.
URL:https://www.rochesterrotary.org/event/social-events-activities-committee-19/
LOCATION:Via Zoom
CATEGORIES:Committee
END:VEVENT
BEGIN:VEVENT
DTSTART;TZID=America/New_York:20241125T120000
DTEND;TZID=America/New_York:20241125T130000
DTSTAMP:20260419T113158
CREATED:20241118T202753Z
LAST-MODIFIED:20241118T202754Z
UID:10016834-1732536000-1732539600@www.rochesterrotary.org
SUMMARY:No Social Events & Activities Committee
DESCRIPTION:The committee will not meet in the month of November.
URL:https://www.rochesterrotary.org/event/social-events-activities-committee-18/
LOCATION:Via Zoom
CATEGORIES:Committee
END:VEVENT
BEGIN:VEVENT
DTSTART;TZID=America/New_York:20250113T150000
DTEND;TZID=America/New_York:20250113T160000
DTSTAMP:20260419T113158
CREATED:20241021T203921Z
LAST-MODIFIED:20241021T203921Z
UID:10017281-1736780400-1736784000@www.rochesterrotary.org
SUMMARY:DEI Committee
DESCRIPTION:
URL:https://www.rochesterrotary.org/event/dei-committee-13/2025-01-13/
LOCATION:Via Zoom
CATEGORIES:Committee
END:VEVENT
BEGIN:VEVENT
DTSTART;TZID=America/New_York:20250310T150000
DTEND;TZID=America/New_York:20250310T160000
DTSTAMP:20260419T113158
CREATED:20241021T203921Z
LAST-MODIFIED:20241021T203921Z
UID:10017282-1741618800-1741622400@www.rochesterrotary.org
SUMMARY:DEI Committee
DESCRIPTION:
URL:https://www.rochesterrotary.org/event/dei-committee-13/2025-03-10/
LOCATION:Via Zoom
CATEGORIES:Committee
END:VEVENT
BEGIN:VEVENT
DTSTART;TZID=America/New_York:20250512T150000
DTEND;TZID=America/New_York:20250512T160000
DTSTAMP:20260419T113158
CREATED:20241021T203921Z
LAST-MODIFIED:20241021T203921Z
UID:10017283-1747062000-1747065600@www.rochesterrotary.org
SUMMARY:DEI Committee
DESCRIPTION:
URL:https://www.rochesterrotary.org/event/dei-committee-13/2025-05-12/
LOCATION:Via Zoom
CATEGORIES:Committee
END:VEVENT
BEGIN:VEVENT
DTSTART;TZID=America/New_York:20250908T150000
DTEND;TZID=America/New_York:20250908T160000
DTSTAMP:20260419T113158
CREATED:20241021T203921Z
LAST-MODIFIED:20241021T203921Z
UID:10017285-1757343600-1757347200@www.rochesterrotary.org
SUMMARY:DEI Committee
DESCRIPTION:
URL:https://www.rochesterrotary.org/event/dei-committee-13/2025-09-08/
LOCATION:Via Zoom
CATEGORIES:Committee
END:VEVENT
BEGIN:VEVENT
DTSTART;TZID=America/New_York:20251110T150000
DTEND;TZID=America/New_York:20251110T160000
DTSTAMP:20260419T113158
CREATED:20241021T203921Z
LAST-MODIFIED:20241021T203921Z
UID:10017286-1762786800-1762790400@www.rochesterrotary.org
SUMMARY:DEI Committee
DESCRIPTION:
URL:https://www.rochesterrotary.org/event/dei-committee-13/2025-11-10/
LOCATION:Via Zoom
CATEGORIES:Committee
END:VEVENT
BEGIN:VEVENT
DTSTART;TZID=America/New_York:20260112T150000
DTEND;TZID=America/New_York:20260112T160000
DTSTAMP:20260419T113158
CREATED:20241021T203921Z
LAST-MODIFIED:20241021T203921Z
UID:10017287-1768230000-1768233600@www.rochesterrotary.org
SUMMARY:DEI Committee
DESCRIPTION:
URL:https://www.rochesterrotary.org/event/dei-committee-13/2026-01-12/
LOCATION:Via Zoom
CATEGORIES:Committee
END:VEVENT
BEGIN:VEVENT
DTSTART;TZID=America/New_York:20241021T150000
DTEND;TZID=America/New_York:20241021T160000
DTSTAMP:20260419T113158
CREATED:20241011T131814Z
LAST-MODIFIED:20241011T131833Z
UID:10017119-1729522800-1729526400@www.rochesterrotary.org
SUMMARY:DEI Committee
DESCRIPTION:
URL:https://www.rochesterrotary.org/event/dei-committee-12/
LOCATION:Via Zoom
CATEGORIES:Committee
END:VEVENT
BEGIN:VEVENT
DTSTART;TZID=America/New_York:20241028T120000
DTEND;TZID=America/New_York:20241028T130000
DTSTAMP:20260419T113158
CREATED:20240924T133848Z
LAST-MODIFIED:20240924T133849Z
UID:10016736-1730116800-1730120400@www.rochesterrotary.org
SUMMARY:No Social Events & Activities Committee
DESCRIPTION:The committee will not meet in October.
URL:https://www.rochesterrotary.org/event/social-events-activities-committee-17/
LOCATION:Via Zoom
CATEGORIES:Committee
END:VEVENT
BEGIN:VEVENT
DTSTART;TZID=America/New_York:20241106T160000
DTEND;TZID=America/New_York:20241106T170000
DTSTAMP:20260419T113158
CREATED:20240814T154253Z
LAST-MODIFIED:20240814T154253Z
UID:10017230-1730908800-1730912400@www.rochesterrotary.org
SUMMARY:Rotary Boot Camp
DESCRIPTION:Rotary Boot Camp is a quick “training” on all the “ins” and “outs” of Rochester Rotary. We ask that all new members attend one session.
URL:https://www.rochesterrotary.org/event/rotary-boot-camp-14/
LOCATION:Via Zoom
END:VEVENT
BEGIN:VEVENT
DTSTART;TZID=America/New_York:20240925T160000
DTEND;TZID=America/New_York:20240925T170000
DTSTAMP:20260419T113158
CREATED:20240814T154149Z
LAST-MODIFIED:20240814T154149Z
UID:10017229-1727280000-1727283600@www.rochesterrotary.org
SUMMARY:Rotary Boot Camp
DESCRIPTION:Rotary Boot Camp is a quick “training” on all the “ins” and “outs” of Rochester Rotary. We ask that all new members attend one session.
URL:https://www.rochesterrotary.org/event/rotary-boot-camp-13/
LOCATION:Via Zoom
END:VEVENT
BEGIN:VEVENT
DTSTART;TZID=America/New_York:20241002T120000
DTEND;TZID=America/New_York:20241002T130000
DTSTAMP:20260419T113158
CREATED:20240806T165428Z
LAST-MODIFIED:20251117T201954Z
UID:10017218-1727870400-1727874000@www.rochesterrotary.org
SUMMARY:Marketing Committee
DESCRIPTION:Help us build our Rotary brand.
URL:https://www.rochesterrotary.org/event/marketing-committee-17/2024-10-02/
LOCATION:Via Zoom
CATEGORIES:Committee
END:VEVENT
BEGIN:VEVENT
DTSTART;TZID=America/New_York:20241204T120000
DTEND;TZID=America/New_York:20241204T130000
DTSTAMP:20260419T113158
CREATED:20240806T165428Z
LAST-MODIFIED:20251117T201954Z
UID:10017219-1733313600-1733317200@www.rochesterrotary.org
SUMMARY:Marketing Committee
DESCRIPTION:Help us build our Rotary brand.
URL:https://www.rochesterrotary.org/event/marketing-committee-17/2024-12-04/
LOCATION:Via Zoom
CATEGORIES:Committee
END:VEVENT
BEGIN:VEVENT
DTSTART;TZID=America/New_York:20250205T120000
DTEND;TZID=America/New_York:20250205T130000
DTSTAMP:20260419T113158
CREATED:20240806T165428Z
LAST-MODIFIED:20251117T201954Z
UID:10017220-1738756800-1738760400@www.rochesterrotary.org
SUMMARY:Marketing Committee
DESCRIPTION:Help us build our Rotary brand.
URL:https://www.rochesterrotary.org/event/marketing-committee-17/2025-02-05/
LOCATION:Via Zoom
CATEGORIES:Committee
END:VEVENT
END:VCALENDAR