BEGIN:VCALENDAR
VERSION:2.0
PRODID:-//Rochester Rotary - ECPv6.15.20//NONSGML v1.0//EN
CALSCALE:GREGORIAN
METHOD:PUBLISH
X-ORIGINAL-URL:https://www.rochesterrotary.org
X-WR-CALDESC:Events for Rochester Rotary
REFRESH-INTERVAL;VALUE=DURATION:PT1H
X-Robots-Tag:noindex
X-PUBLISHED-TTL:PT1H
BEGIN:VTIMEZONE
TZID:America/New_York
BEGIN:DAYLIGHT
TZOFFSETFROM:-0500
TZOFFSETTO:-0400
TZNAME:EDT
DTSTART:20240310T070000
END:DAYLIGHT
BEGIN:STANDARD
TZOFFSETFROM:-0400
TZOFFSETTO:-0500
TZNAME:EST
DTSTART:20241103T060000
END:STANDARD
BEGIN:DAYLIGHT
TZOFFSETFROM:-0500
TZOFFSETTO:-0400
TZNAME:EDT
DTSTART:20250309T070000
END:DAYLIGHT
BEGIN:STANDARD
TZOFFSETFROM:-0400
TZOFFSETTO:-0500
TZNAME:EST
DTSTART:20251102T060000
END:STANDARD
BEGIN:DAYLIGHT
TZOFFSETFROM:-0500
TZOFFSETTO:-0400
TZNAME:EDT
DTSTART:20260308T070000
END:DAYLIGHT
BEGIN:STANDARD
TZOFFSETFROM:-0400
TZOFFSETTO:-0500
TZNAME:EST
DTSTART:20261101T060000
END:STANDARD
END:VTIMEZONE
BEGIN:VEVENT
DTSTART;TZID=America/New_York:20250812T120000
DTEND;TZID=America/New_York:20250812T130000
DTSTAMP:20260424T064544
CREATED:20250724T152955Z
LAST-MODIFIED:20250808T140041Z
UID:10017661-1755000000-1755003600@www.rochesterrotary.org
SUMMARY:Rotary on the Road - RBTL Tour
DESCRIPTION:Join us at the Rochester Broadway Theatre League on Tuesday\, August 12th\, to tour all their new renovations. \nAbout the Rennovations:  \nPhase One of the West Herr Performing Arts Center restoration and renovation is underway\, focusing on enhanced accessibility\, adaptability and amenities. \nCurrently\, the project includes RBTL’s new management of five area parking lots\, exterior maintenance\, and the restoration of several historic brass doors which had darkened over time due to oxidation. Two refurbished elevators and a newly created crossover point now provide long-overdue access to the second-floor Theatre lobby. A new second-floor Theatre lounge/concession space has been created\, which includes new men’s and women’s restroom facilities\, plus a family/all-gender restroom. Additionally\, groundbreaking for a new main floor entrance has begun\, having received Preservation Board approval. \nPreliminary plans are underway for new backstage artist spaces and the restoration of the Main Street façade. Future phases of the project will introduce dedicated patron drop-off areas\, expanded theatre lobbies\, additional entry points\, new concession areas and additional restroom facilities. The plan also includes the restoration of several historic spaces within the building\, which will be repurposed to accommodate a variety of performance opportunities. \n  \nPlease use the form below if you are planning on attending this luncheon. Sign-ups help provide an accurate count for our venues. Guests are welcome.
URL:https://www.rochesterrotary.org/event/rotary-on-the-road-rbtl-tour/
LOCATION:RBTL\, 885 E. Main Street\, Rochester\, New York\, 14605
CATEGORIES:Featured,Luncheon
END:VEVENT
END:VCALENDAR