BEGIN:VCALENDAR
VERSION:2.0
PRODID:-//Rochester Rotary - ECPv6.15.20//NONSGML v1.0//EN
CALSCALE:GREGORIAN
METHOD:PUBLISH
X-WR-CALNAME:Rochester Rotary
X-ORIGINAL-URL:https://www.rochesterrotary.org
X-WR-CALDESC:Events for Rochester Rotary
REFRESH-INTERVAL;VALUE=DURATION:PT1H
X-Robots-Tag:noindex
X-PUBLISHED-TTL:PT1H
BEGIN:VTIMEZONE
TZID:America/New_York
BEGIN:DAYLIGHT
TZOFFSETFROM:-0500
TZOFFSETTO:-0400
TZNAME:EDT
DTSTART:20200308T070000
END:DAYLIGHT
BEGIN:STANDARD
TZOFFSETFROM:-0400
TZOFFSETTO:-0500
TZNAME:EST
DTSTART:20201101T060000
END:STANDARD
BEGIN:DAYLIGHT
TZOFFSETFROM:-0500
TZOFFSETTO:-0400
TZNAME:EDT
DTSTART:20210314T070000
END:DAYLIGHT
BEGIN:STANDARD
TZOFFSETFROM:-0400
TZOFFSETTO:-0500
TZNAME:EST
DTSTART:20211107T060000
END:STANDARD
BEGIN:DAYLIGHT
TZOFFSETFROM:-0500
TZOFFSETTO:-0400
TZNAME:EDT
DTSTART:20220313T070000
END:DAYLIGHT
BEGIN:STANDARD
TZOFFSETFROM:-0400
TZOFFSETTO:-0500
TZNAME:EST
DTSTART:20221106T060000
END:STANDARD
BEGIN:DAYLIGHT
TZOFFSETFROM:-0500
TZOFFSETTO:-0400
TZNAME:EDT
DTSTART:20230312T070000
END:DAYLIGHT
BEGIN:STANDARD
TZOFFSETFROM:-0400
TZOFFSETTO:-0500
TZNAME:EST
DTSTART:20231105T060000
END:STANDARD
BEGIN:DAYLIGHT
TZOFFSETFROM:-0500
TZOFFSETTO:-0400
TZNAME:EDT
DTSTART:20240310T070000
END:DAYLIGHT
BEGIN:STANDARD
TZOFFSETFROM:-0400
TZOFFSETTO:-0500
TZNAME:EST
DTSTART:20241103T060000
END:STANDARD
BEGIN:DAYLIGHT
TZOFFSETFROM:-0500
TZOFFSETTO:-0400
TZNAME:EDT
DTSTART:20250309T070000
END:DAYLIGHT
BEGIN:STANDARD
TZOFFSETFROM:-0400
TZOFFSETTO:-0500
TZNAME:EST
DTSTART:20251102T060000
END:STANDARD
BEGIN:DAYLIGHT
TZOFFSETFROM:-0500
TZOFFSETTO:-0400
TZNAME:EDT
DTSTART:20260308T070000
END:DAYLIGHT
BEGIN:STANDARD
TZOFFSETFROM:-0400
TZOFFSETTO:-0500
TZNAME:EST
DTSTART:20261101T060000
END:STANDARD
END:VTIMEZONE
BEGIN:VEVENT
DTSTART;TZID=America/New_York:20251209T113000
DTEND;TZID=America/New_York:20251209T133000
DTSTAMP:20260419T082543
CREATED:20251112T171647Z
LAST-MODIFIED:20251204T133334Z
UID:10017725-1765279800-1765287000@www.rochesterrotary.org
SUMMARY:Joint Luncheon with RDDC
DESCRIPTION:Join Monroe County Executive Adam Bello and City of Rochester Mayor Malik Evans on Tuesday\, December 9th\, as they speak on the opportunities and challenges for Rochester and its downtown in 2026 and beyond. \n  \nRegistration is full! Contact Kellianne@rochesterrotary.org to join the waitlist. \n \n\n 
URL:https://www.rochesterrotary.org/event/joint-luncheon-with-rddc-2/
LOCATION:Floreano Rochester Riverside Convention Center\, 123 E. Main St.\, Rochester\, NY\, 14604\, United States
CATEGORIES:Featured,Luncheon
ATTACH;FMTTYPE=image/png:https://www.rochesterrotary.org/wp-content/uploads/2025/11/Vision-Future-2025-_2_.png
END:VEVENT
BEGIN:VEVENT
DTSTART;TZID=America/New_York:20250909T120000
DTEND;TZID=America/New_York:20250909T130000
DTSTAMP:20260419T082543
CREATED:20250813T151742Z
LAST-MODIFIED:20250828T124307Z
UID:10017681-1757419200-1757422800@www.rochesterrotary.org
SUMMARY:Tuesday Luncheon Meeting
DESCRIPTION:Join us at the Floreano Rochester Riverside Convention Center for a 9/11 Program from speaker Rick Kettell. \n  \nRichard Kettell—Senior Air Traffic Control Manager\, Cleveland Air Route Traffic Control Center (Cleveland  ARTCC) \nOn September 11\, 2001\, Rick Kettell was the senior FAA official in charge of Cleveland ARTCC\, the busiest air traffic control facility in the world. When news of multiple hijackings reached him\, Kettell established a command post at the facility and led the FAA’s response to the terrorist attack in the skies of US Airspace. He witnessed first hand the flight path and altitude changes of Flight 93 and shared radio messages mistakenly broadcasted by the hijackers. He gave the order at Cleveland Center to shutdown the airspace\, one never practiced or planned for.  Kettell has since retired from the FAA\, but remains active in teaching managers at the FAA Learning and Leadership Institute \n  \nRegister with the form below:
URL:https://www.rochesterrotary.org/event/tuesday-luncheon-meeting-94/
LOCATION:Floreano Rochester Riverside Convention Center\, 123 E. Main St.\, Rochester\, NY\, 14604\, United States
CATEGORIES:Featured,Luncheon
ATTACH;FMTTYPE=image/jpeg:https://www.rochesterrotary.org/wp-content/uploads/2025/08/Rick-Kettell.jpg
END:VEVENT
BEGIN:VEVENT
DTSTART;TZID=America/New_York:20250722T120000
DTEND;TZID=America/New_York:20250722T130000
DTSTAMP:20260419T082543
CREATED:20250616T132729Z
LAST-MODIFIED:20250714T190848Z
UID:10017483-1753185600-1753189200@www.rochesterrotary.org
SUMMARY:Tuesday Luncheon Meeting
DESCRIPTION:Join us at the Floreano Rochester Riverside Convention Center to hear from guest speaker J.C. Argetsinger\, President of the International Motor Racing Research Center at Watkins Glen. \nHow Motor Racing made Watkins Glen World Famous \nAs recently as the aftermath of WWII Watkins Glen was chiefly known as a little upstate village on a lovely lake with a beautiful gorge.  Within ten years the name Watkins Glen became nationally famous and within the following decade became widely known internationally.  This all occurred because of the dream and organizing skills of a young pre-law student\, Cameron R. Argetsinger.  The growth of the road racing led to the creation of the International Motor Racing Research Center (IMRRC)\, a thriving library and archive dedicated to motorsport spearheaded by Jean Argetsinger\, wife of Cameron\, in 1998 to commemorate fifty years of road racing at Watkins Glen. \n  \nUse the form below to register:
URL:https://www.rochesterrotary.org/event/tuesday-luncheon-meeting-93/
LOCATION:Floreano Rochester Riverside Convention Center\, 123 E. Main St.\, Rochester\, NY\, 14604\, United States
CATEGORIES:Featured,Luncheon
ATTACH;FMTTYPE=image/jpeg:https://www.rochesterrotary.org/wp-content/uploads/2025/06/JC-Argetsinger.jpg
END:VEVENT
BEGIN:VEVENT
DTSTART;TZID=America/New_York:20250708T120000
DTEND;TZID=America/New_York:20250708T130000
DTSTAMP:20260419T082543
CREATED:20250612T145329Z
LAST-MODIFIED:20250627T131004Z
UID:10017482-1751976000-1751979600@www.rochesterrotary.org
SUMMARY:Tuesday Luncheon Meeting
DESCRIPTION:Join us for President Rich de Asis’ inaugural meeting at the Rochester Riverside Convention Center. Rich will give you a taste of what you can expect for the 2025-2025 Rotary year. \n  \nUse the form below to register:
URL:https://www.rochesterrotary.org/event/tuesday-luncheon-meeting-92/
LOCATION:Floreano Rochester Riverside Convention Center\, 123 E. Main St.\, Rochester\, NY\, 14604\, United States
CATEGORIES:Featured,Luncheon
ATTACH;FMTTYPE=image/png:https://www.rochesterrotary.org/wp-content/uploads/2024/05/de-Asis-Rich.png
END:VEVENT
BEGIN:VEVENT
DTSTART;TZID=America/New_York:20250527T120000
DTEND;TZID=America/New_York:20250527T133000
DTSTAMP:20260419T082543
CREATED:20250505T164221Z
LAST-MODIFIED:20250521T131332Z
UID:10017464-1748347200-1748352600@www.rochesterrotary.org
SUMMARY:Annual Law Day Luncheon
DESCRIPTION:Join us for our Annual Law Day Luncheon and Presentation of the Annual Henry H. Jenson Memorial Award at the Floreano Rochester Riverside Convention Center \nThis year marks the twenty-third annual presentation of the Chief Henry H. Jensen Memorial Award and recognition of the Rochester Police Department. Upon his passing\, Mr. Jensen bequeathed a gift to the Rochester Rotary Charitable Trusts\, Inc. in memory of his wife\, Dorothy. He designated that an appropriate award be presented to one of the Rochester Police Department’s “unsung heroes”. \nHenry H. Jensen Award \nOfficer Don Wasser \nRochester Police Department \n  \nAbove and Beyond Service Award  \nDeputy Ray Gagnier \nMonroe County Sheriff’s Office \n  \nReservations are strongly encouraged.
URL:https://www.rochesterrotary.org/event/tuesday-luncheon-meeting-91/
LOCATION:Floreano Rochester Riverside Convention Center\, 123 E. Main St.\, Rochester\, NY\, 14604\, United States
CATEGORIES:Featured,Luncheon
ATTACH;FMTTYPE=image/png:https://www.rochesterrotary.org/wp-content/uploads/2025/05/law-day-2025-1.png
END:VEVENT
BEGIN:VEVENT
DTSTART;TZID=America/New_York:20250624T120000
DTEND;TZID=America/New_York:20250624T130000
DTSTAMP:20260419T082543
CREATED:20250423T164618Z
LAST-MODIFIED:20250618T155559Z
UID:10017450-1750766400-1750770000@www.rochesterrotary.org
SUMMARY:Tuesday Luncheon Meeting
DESCRIPTION:Join us for President Pauly’s last Tuesday luncheon meeting at the Rochester Riverside Convention Center. \n  \nUse the form below to register: \n\n 
URL:https://www.rochesterrotary.org/event/tuesday-luncheon-meeting-90/
LOCATION:Floreano Rochester Riverside Convention Center\, 123 E. Main St.\, Rochester\, NY\, 14604\, United States
CATEGORIES:Featured,Luncheon
ATTACH;FMTTYPE=image/png:https://www.rochesterrotary.org/wp-content/uploads/2024/07/Guglielmo-Pauly.png
END:VEVENT
BEGIN:VEVENT
DTSTART;TZID=America/New_York:20250617T120000
DTEND;TZID=America/New_York:20250617T130000
DTSTAMP:20260419T082543
CREATED:20250423T164438Z
LAST-MODIFIED:20250611T173214Z
UID:10017449-1750161600-1750165200@www.rochesterrotary.org
SUMMARY:Tuesday Luncheon Meeting
DESCRIPTION:Erica Rogers will be speaking with our club on Tuesday\, June 17th at the Rochester Riverside Convention Center. \nCartwheels to Quicksand – lessons as a CEO \nErica will unpack the story of how she became the only cartwheeling CEO ever to land on the NASDAQ and how quicksand unveils your life lessons.  \n  \nWith over three decades in the Medtech sector\, Erica has had the privilege of serving as a CEO and serial entrepreneur\, dedicating her efforts to innovation and leadership. Steering Silk Road Medical for eleven years\, she successfully navigated the company from early venture funding to a triumphant IPO in 2019\, overseeing its expansion from a 25-person startup to a flourishing 500-employee organization. In addition to founding two companies\, she played a crucial role in launching the first non-profit pharmaceutical company in women’s health. She has been humbled to receive recognitions such as 2023 MedTech MVP\, Forbes’s “50 over 50” Women\, Silicon Valley’s “Power 100” top CEOs\, and EY Entrepreneur of the Year\, and is a named inventor on more than 25 US patents in medical technologies. Erica now serves on four for-profit Boards\, and one non-profit Board and is Chair person or member of Compensation Committee\, Commercial Committee and Investment Committee. She holds a BA in Zoology and is an avid outdoor sports person and ballroom dancer. \n  \nUse the form below to register:
URL:https://www.rochesterrotary.org/event/tuesday-luncheon-meeting-89/
LOCATION:Floreano Rochester Riverside Convention Center\, 123 E. Main St.\, Rochester\, NY\, 14604\, United States
CATEGORIES:Featured,Luncheon
ATTACH;FMTTYPE=image/jpeg:https://www.rochesterrotary.org/wp-content/uploads/2025/04/IMG_7402-scaled.jpeg
END:VEVENT
BEGIN:VEVENT
DTSTART;TZID=America/New_York:20250603T120000
DTEND;TZID=America/New_York:20250603T130000
DTSTAMP:20260419T082543
CREATED:20250423T160253Z
LAST-MODIFIED:20250528T181845Z
UID:10017447-1748952000-1748955600@www.rochesterrotary.org
SUMMARY:Tuesday Luncheon Meeting
DESCRIPTION:Guest speaker\, CJ Rapp\, Founder and CEO of Karma Water\, will be presenting ” A Lifetime in Beverages” on Tuesday\, June 3rd at the Rochester Riverside Convention Center. \nCJ has been a part of the Rochester business community since 1986 when he launched Jolt Cola.  Jolt became popular in more than 20 countries.  Jolt inspired what became the energy drink category. \nToday CJ is the CEO of Karma Water.  A health & wellness beverage that features a one-of-a-kind dispensing cap on the bottle.  Consumers infuse the active ingredients just moments before consumption\, assuring optimal health benefits. \nCJ will share his observations and lessons learned over a 40-year career.  This will include his experiences from extensive travels to more than 40 countries…and what has he learned from competing with multinational conglomerates over several decades. \n  \n  \nUse the form below to register for this luncheon:
URL:https://www.rochesterrotary.org/event/tuesday-luncheon-meeting-88/
LOCATION:Floreano Rochester Riverside Convention Center\, 123 E. Main St.\, Rochester\, NY\, 14604\, United States
CATEGORIES:Featured,Luncheon
ATTACH;FMTTYPE=image/jpeg:https://www.rochesterrotary.org/wp-content/uploads/2025/04/CJ-Headshot-e1748455158490.jpg
END:VEVENT
BEGIN:VEVENT
DTSTART;TZID=America/New_York:20241217T113000
DTEND;TZID=America/New_York:20241217T133000
DTSTAMP:20260419T082543
CREATED:20241119T202402Z
LAST-MODIFIED:20241211T162418Z
UID:10017329-1734435000-1734442200@www.rochesterrotary.org
SUMMARY:Joint Luncheon with RDDC
DESCRIPTION:Join Monroe County Executive Adam Bello and City of Rochester Mayor Malik Evans as they speak on the opportunities and challenges for Rochester and its downtown in 2025 and beyond. \n  \nPlease contact Kellianne@rochesterrotary.org or 585-546-7435×204 for any available tickets.
URL:https://www.rochesterrotary.org/event/joint-luncheon-with-rddc/
LOCATION:Floreano Rochester Riverside Convention Center\, 123 E. Main St.\, Rochester\, NY\, 14604\, United States
CATEGORIES:Featured,Luncheon
END:VEVENT
BEGIN:VEVENT
DTSTART;TZID=America/New_York:20240528T120000
DTEND;TZID=America/New_York:20240528T133000
DTSTAMP:20260419T082543
CREATED:20240321T161110Z
LAST-MODIFIED:20240524T171612Z
UID:10016890-1716897600-1716903000@www.rochesterrotary.org
SUMMARY:Annual Law Day Luncheon
DESCRIPTION:Join is at the Rochester Riverside Convention Center in celebrating law enforcement at the Annual Law Day Luncheon and presentation of the Annual Henry H. Jenson Memorial Award and the Above and Beyond Service Award on Tuesday\, May 28th. \n  \nHenry H. Jensen Award \nLieutenant Bing Reaves Jr. \nAbove and Beyond Service Award  \nMonroe County Sheriff \nDeputy Todd Thurston \n  \nUse the form below if you plan to attend this luncheon. Reservations are required for this luncheon. Please note that this will be a sit-down luncheon. If you are unable to make it after signing up\, please notify us 48 hours in advance to avoid getting charged.
URL:https://www.rochesterrotary.org/event/annual-law-day-luncheon/
LOCATION:Floreano Rochester Riverside Convention Center\, 123 E. Main St.\, Rochester\, NY\, 14604\, United States
CATEGORIES:Featured,Luncheon
END:VEVENT
BEGIN:VEVENT
DTSTART;TZID=America/New_York:20230502T120000
DTEND;TZID=America/New_York:20230502T133000
DTSTAMP:20260419T082543
CREATED:20230414T130128Z
LAST-MODIFIED:20230428T124739Z
UID:10016536-1683028800-1683034200@www.rochesterrotary.org
SUMMARY:Annual Law day
DESCRIPTION:Join Rochester Rotary in celebrating law enforcement at the Annual Law Day Luncheon and presentation of the Annual Henry H. Jenson Memorial Award and Inaugural Above and Beyond Service Award on Tuesday\, May 2nd. \nHenry H. Jensen Award – RPD Officer Dennison “Denny” Wright \nAbove and Beyond Service Award – Monroe County Sheriff’s Deputy Brian Cassidy \n  \nRegistration for this event is closed. You must have a reservation to attend. We are unable to take walk-ins.
URL:https://www.rochesterrotary.org/event/annual-law-day/
LOCATION:Floreano Rochester Riverside Convention Center\, 123 E. Main St.\, Rochester\, NY\, 14604\, United States
CATEGORIES:Featured,Luncheon
END:VEVENT
BEGIN:VEVENT
DTSTART;TZID=America/New_York:20230221T113000
DTEND;TZID=America/New_York:20230221T133000
DTSTAMP:20260419T082543
CREATED:20230131T213928Z
LAST-MODIFIED:20230208T150726Z
UID:10016397-1676979000-1676986200@www.rochesterrotary.org
SUMMARY:Tuesday Luncheon Meeting
DESCRIPTION:Join us at The Rochester Riverside Convention Center to hear from Rochester Rotarian Erica Mock. Erica is the Executive Director of Frederick Douglass Family Initiatives and will be presenting on “Lessons From Frederick Douglass” \n  \n  \nTo ensure that we have enough seating and meals please use the form below if you are planning on attending. You will not be charged if you sign up but do not attend.
URL:https://www.rochesterrotary.org/event/tuesday-luncheon-meeting-8/
LOCATION:Floreano Rochester Riverside Convention Center\, 123 E. Main St.\, Rochester\, NY\, 14604\, United States
CATEGORIES:Featured,Luncheon
ATTACH;FMTTYPE=image/png:https://www.rochesterrotary.org/wp-content/uploads/2023/01/Mock-Erica.png
END:VEVENT
BEGIN:VEVENT
DTSTART;TZID=America/New_York:20230110T113000
DTEND;TZID=America/New_York:20230110T133000
DTSTAMP:20260419T082543
CREATED:20221216T152916Z
LAST-MODIFIED:20221228T164117Z
UID:10016380-1673350200-1673357400@www.rochesterrotary.org
SUMMARY:Tuesday Luncheon Meeting
DESCRIPTION:Join us at the Rochester Riverside Convention Center for our Made in Rochester Series- L3 Harris & RMSC James Webb Telescope and Nuclear Fusion for Clean Energy with Joe Westbay. \nJoe Westbay\, Vice President and General Manager of L3Harris Space Imaging Division has been with the company for 37+ years. He has roles with increasing responsibility in Space Payload ProProduct Development\, Engineering Leadership\, Business Development\, & General Management \nUse the form below to sign up: \nOops! We could not locate your form.
URL:https://www.rochesterrotary.org/event/tuesday-luncheon-meeting/
LOCATION:Floreano Rochester Riverside Convention Center\, 123 E. Main St.\, Rochester\, NY\, 14604\, United States
CATEGORIES:Featured,Luncheon
ATTACH;FMTTYPE=image/png:https://www.rochesterrotary.org/wp-content/uploads/2022/12/westbay-Joe.png
END:VEVENT
BEGIN:VEVENT
DTSTART;TZID=America/New_York:20221108T113000
DTEND;TZID=America/New_York:20221108T133000
DTSTAMP:20260419T082543
CREATED:20221020T185130Z
LAST-MODIFIED:20221102T124656Z
UID:10016358-1667907000-1667914200@www.rochesterrotary.org
SUMMARY:Tuesday Luncheon Meeting
DESCRIPTION:We will be holding our annual Veterans Day luncheon on Tuesday\, November 8th at the Rochester Riverside Convention Center. \n“Lessons from Military Service and what Military Service offers for the Future.” \n\nAnthony R. Palermo\, Esq. –\n\nAnthony will speak on serving in the military\, including prosecuting spies in “Bridge of Spies” by Steven Spielberg. He will also touch on lessons he has carried over to his civilian legal practice and life.\n\n\nChristopher T. Denzer\, Lt Col\, USAF\n\nHe will discuss what the military offers today’s youth and the lessons they may learn.\n\n\n\n  \nIf you are interested in attending this luncheon please sign you and your guests up through the form below: \n 
URL:https://www.rochesterrotary.org/event/tuesday-luncheon-meeting-134/
LOCATION:Floreano Rochester Riverside Convention Center\, 123 E. Main St.\, Rochester\, NY\, 14604\, United States
CATEGORIES:Featured,Luncheon
END:VEVENT
BEGIN:VEVENT
DTSTART;TZID=America/New_York:20220503T120000
DTEND;TZID=America/New_York:20220503T133000
DTSTAMP:20260419T082543
CREATED:20220407T161102Z
LAST-MODIFIED:20220503T143701Z
UID:10016282-1651579200-1651584600@www.rochesterrotary.org
SUMMARY:Tuesday Luncheon Meeting
DESCRIPTION:Join Rochester Rotary in thanking the Rochester Police Department at the 20th Annual Henry H. Jensen Memorial Award & Law Day Luncheon on Tuesday\, May 3rd. We will be holding this luncheon at the Joseph A. Floreano Rochester Riverside Convention Center from 12:00 – 1:30 pm. \nDue to Covid\, there will be two recipients this year: \nLieutenant Richard Waldo \nInvestigator John Fiorica \nThis luncheon is full \n  \n 
URL:https://www.rochesterrotary.org/event/tuesday-luncheon-meeting-111/
LOCATION:Floreano Rochester Riverside Convention Center\, 123 E. Main St.\, Rochester\, NY\, 14604\, United States
CATEGORIES:Featured,Luncheon
END:VEVENT
BEGIN:VEVENT
DTSTART;TZID=America/New_York:20211208T103000
DTEND;TZID=America/New_York:20211208T103000
DTSTAMP:20260419T082543
CREATED:20211109T215138Z
LAST-MODIFIED:20211130T202731Z
UID:10016190-1638959400-1638959400@www.rochesterrotary.org
SUMMARY:RDDC Joint Luncheon
DESCRIPTION:We will be meeting at the Floreano Rochester Riverside Convention Center on Wednesday\, December 8th for our joint luncheon with the RDDC. The meeting will be from 11:30 am – 1:00 pm. \nWe have been through a bruising 19 months during the pandemic\, and we’re finally seeing signs of normalization. A turnover in key public leaders\, major investments\, and growing confidence in our region as a business location are all part of our evolving narrative. \n  \nAdam Bello\, County Executive of Monroe County\, and Malik Evans\, Presumptive Mayor-Elect of the City of Rochester will share their views on where we stand\, and what they see as our biggest assets\, most powerful opportunities\, and most important challenges as we move the Rochester region forward post-COVID. \n  \nPlease use the link below if you are a Rochester Rotarian or with the GRBBA to sign up. Tickets are $35 each. \n  \nIMPORTANT NOTE!\nDue to the recent rise in positive COVID cases\, the RDDC is requiring all attendees to show proof of vaccination to be admitted. \n  \nAttendees also must wear face masks covering their nose and mouth at all times when not eating their meal. \n  \n\n  \n  \n  \n 
URL:https://www.rochesterrotary.org/event/rddc-joint-luncheon/
LOCATION:Floreano Rochester Riverside Convention Center\, 123 E. Main St.\, Rochester\, NY\, 14604\, United States
CATEGORIES:Featured,Luncheon
END:VEVENT
END:VCALENDAR