BEGIN:VCALENDAR
VERSION:2.0
PRODID:-//Rochester Rotary - ECPv6.15.20//NONSGML v1.0//EN
CALSCALE:GREGORIAN
METHOD:PUBLISH
X-ORIGINAL-URL:https://www.rochesterrotary.org
X-WR-CALDESC:Events for Rochester Rotary
REFRESH-INTERVAL;VALUE=DURATION:PT1H
X-Robots-Tag:noindex
X-PUBLISHED-TTL:PT1H
BEGIN:VTIMEZONE
TZID:America/New_York
BEGIN:DAYLIGHT
TZOFFSETFROM:-0500
TZOFFSETTO:-0400
TZNAME:EDT
DTSTART:20250309T070000
END:DAYLIGHT
BEGIN:STANDARD
TZOFFSETFROM:-0400
TZOFFSETTO:-0500
TZNAME:EST
DTSTART:20251102T060000
END:STANDARD
BEGIN:DAYLIGHT
TZOFFSETFROM:-0500
TZOFFSETTO:-0400
TZNAME:EDT
DTSTART:20260308T070000
END:DAYLIGHT
BEGIN:STANDARD
TZOFFSETFROM:-0400
TZOFFSETTO:-0500
TZNAME:EST
DTSTART:20261101T060000
END:STANDARD
BEGIN:DAYLIGHT
TZOFFSETFROM:-0500
TZOFFSETTO:-0400
TZNAME:EDT
DTSTART:20270314T070000
END:DAYLIGHT
BEGIN:STANDARD
TZOFFSETFROM:-0400
TZOFFSETTO:-0500
TZNAME:EST
DTSTART:20271107T060000
END:STANDARD
END:VTIMEZONE
BEGIN:VEVENT
DTSTART;TZID=America/New_York:20260303T120000
DTEND;TZID=America/New_York:20260303T130000
DTSTAMP:20260422T043804
CREATED:20260210T191731Z
LAST-MODIFIED:20260225T144854Z
UID:10017825-1772539200-1772542800@www.rochesterrotary.org
SUMMARY:Tuesday Luncheon Meeting
DESCRIPTION:Join us at Locus Hill Country Club at noon on Tuesday\, March 3rd\, with guest speaker Paul Constantine\, Retail Manager & Museum Curator at FIFCO USA. \nPaul will be presenting “A Brief Discussion on the History of the Genesee Brewery.” \nPaul will discuss the evolution of the Genesee\, its connection to Rochester\, in a general overview of the brewery’s place in the U.S. brewing industry over the years. \nPaul has been with Genesee for about fourteen years. He was originally hired to assist in providing content for a museum section of the Genesee Brew House. Once opened\, Paul stayed on as Retail Manager\, but he still oversees the museum section and is responsible for educating the staff about beer styles. \n  \nUse the form below to register
URL:https://www.rochesterrotary.org/event/tuesday-luncheon-meeting-155/
LOCATION:Locust Hill Country Club
CATEGORIES:Featured,Luncheon
ATTACH;FMTTYPE=image/jpeg:https://www.rochesterrotary.org/wp-content/uploads/2026/01/Paul-Headshot-scaled.jpg
END:VEVENT
BEGIN:VEVENT
DTSTART;TZID=America/New_York:20260304T120000
DTEND;TZID=America/New_York:20260304T130000
DTSTAMP:20260422T043804
CREATED:20251117T202221Z
LAST-MODIFIED:20251117T202232Z
UID:10017227-1772625600-1772629200@www.rochesterrotary.org
SUMMARY:Marketing Committee
DESCRIPTION:Help us build our Rotary brand.
URL:https://www.rochesterrotary.org/event/marketing-committee-22/
LOCATION:Via Zoom
CATEGORIES:Committee
END:VEVENT
BEGIN:VEVENT
DTSTART;TZID=America/New_York:20260304T163000
DTEND;TZID=America/New_York:20260304T183000
DTSTAMP:20260422T043804
CREATED:20260212T182618Z
LAST-MODIFIED:20260216T163647Z
UID:10017826-1772641800-1772649000@www.rochesterrotary.org
SUMMARY:X-Golf Pittsford Happy Hour
DESCRIPTION:Tee Up & Happy Hour at X-Golf Wednesday\, March 4 | 4:30–6:30 PM \nJoin us for a fun\, casual evening at the golf simulator! Whether you’re a seasoned golfer or want to swing a club for fun\, this is a great way to connect and unwind. \nGolfers \n\n12 golf spots available\n$30 per golfer\nBring your own clubs or rent from X-Golf\n\nNon-golfers \n\nNo fee\nUnlimited spots\n\nCome for the golf\, stay for the networking and drinks. Golfing spots are limited\, so grab yours before they’re gone!
URL:https://www.rochesterrotary.org/event/x-golf-pittsford-happy-hour/
LOCATION:X-Golf Pittsford\, 3349 Monroe Ave #2\, Rochester\, NY\, 14618\, United States
CATEGORIES:Event,Upcoming Event
ATTACH;FMTTYPE=image/jpeg:https://www.rochesterrotary.org/wp-content/uploads/2026/02/xgolf.jpg
END:VEVENT
BEGIN:VEVENT
DTSTART;TZID=America/New_York:20260306T083000
DTEND;TZID=America/New_York:20260306T090000
DTSTAMP:20260422T043804
CREATED:20260216T165425Z
LAST-MODIFIED:20260225T183710Z
UID:10017829-1772785800-1772787600@www.rochesterrotary.org
SUMMARY:B2B Tour - Carestream Health Rochester
DESCRIPTION:Carestream Health (Rochester) Manufacturing Tour — Rochester Rotary B2B Tour\nFriday\, March 6 | 8:30 AM\nCarestream Health\, Inc. | 150 Verona St\, Rochester\, NY 14608 \nJoin Rochester Rotary’s Business-to-Business (B2B) Tour for a behind-the-scenes look inside Carestream Health’s Rochester manufacturing operations—where advanced digital X-ray imaging systems are built for both medical and industrial use. You’ll learn how digital radiography works\, what makes detectors “smart\,” and why the requirements for healthcare imaging differ from non-destructive testing in heavy industry. \nTour highlights include:\n• Digital Radiography mobile and room X-ray systems\n• Digital Radiography detectors\n• Non-Destructive Testing (NDT) systems\, including rigid and flexible detectors and NDT readers \nWhat you’ll take away:\nA practical understanding of how X-ray imaging supports patient care in clinical environments—and how similar imaging principles are adapted for industrial inspection to detect defects and verify quality without damaging materials. \n  \nPlease use the form below to register for this tour – Guests are welcome!
URL:https://www.rochesterrotary.org/event/b2b-tour-carestream-health-rochester/
LOCATION:Carestream Health\, 150 Verona St.\, Rochester\, NY\, 14608
CATEGORIES:Event
END:VEVENT
BEGIN:VEVENT
DTSTART;TZID=America/New_York:20260310T120000
DTEND;TZID=America/New_York:20260310T130000
DTSTAMP:20260422T043804
CREATED:20260216T183838Z
LAST-MODIFIED:20260304T133136Z
UID:10017830-1773144000-1773147600@www.rochesterrotary.org
SUMMARY:Tuesday Luncheon Meeting
DESCRIPTION:It’s that time of year again for our Annual St. Patty’s Day Luncheon. Hon. Richard A. Dollinger will be presenting “Patrick O’Rorke – Rochester’s Irish Hero.” \nThe presentation will introduce Rochester resident Patrick H. O’Rorke\, his Irish family in Rochester\, the West Point grad\, recruiter of the “Rochester Race Horses” volunteer brigade\, his Civil War career\, and the hero of Little Round Top at Gettysburg. You do not want to miss out on this meeting! \nPlease use the form below if you are planning to attend this luncheon. We have a non-eater fee of $10. You must pre-register as a non-eater. All walk-ins will be charged the $32 luncheon price.
URL:https://www.rochesterrotary.org/event/tuesday-luncheon-meeting-156/
LOCATION:Locust Hill Country Club
CATEGORIES:Featured,Luncheon
ATTACH;FMTTYPE=image/jpeg:https://www.rochesterrotary.org/wp-content/uploads/2026/02/RAD-Headshot-scaled.jpg
END:VEVENT
BEGIN:VEVENT
DTSTART;TZID=America/New_York:20260310T160000
DTEND;TZID=America/New_York:20260310T170000
DTSTAMP:20260422T043804
CREATED:20250626T182013Z
LAST-MODIFIED:20250626T182013Z
UID:10017632-1773158400-1773162000@www.rochesterrotary.org
SUMMARY:Adopt-a-School Committee
DESCRIPTION:
URL:https://www.rochesterrotary.org/event/adopt-a-school-committee-7/2026-03-10/
LOCATION:Rochester Rotary Office\, 180 Linden Oaks #200\, Rochester\, NY\, 14625\, United States
CATEGORIES:Committee
END:VEVENT
BEGIN:VEVENT
DTSTART;TZID=America/New_York:20260311T120000
DTEND;TZID=America/New_York:20260311T133000
DTSTAMP:20260422T043804
CREATED:20190619T194823Z
LAST-MODIFIED:20240701T143753Z
UID:10017066-1773230400-1773235800@www.rochesterrotary.org
SUMMARY:Friendship Committee
DESCRIPTION:Join us for lunch.
URL:https://www.rochesterrotary.org/event/friendship-committee-meeting/2026-03-11/
LOCATION:Shadow Lake Country Club\, 1850 Five Mile Line Road\, Penfield\, NY\, 14526\, United States
CATEGORIES:Committee
END:VEVENT
BEGIN:VEVENT
DTSTART;TZID=America/New_York:20260312T080000
DTEND;TZID=America/New_York:20260312T093000
DTSTAMP:20260422T043804
CREATED:20230213T192402Z
LAST-MODIFIED:20230628T203411Z
UID:10016795-1773302400-1773307800@www.rochesterrotary.org
SUMMARY:Sunshine Camp Facilities Committee
DESCRIPTION:Join us to work on projects and improvements a the Sunshine Camp.
URL:https://www.rochesterrotary.org/event/sunshine-camp-facilities-committee-4/2026-03-12/
LOCATION:Via Zoom
CATEGORIES:Committee
END:VEVENT
BEGIN:VEVENT
DTSTART;TZID=America/New_York:20260312T120000
DTEND;TZID=America/New_York:20260312T133000
DTSTAMP:20260422T043804
CREATED:20200708T170032Z
LAST-MODIFIED:20230628T204049Z
UID:10016922-1773316800-1773322200@www.rochesterrotary.org
SUMMARY:Membership Engagement Committee
DESCRIPTION:
URL:https://www.rochesterrotary.org/event/membership-engagement-committee/2026-03-12/
LOCATION:Via Zoom
CATEGORIES:Committee
END:VEVENT
BEGIN:VEVENT
DTSTART;TZID=America/New_York:20260313T090000
DTEND;TZID=America/New_York:20260313T100000
DTSTAMP:20260422T043804
CREATED:20240701T150459Z
LAST-MODIFIED:20240701T150459Z
UID:10017147-1773392400-1773396000@www.rochesterrotary.org
SUMMARY:International Service Committee
DESCRIPTION:Join us to help select our next international project.
URL:https://www.rochesterrotary.org/event/international-service-committee-6/2026-03-13/
LOCATION:Rochester Rotary Office\, 180 Linden Oaks #200\, Rochester\, NY\, 14625\, United States
CATEGORIES:Committee
END:VEVENT
BEGIN:VEVENT
DTSTART;TZID=America/New_York:20260317T113000
DTEND;TZID=America/New_York:20260317T130000
DTSTAMP:20260422T043804
CREATED:20260216T184758Z
LAST-MODIFIED:20260311T152533Z
UID:10017831-1773747000-1773752400@www.rochesterrotary.org
SUMMARY:Tuesday Luncheon Meeting
DESCRIPTION:Finger Lakes Reds: A second look. \nWhen we think of the Finger Lakes wine region\, the first thing that comes to mind is Riesling\, aromatic whites\, and sparkling wines.\nBut what about the reds? As a region\, the Finger Lakes holds a wide diversity of red grapes planted under vine\, and have roots connected to historic origins in France\, Northern Italy\, Austria\, Germany\, & even the Republic of Georgia. Red wine production and winemaking has come a long way in the last 15 years\, and deserves a second look. Better yet\, another taste. \nJoin us at Locust Hill Country Club on Tuesday\, March 17th to hear from Finger Lakes Native\, Thera Clark. From 2020-2024\, Thera served as the Resident Sommelier at Standing Stone Vineyards and at Hermann J. Wiemer\, where she spearheaded The Library. Thrilled to bring her broad knowledge and love of wine back to the region\, Thera now works with local restaurants and chefs\, and teaches at New York Kitchen & Forge Wine Cellars. Thera holds the WSET Level 3 Certificate. \nThe meeting will start promptly at 11:45 am to accommodate the Annual Meeting of the Membership \nUse the form below to register for this luncheon. \n\n 
URL:https://www.rochesterrotary.org/event/tuesday-luncheon-meeting-157/
LOCATION:Locust Hill Country Club
CATEGORIES:Featured,Luncheon
ATTACH;FMTTYPE=image/jpeg:https://www.rochesterrotary.org/wp-content/uploads/2026/02/Thera-Clark-scaled.jpeg
END:VEVENT
BEGIN:VEVENT
DTSTART;TZID=America/New_York:20260318T120000
DTEND;TZID=America/New_York:20260318T133000
DTSTAMP:20260422T043804
CREATED:20190619T191412Z
LAST-MODIFIED:20240701T143557Z
UID:10017013-1773835200-1773840600@www.rochesterrotary.org
SUMMARY:Business to Business Committee
DESCRIPTION:We plan business tours for our members.
URL:https://www.rochesterrotary.org/event/business-to-business-committee/2026-03-18/
LOCATION:Via Zoom
CATEGORIES:Committee
END:VEVENT
BEGIN:VEVENT
DTSTART;TZID=America/New_York:20260319T083000
DTEND;TZID=America/New_York:20260319T100000
DTSTAMP:20260422T043804
CREATED:20241204T142716Z
LAST-MODIFIED:20241204T143305Z
UID:10017350-1773909000-1773914400@www.rochesterrotary.org
SUMMARY:School No. 8 Scholarship Committee
DESCRIPTION:Plan our scholars activities.
URL:https://www.rochesterrotary.org/event/school-no-8-scholarship-committee-6/2026-03-19/
LOCATION:Rochester Rotary Office\, 180 Linden Oaks #200\, Rochester\, NY\, 14625\, United States
CATEGORIES:Committee
END:VEVENT
BEGIN:VEVENT
DTSTART;TZID=America/New_York:20260321T080000
DTEND;TZID=America/New_York:20260321T130000
DTSTAMP:20260422T043804
CREATED:20260219T172900Z
LAST-MODIFIED:20260219T204532Z
UID:10017834-1774080000-1774098000@www.rochesterrotary.org
SUMMARY:Citywide Service Project - Urban League of Rochester
DESCRIPTION:We are delighted to announce our next Citywide Service Project at The Urban League of Rochester on Saturday\, March 21st\, from 8:00 am – 1:00 pm. \nWe are looking for volunteers to help with some painting.  Paint\, brushes\, rollers\, and drop clothes are provided. \nUrban League of Rochester Office Building\n265 North Clinton Avenue\nRochester\, NY 14605\nLocated across from the Trailways Bus Station near the Rochester Train Station. Parking on the street or across the street in the parking lot adjoining the Bus Station. Parking is permitted in the Trailways lot. \nPlease use the form below if you would like to volunteer! \n\n\n                \n                        Name(Required)\n                            \n                            \n                                                    \n                                                    First\n                                                \n                            \n                            \n                                                    \n                                                    Last\n                                                \n                            \n                        Phone(Required)Email(Required)\n                            \n                        Guests   Add   RemoveClub name(Required)
URL:https://www.rochesterrotary.org/event/citywide-service-project-urban-league-of-rochester/
LOCATION:Urban Leauge of Rochester\, 265 North Clinton Ave\, Rochester\, NY\, 14605\, United States
CATEGORIES:Event
END:VEVENT
BEGIN:VEVENT
DTSTART;TZID=America/New_York:20260322T093000
DTEND;TZID=America/New_York:20260322T120000
DTSTAMP:20260422T043804
CREATED:20260216T145358Z
LAST-MODIFIED:20260216T145412Z
UID:10017828-1774171800-1774180800@www.rochesterrotary.org
SUMMARY:Pancake Breakfast
DESCRIPTION:Join us for another pancake breakfast at the Sunshine Camp on Sunday\, March 22nd from 9:30 am – 12:00 pm. \nPancakes will be served with our homemade maple syrup. Gluten-free pancakes are available upon request. \nDepending on the weather\, tours of the sugar shack and access to our fully accessible playground and mini golf will be available. \nWalk-ins welcome! \nAdults- $10 \nChildren under 13 – $5 \nChildren under 3 – Free \n 
URL:https://www.rochesterrotary.org/event/pancake-breakfast-4/
CATEGORIES:Event
ATTACH;FMTTYPE=image/png:https://www.rochesterrotary.org/wp-content/uploads/2025/01/Pancake-Breakfast.png
END:VEVENT
BEGIN:VEVENT
DTSTART;TZID=America/New_York:20260324T120000
DTEND;TZID=America/New_York:20260324T130000
DTSTAMP:20260422T043804
CREATED:20260218T162452Z
LAST-MODIFIED:20260318T181532Z
UID:10017832-1774353600-1774357200@www.rochesterrotary.org
SUMMARY:Tuesday Luncheon - Spring into Reading
DESCRIPTION:We are bringing back our Spring Into Reading Luncheon with students from our Adopted School\, Roberto Clemente School No. 8. \n  \nPlease fill out the form below if you plan to attend this luncheon. We have a new “non-eater” fee of $10. You must pre-register as a non-eater. All walk-ins will be charged the $32 luncehon fee.
URL:https://www.rochesterrotary.org/event/tuesday-luncheon-spring-into-reading/
LOCATION:Locust Hill Country Club
CATEGORIES:Featured,Luncheon
ATTACH;FMTTYPE=image/jpeg:https://www.rochesterrotary.org/wp-content/uploads/2026/02/IMG_6953.jpg
END:VEVENT
BEGIN:VEVENT
DTSTART;TZID=America/New_York:20260324T163000
DTEND;TZID=America/New_York:20260324T173000
DTSTAMP:20260422T043804
CREATED:20250508T185948Z
LAST-MODIFIED:20250508T185948Z
UID:10017470-1774369800-1774373400@www.rochesterrotary.org
SUMMARY:RRCT Board Meeting
DESCRIPTION:
URL:https://www.rochesterrotary.org/event/rrct-board-meeting-20/
LOCATION:Rochester Rotary Office\, 180 Linden Oaks #200\, Rochester\, NY\, 14625\, United States
CATEGORIES:Boards
END:VEVENT
BEGIN:VEVENT
DTSTART;TZID=America/New_York:20260325T120000
DTEND;TZID=America/New_York:20260325T130000
DTSTAMP:20260422T043804
CREATED:20260205T201442Z
LAST-MODIFIED:20260205T201442Z
UID:10017765-1774440000-1774443600@www.rochesterrotary.org
SUMMARY:Membership Recruitment Committee
DESCRIPTION:
URL:https://www.rochesterrotary.org/event/membership-recruitment-committee-17/2026-03-25/
LOCATION:Via Zoom
CATEGORIES:Committee
END:VEVENT
BEGIN:VEVENT
DTSTART;TZID=America/New_York:20260325T163000
DTEND;TZID=America/New_York:20260325T190000
DTSTAMP:20260422T043804
CREATED:20260212T195515Z
LAST-MODIFIED:20260212T195532Z
UID:10017827-1774456200-1774465200@www.rochesterrotary.org
SUMMARY:March Madness Happy Hour
DESCRIPTION:Gather with fellow Rotarians on March 25th at The Distillery in Henreitta for March Madness! The fun begins at 4:30 pm. \n  \nLet us know if you plan to attend:
URL:https://www.rochesterrotary.org/event/march-madness-happy-hour/
LOCATION:The Distillery – Henrietta\, 3010 S Winton Rd\, Henrietta\, NY\, 14623\, United States
CATEGORIES:Upcoming Event
END:VEVENT
BEGIN:VEVENT
DTSTART;TZID=America/New_York:20260326T163000
DTEND;TZID=America/New_York:20260326T173000
DTSTAMP:20260422T043804
CREATED:20250625T131819Z
LAST-MODIFIED:20250625T131819Z
UID:10017495-1774542600-1774546200@www.rochesterrotary.org
SUMMARY:Rochester Rotary Club Board Meeting
DESCRIPTION:
URL:https://www.rochesterrotary.org/event/rochester-rotary-club-board-meeting-14/2026-03-26/
LOCATION:Rochester Rotary Office\, 180 Linden Oaks #200\, Rochester\, NY\, 14625\, United States
END:VEVENT
BEGIN:VEVENT
DTSTART;TZID=America/New_York:20260330T150000
DTEND;TZID=America/New_York:20260330T160000
DTSTAMP:20260422T043804
CREATED:20260306T142548Z
LAST-MODIFIED:20260306T142557Z
UID:10017288-1774882800-1774886400@www.rochesterrotary.org
SUMMARY:DEI Committee
DESCRIPTION:
URL:https://www.rochesterrotary.org/event/dei-committee-15/
LOCATION:Via Zoom
CATEGORIES:Committee
END:VEVENT
BEGIN:VEVENT
DTSTART;TZID=America/New_York:20260331T120000
DTEND;TZID=America/New_York:20260331T130000
DTSTAMP:20260422T043804
CREATED:20260218T173051Z
LAST-MODIFIED:20260325T185930Z
UID:10017833-1774958400-1774962000@www.rochesterrotary.org
SUMMARY:Tuesday Luncheon Meeting
DESCRIPTION:Join us at Locust Hill Country Club to hear from guest speaker Matt Hurlbutt\, President & CEO of GRE. \nWhat’s New in Economic Development – Going Beyond AI? \nGreater Rochester Enterprise (GRE) is the leading regional economic development organization committed to attracting new capital investments and creating regional wealth and new jobs throughout the Greater Rochester\, NY region. It’s been GRE’s commitment for more than 20 years to serve this community. As a trusted advisor\, the GRE team of economic development professionals will connect you to the right people and the right resources to expand your company in the nine-county Greater Rochester\, NY region. \n  \nUse the form below if you plan to attend this luncheon. We have a non-eater fee of $10. You must pre-register as a non-eater. All walk-ins will be charged the $32 luncheon fee.
URL:https://www.rochesterrotary.org/event/tuesday-luncheon-meeting-158/
LOCATION:Locust Hill Country Club
CATEGORIES:Featured,Luncheon
ATTACH;FMTTYPE=image/png:https://www.rochesterrotary.org/wp-content/uploads/2022/02/Speaker-profile-Matt-Hurlbutt.png
END:VEVENT
END:VCALENDAR