BEGIN:VCALENDAR
VERSION:2.0
PRODID:-//Rochester Rotary - ECPv6.15.20//NONSGML v1.0//EN
CALSCALE:GREGORIAN
METHOD:PUBLISH
X-ORIGINAL-URL:https://www.rochesterrotary.org
X-WR-CALDESC:Events for Rochester Rotary
REFRESH-INTERVAL;VALUE=DURATION:PT1H
X-Robots-Tag:noindex
X-PUBLISHED-TTL:PT1H
BEGIN:VTIMEZONE
TZID:America/New_York
BEGIN:DAYLIGHT
TZOFFSETFROM:-0500
TZOFFSETTO:-0400
TZNAME:EDT
DTSTART:20240310T070000
END:DAYLIGHT
BEGIN:STANDARD
TZOFFSETFROM:-0400
TZOFFSETTO:-0500
TZNAME:EST
DTSTART:20241103T060000
END:STANDARD
BEGIN:DAYLIGHT
TZOFFSETFROM:-0500
TZOFFSETTO:-0400
TZNAME:EDT
DTSTART:20250309T070000
END:DAYLIGHT
BEGIN:STANDARD
TZOFFSETFROM:-0400
TZOFFSETTO:-0500
TZNAME:EST
DTSTART:20251102T060000
END:STANDARD
BEGIN:DAYLIGHT
TZOFFSETFROM:-0500
TZOFFSETTO:-0400
TZNAME:EDT
DTSTART:20260308T070000
END:DAYLIGHT
BEGIN:STANDARD
TZOFFSETFROM:-0400
TZOFFSETTO:-0500
TZNAME:EST
DTSTART:20261101T060000
END:STANDARD
END:VTIMEZONE
BEGIN:VEVENT
DTSTART;TZID=America/New_York:20250521T120000
DTEND;TZID=America/New_York:20250521T133000
DTSTAMP:20260422T192140
CREATED:20190619T191412Z
LAST-MODIFIED:20240701T143557Z
UID:10017003-1747828800-1747834200@www.rochesterrotary.org
SUMMARY:Business to Business Committee
DESCRIPTION:We plan business tours for our members.
URL:https://www.rochesterrotary.org/event/business-to-business-committee/2025-05-21/
LOCATION:Via Zoom
CATEGORIES:Committee
END:VEVENT
BEGIN:VEVENT
DTSTART;TZID=America/New_York:20250522T083000
DTEND;TZID=America/New_York:20250522T100000
DTSTAMP:20260422T192140
CREATED:20250423T144223Z
LAST-MODIFIED:20250423T144239Z
UID:10017340-1747902600-1747908000@www.rochesterrotary.org
SUMMARY:School No. 8 Scholarship Committee
DESCRIPTION:Plan our scholars activities.
URL:https://www.rochesterrotary.org/event/school-no-8-scholarship-committee-8/
LOCATION:Rochester Rotary Office\, 180 Linden Oaks #200\, Rochester\, NY\, 14625\, United States
CATEGORIES:Committee
END:VEVENT
BEGIN:VEVENT
DTSTART;TZID=America/New_York:20250522T163000
DTEND;TZID=America/New_York:20250522T180000
DTSTAMP:20260422T192140
CREATED:20240626T181045Z
LAST-MODIFIED:20240626T181045Z
UID:10016993-1747931400-1747936800@www.rochesterrotary.org
SUMMARY:Rochester Rotary Club Board Meeting
DESCRIPTION:
URL:https://www.rochesterrotary.org/event/rochester-rotary-club-board-meeting-8/2025-05-22/
LOCATION:Rochester Rotary Office\, 180 Linden Oaks #200\, Rochester\, NY\, 14625\, United States
END:VEVENT
BEGIN:VEVENT
DTSTART;TZID=America/New_York:20250526T120000
DTEND;TZID=America/New_York:20250526T130000
DTSTAMP:20260422T192140
CREATED:20250519T141517Z
LAST-MODIFIED:20250519T141517Z
UID:10016840-1748260800-1748264400@www.rochesterrotary.org
SUMMARY:No Social Events & Activities Committee
DESCRIPTION:Due to the holiday\, the committee will not meet in May.
URL:https://www.rochesterrotary.org/event/social-events-activities-committee-20/
LOCATION:Via Zoom
CATEGORIES:Committee
END:VEVENT
BEGIN:VEVENT
DTSTART;TZID=America/New_York:20250527T120000
DTEND;TZID=America/New_York:20250527T133000
DTSTAMP:20260422T192140
CREATED:20250505T164221Z
LAST-MODIFIED:20250521T131332Z
UID:10017464-1748347200-1748352600@www.rochesterrotary.org
SUMMARY:Annual Law Day Luncheon
DESCRIPTION:Join us for our Annual Law Day Luncheon and Presentation of the Annual Henry H. Jenson Memorial Award at the Floreano Rochester Riverside Convention Center \nThis year marks the twenty-third annual presentation of the Chief Henry H. Jensen Memorial Award and recognition of the Rochester Police Department. Upon his passing\, Mr. Jensen bequeathed a gift to the Rochester Rotary Charitable Trusts\, Inc. in memory of his wife\, Dorothy. He designated that an appropriate award be presented to one of the Rochester Police Department’s “unsung heroes”. \nHenry H. Jensen Award \nOfficer Don Wasser \nRochester Police Department \n  \nAbove and Beyond Service Award  \nDeputy Ray Gagnier \nMonroe County Sheriff’s Office \n  \nReservations are strongly encouraged.
URL:https://www.rochesterrotary.org/event/tuesday-luncheon-meeting-91/
LOCATION:Floreano Rochester Riverside Convention Center\, 123 E. Main St.\, Rochester\, NY\, 14604\, United States
CATEGORIES:Featured,Luncheon
ATTACH;FMTTYPE=image/png:https://www.rochesterrotary.org/wp-content/uploads/2025/05/law-day-2025-1.png
END:VEVENT
BEGIN:VEVENT
DTSTART;TZID=America/New_York:20250603T120000
DTEND;TZID=America/New_York:20250603T130000
DTSTAMP:20260422T192140
CREATED:20250423T160253Z
LAST-MODIFIED:20250528T181845Z
UID:10017447-1748952000-1748955600@www.rochesterrotary.org
SUMMARY:Tuesday Luncheon Meeting
DESCRIPTION:Guest speaker\, CJ Rapp\, Founder and CEO of Karma Water\, will be presenting ” A Lifetime in Beverages” on Tuesday\, June 3rd at the Rochester Riverside Convention Center. \nCJ has been a part of the Rochester business community since 1986 when he launched Jolt Cola.  Jolt became popular in more than 20 countries.  Jolt inspired what became the energy drink category. \nToday CJ is the CEO of Karma Water.  A health & wellness beverage that features a one-of-a-kind dispensing cap on the bottle.  Consumers infuse the active ingredients just moments before consumption\, assuring optimal health benefits. \nCJ will share his observations and lessons learned over a 40-year career.  This will include his experiences from extensive travels to more than 40 countries…and what has he learned from competing with multinational conglomerates over several decades. \n  \n  \nUse the form below to register for this luncheon:
URL:https://www.rochesterrotary.org/event/tuesday-luncheon-meeting-88/
LOCATION:Floreano Rochester Riverside Convention Center\, 123 E. Main St.\, Rochester\, NY\, 14604\, United States
CATEGORIES:Featured,Luncheon
ATTACH;FMTTYPE=image/jpeg:https://www.rochesterrotary.org/wp-content/uploads/2025/04/CJ-Headshot-e1748455158490.jpg
END:VEVENT
BEGIN:VEVENT
DTSTART;TZID=America/New_York:20250604T120000
DTEND;TZID=America/New_York:20250604T130000
DTSTAMP:20260422T192140
CREATED:20240806T165428Z
LAST-MODIFIED:20251117T201954Z
UID:10017222-1749038400-1749042000@www.rochesterrotary.org
SUMMARY:Marketing Committee
DESCRIPTION:Help us build our Rotary brand.
URL:https://www.rochesterrotary.org/event/marketing-committee-17/2025-06-04/
LOCATION:Via Zoom
CATEGORIES:Committee
END:VEVENT
BEGIN:VEVENT
DTSTART;TZID=America/New_York:20250604T170000
DTEND;TZID=America/New_York:20250604T190000
DTSTAMP:20260422T192140
CREATED:20250523T161824Z
LAST-MODIFIED:20250523T161824Z
UID:10017481-1749056400-1749063600@www.rochesterrotary.org
SUMMARY:Cayuga Cabin Dedication
DESCRIPTION:We invite you to join us for the official ribbon cutting for the Cayuga Cabin expansion and dedication of the DeCarolis Family Center on Wednesday\, June 4th at 5 pm. Light refreshments will be provided \nRSVP to heather@rochesterrotary.org by Friday\, May 30th.
URL:https://www.rochesterrotary.org/event/cayuga-cabin-dedication/
LOCATION:Sunshine Camp\, 809 Five Points Road\, Rush\, NY\, 14543
CATEGORIES:Event
END:VEVENT
BEGIN:VEVENT
DTSTART;TZID=America/New_York:20250605T120000
DTEND;TZID=America/New_York:20250605T130000
DTSTAMP:20260422T192140
CREATED:20240701T144523Z
LAST-MODIFIED:20240701T144523Z
UID:10017116-1749124800-1749128400@www.rochesterrotary.org
SUMMARY:Membership Recruitment Committee
DESCRIPTION:
URL:https://www.rochesterrotary.org/event/membership-recruitment-committee-3/2025-06-05/
LOCATION:Via Zoom
CATEGORIES:Committee
END:VEVENT
BEGIN:VEVENT
DTSTART;TZID=America/New_York:20250609T130000
DTEND;TZID=America/New_York:20250609T140000
DTSTAMP:20260422T192140
CREATED:20250513T200809Z
LAST-MODIFIED:20250513T200809Z
UID:10017473-1749474000-1749477600@www.rochesterrotary.org
SUMMARY:Sunshine Camp Golf Invitational Committee
DESCRIPTION:
URL:https://www.rochesterrotary.org/event/sunshine-camp-golf-invitational-committee-6/
LOCATION:Via Zoom
CATEGORIES:Committee
END:VEVENT
BEGIN:VEVENT
DTSTART;TZID=America/New_York:20250610T120000
DTEND;TZID=America/New_York:20250610T130000
DTSTAMP:20260422T192140
CREATED:20250423T162230Z
LAST-MODIFIED:20250604T194651Z
UID:10017448-1749556800-1749560400@www.rochesterrotary.org
SUMMARY:Rotary on the Road - Golisano Institute
DESCRIPTION:Join us for another installment of Rotary on the Road. We will be meeting at the Golisano Institute for Business & Entrepreneurship\, located at 150 Sawgrass Dr\, Rochester\, NY 14620 for a sit-down interview with Thomas Golisano. \nGolisano Institute for Business & Entrepreneurship empowers individuals to become entrepreneurially- minded owners of their personal success\, sought-after contributors to their employer\, and drivers of regional economic growth. \nThomas Golisano is an entrepreneur\, philanthropist\, and civic leader born and raised in Rochester\, New York. He has demonstrated an ongoing dedication and commitment to building innovative businesses\, supporting numerous non-profit organizations.  \nUse the form below to register: \nThis luncheon is full. Please contact Kellianne@rochesterrotary.org to join the waitlist. If you have registered and are unable to attend please let the office know.
URL:https://www.rochesterrotary.org/event/rotary-on-the-road-golisano-institute/
LOCATION:Golisano Institute\, 150 Sawgrass Dr\, Rochester\, New York\, 14620
CATEGORIES:Featured,Luncheon
ATTACH;FMTTYPE=image/jpeg:https://www.rochesterrotary.org/wp-content/uploads/2025/04/Tom-Hi-Res-Headshot-scaled.jpg
END:VEVENT
BEGIN:VEVENT
DTSTART;TZID=America/New_York:20250610T160000
DTEND;TZID=America/New_York:20250610T170000
DTSTAMP:20260422T192140
CREATED:20240715T160301Z
LAST-MODIFIED:20240715T160301Z
UID:10017209-1749571200-1749574800@www.rochesterrotary.org
SUMMARY:Adopt-a-School Committee
DESCRIPTION:
URL:https://www.rochesterrotary.org/event/adopt-a-school-committee-3/2025-06-10/
LOCATION:Rochester Rotary Office\, 180 Linden Oaks #200\, Rochester\, NY\, 14625\, United States
END:VEVENT
BEGIN:VEVENT
DTSTART;TZID=America/New_York:20250610T180000
DTEND;TZID=America/New_York:20250610T200000
DTSTAMP:20260422T192140
CREATED:20250421T164847Z
LAST-MODIFIED:20250507T174250Z
UID:10017440-1749578400-1749585600@www.rochesterrotary.org
SUMMARY:Joe Cicero Art Show
DESCRIPTION:Join Rochester Rotarian Joe Cicero at Artisan Works on Tuesday\, June 10th\, from 6 – 8 pm as he presents Art That Heals Through Chaos \nLight appetizers and a cash bar will be available. \nJoe Cicero is an artist based in Rochester\, NY\, who uses his work as a form of healing and reflection. His bold\, surreal imagery blends cartoon\, impressionist\, and street art styles to explore themes of trauma\, identity\, mental health\, and memory. \nHis work has been shown across Rochester\, with an upcoming show at Artisan Works on June 10\, where he’ll debut new pieces that dive deeper into themes of resilience\, mental health\, and emotional survival. Joe’s mission is to connect people through art that’s unapologetically human—messy\, imperfect\, and real. \nAll proceeds from this art show benefit the Sunshine Camp\, a 157-acre summer camp in Rush\, NY\, that serves over 2\,500 children with special needs every summer free of charge. \nClick here to view Joe’s art \nUse the form below to register:
URL:https://www.rochesterrotary.org/event/joe-cicero-art-show/
LOCATION:Artisan Works\, 565 Blossom Road #L\, Rochester\, New York\, 14610
CATEGORIES:Event,Upcoming Event
END:VEVENT
BEGIN:VEVENT
DTSTART;TZID=America/New_York:20250611T120000
DTEND;TZID=America/New_York:20250611T133000
DTSTAMP:20260422T192140
CREATED:20190619T194823Z
LAST-MODIFIED:20240701T143753Z
UID:10017057-1749643200-1749648600@www.rochesterrotary.org
SUMMARY:Friendship Committee
DESCRIPTION:Join us for lunch.
URL:https://www.rochesterrotary.org/event/friendship-committee-meeting/2025-06-11/
LOCATION:Shadow Lake Country Club\, 1850 Five Mile Line Road\, Penfield\, NY\, 14526\, United States
CATEGORIES:Committee
END:VEVENT
BEGIN:VEVENT
DTSTART;TZID=America/New_York:20250611T163000
DTEND;TZID=America/New_York:20250611T173000
DTSTAMP:20260422T192140
CREATED:20250508T184647Z
LAST-MODIFIED:20250609T195808Z
UID:10017466-1749659400-1749663000@www.rochesterrotary.org
SUMMARY:No RRCT Board Meeting
DESCRIPTION:The RRCT Board will not meet in June.
URL:https://www.rochesterrotary.org/event/rrct-board/
LOCATION:Rochester Rotary Office\, 180 Linden Oaks #200\, Rochester\, NY\, 14625\, United States
CATEGORIES:Boards
END:VEVENT
BEGIN:VEVENT
DTSTART;TZID=America/New_York:20250611T163000
DTEND;TZID=America/New_York:20250611T190000
DTSTAMP:20260422T192140
CREATED:20250523T145740Z
LAST-MODIFIED:20250611T163703Z
UID:10017479-1749659400-1749668400@www.rochesterrotary.org
SUMMARY:Happy Hour - Lovin' Cup
DESCRIPTION:Gather with fellow Rotarians and friends for a happy hour at 4:30 pm on Wednesday\, June 11th\, at Lovin’ Cup – 300 Park Point Drive\, Rochester.
URL:https://www.rochesterrotary.org/event/happy-hour-lovin-cup/
LOCATION:Lovin Cup\, 300 Park Point\, Rochester\, New York\, 14623
CATEGORIES:Event,Upcoming Event
END:VEVENT
BEGIN:VEVENT
DTSTART;TZID=America/New_York:20250612T080000
DTEND;TZID=America/New_York:20250612T093000
DTSTAMP:20260422T192140
CREATED:20230213T192402Z
LAST-MODIFIED:20230628T203411Z
UID:10016786-1749715200-1749720600@www.rochesterrotary.org
SUMMARY:Sunshine Camp Facilities Committee
DESCRIPTION:Join us to work on projects and improvements a the Sunshine Camp.
URL:https://www.rochesterrotary.org/event/sunshine-camp-facilities-committee-4/2025-06-12/
LOCATION:Via Zoom
CATEGORIES:Committee
END:VEVENT
BEGIN:VEVENT
DTSTART;TZID=America/New_York:20250612T120000
DTEND;TZID=America/New_York:20250612T133000
DTSTAMP:20260422T192140
CREATED:20200708T170032Z
LAST-MODIFIED:20230628T204049Z
UID:10016913-1749729600-1749735000@www.rochesterrotary.org
SUMMARY:Membership Engagement Committee
DESCRIPTION:
URL:https://www.rochesterrotary.org/event/membership-engagement-committee/2025-06-12/
LOCATION:Via Zoom
CATEGORIES:Committee
END:VEVENT
BEGIN:VEVENT
DTSTART;TZID=America/New_York:20250613T090000
DTEND;TZID=America/New_York:20250613T100000
DTSTAMP:20260422T192140
CREATED:20240701T150459Z
LAST-MODIFIED:20240701T150459Z
UID:10017138-1749805200-1749808800@www.rochesterrotary.org
SUMMARY:International Service Committee
DESCRIPTION:Join us to help select our next international project.
URL:https://www.rochesterrotary.org/event/international-service-committee-6/2025-06-13/
LOCATION:Rochester Rotary Office\, 180 Linden Oaks #200\, Rochester\, NY\, 14625\, United States
CATEGORIES:Committee
END:VEVENT
BEGIN:VEVENT
DTSTART;TZID=America/New_York:20250614T100000
DTEND;TZID=America/New_York:20250614T120000
DTSTAMP:20260422T192140
CREATED:20250523T150002Z
LAST-MODIFIED:20250523T150118Z
UID:10017480-1749895200-1749902400@www.rochesterrotary.org
SUMMARY:Peace Pole Dedication Ceremony
DESCRIPTION:We are thrilled to share that the August 2024 issue of Rotary Magazine features an inspiring article about the Peace Pole project championed by Rotary International President Stephanie Urchick. This global initiative beautifully reflects our shared commitment to building a culture of peace and understanding across borders. \nA Peace Pole is more than just a monument—it’s a beacon of hope\, displaying the heartfelt message\, “May Peace Prevail on Earth\,” in the language of its host country and several others. Our District’s Peace Pole will proudly feature this message in 14 different languages\, each representing and honoring our 14 inbound Youth Exchange students for Rotary Year 2024-25. Each language and flag is a tribute to the rich diversity and unity that Rotary stands for. \nWith over 250\,000 Peace Poles standing as monuments to peace in every country around the globe\, each one serves as an affirmation of our commitment to harmony\, understanding\, and friendship among all people. The message\, authored by Masahisa Goi of Japan after the tragedies of Hiroshima and Nagasaki\, has become a universal call for peace. \nYou’re Invited! \nThe Rochester Rotary International Service Committee is excited to bring this vision to life in our own community! We invite you\, your family\, and your friends to join us for a special Peace Pole Dedication Ceremony at our beloved Sunshine Camp: \nDate: Saturday\, June 14th \nTime: 10:00 AM \nLocation: Sunshine Camp \nLet’s come together as Rotarians and friends to celebrate this powerful symbol of peace. Help us welcome District Governor Dave and Ann DeMers as they preside over the ceremony. This is a wonderful opportunity to reaffirm our commitment to “Service Above Self” and to inspire unity among people of all cultures\, backgrounds\, and beliefs. \nLet’s make this a memorable event—your presence will make all the difference! \nMay Peace Prevail on Earth.
URL:https://www.rochesterrotary.org/event/peace-pole-dedication-ceremony/
LOCATION:Sunshine Camp\, 809 Five Points Road\, Rush\, NY\, 14543
CATEGORIES:Event
END:VEVENT
BEGIN:VEVENT
DTSTART;TZID=America/New_York:20250617T120000
DTEND;TZID=America/New_York:20250617T130000
DTSTAMP:20260422T192140
CREATED:20250423T164438Z
LAST-MODIFIED:20250611T173214Z
UID:10017449-1750161600-1750165200@www.rochesterrotary.org
SUMMARY:Tuesday Luncheon Meeting
DESCRIPTION:Erica Rogers will be speaking with our club on Tuesday\, June 17th at the Rochester Riverside Convention Center. \nCartwheels to Quicksand – lessons as a CEO \nErica will unpack the story of how she became the only cartwheeling CEO ever to land on the NASDAQ and how quicksand unveils your life lessons.  \n  \nWith over three decades in the Medtech sector\, Erica has had the privilege of serving as a CEO and serial entrepreneur\, dedicating her efforts to innovation and leadership. Steering Silk Road Medical for eleven years\, she successfully navigated the company from early venture funding to a triumphant IPO in 2019\, overseeing its expansion from a 25-person startup to a flourishing 500-employee organization. In addition to founding two companies\, she played a crucial role in launching the first non-profit pharmaceutical company in women’s health. She has been humbled to receive recognitions such as 2023 MedTech MVP\, Forbes’s “50 over 50” Women\, Silicon Valley’s “Power 100” top CEOs\, and EY Entrepreneur of the Year\, and is a named inventor on more than 25 US patents in medical technologies. Erica now serves on four for-profit Boards\, and one non-profit Board and is Chair person or member of Compensation Committee\, Commercial Committee and Investment Committee. She holds a BA in Zoology and is an avid outdoor sports person and ballroom dancer. \n  \nUse the form below to register:
URL:https://www.rochesterrotary.org/event/tuesday-luncheon-meeting-89/
LOCATION:Floreano Rochester Riverside Convention Center\, 123 E. Main St.\, Rochester\, NY\, 14604\, United States
CATEGORIES:Featured,Luncheon
ATTACH;FMTTYPE=image/jpeg:https://www.rochesterrotary.org/wp-content/uploads/2025/04/IMG_7402-scaled.jpeg
END:VEVENT
BEGIN:VEVENT
DTSTART;TZID=America/New_York:20250618T120000
DTEND;TZID=America/New_York:20250618T133000
DTSTAMP:20260422T192140
CREATED:20190619T191412Z
LAST-MODIFIED:20240701T143557Z
UID:10017004-1750248000-1750253400@www.rochesterrotary.org
SUMMARY:Business to Business Committee
DESCRIPTION:We plan business tours for our members.
URL:https://www.rochesterrotary.org/event/business-to-business-committee/2025-06-18/
LOCATION:Via Zoom
CATEGORIES:Committee
END:VEVENT
BEGIN:VEVENT
DTSTART;TZID=America/New_York:20250619T083000
DTEND;TZID=America/New_York:20250619T100000
DTSTAMP:20260422T192140
CREATED:20241204T142716Z
LAST-MODIFIED:20241204T143305Z
UID:10017341-1750321800-1750327200@www.rochesterrotary.org
SUMMARY:School No. 8 Scholarship Committee
DESCRIPTION:Plan our scholars activities.
URL:https://www.rochesterrotary.org/event/school-no-8-scholarship-committee-6/2025-06-19/
LOCATION:Rochester Rotary Office\, 180 Linden Oaks #200\, Rochester\, NY\, 14625\, United States
CATEGORIES:Committee
END:VEVENT
BEGIN:VEVENT
DTSTART;TZID=America/New_York:20250619T163000
DTEND;TZID=America/New_York:20250619T180000
DTSTAMP:20260422T192140
CREATED:20250224T211647Z
LAST-MODIFIED:20250224T211708Z
UID:10016994-1750350600-1750356000@www.rochesterrotary.org
SUMMARY:Rochester Rotary Club Board Meeting
DESCRIPTION:
URL:https://www.rochesterrotary.org/event/rochester-rotary-club-board-meeting-12/
LOCATION:Rochester Rotary Office\, 180 Linden Oaks #200\, Rochester\, NY\, 14625\, United States
END:VEVENT
BEGIN:VEVENT
DTSTART;TZID=America/New_York:20250623T120000
DTEND;TZID=America/New_York:20250623T130000
DTSTAMP:20260422T192140
CREATED:20230628T180205Z
LAST-MODIFIED:20250826T143529Z
UID:10016841-1750680000-1750683600@www.rochesterrotary.org
SUMMARY:Social Events & Activities Committee
DESCRIPTION:We meet quarterly to plan our fun activities for our members.
URL:https://www.rochesterrotary.org/event/social-events-activities-committee-8/2025-06-23/
LOCATION:Via Zoom
CATEGORIES:Committee
END:VEVENT
BEGIN:VEVENT
DTSTART;TZID=America/New_York:20250624T120000
DTEND;TZID=America/New_York:20250624T130000
DTSTAMP:20260422T192140
CREATED:20250423T164618Z
LAST-MODIFIED:20250618T155559Z
UID:10017450-1750766400-1750770000@www.rochesterrotary.org
SUMMARY:Tuesday Luncheon Meeting
DESCRIPTION:Join us for President Pauly’s last Tuesday luncheon meeting at the Rochester Riverside Convention Center. \n  \nUse the form below to register: \n\n 
URL:https://www.rochesterrotary.org/event/tuesday-luncheon-meeting-90/
LOCATION:Floreano Rochester Riverside Convention Center\, 123 E. Main St.\, Rochester\, NY\, 14604\, United States
CATEGORIES:Featured,Luncheon
ATTACH;FMTTYPE=image/png:https://www.rochesterrotary.org/wp-content/uploads/2024/07/Guglielmo-Pauly.png
END:VEVENT
BEGIN:VEVENT
DTSTART;TZID=America/New_York:20250703T120000
DTEND;TZID=America/New_York:20250703T130000
DTSTAMP:20260422T192140
CREATED:20250617T164110Z
LAST-MODIFIED:20250617T164110Z
UID:10017486-1751544000-1751547600@www.rochesterrotary.org
SUMMARY:No Membership Recruitment Committee
DESCRIPTION:The committee will not meet in the month of July.
URL:https://www.rochesterrotary.org/event/no-membership-recruitment-committee-3/
LOCATION:Via Zoom
CATEGORIES:Committee
END:VEVENT
BEGIN:VEVENT
DTSTART;TZID=America/New_York:20250708T120000
DTEND;TZID=America/New_York:20250708T130000
DTSTAMP:20260422T192140
CREATED:20250612T145329Z
LAST-MODIFIED:20250627T131004Z
UID:10017482-1751976000-1751979600@www.rochesterrotary.org
SUMMARY:Tuesday Luncheon Meeting
DESCRIPTION:Join us for President Rich de Asis’ inaugural meeting at the Rochester Riverside Convention Center. Rich will give you a taste of what you can expect for the 2025-2025 Rotary year. \n  \nUse the form below to register:
URL:https://www.rochesterrotary.org/event/tuesday-luncheon-meeting-92/
LOCATION:Floreano Rochester Riverside Convention Center\, 123 E. Main St.\, Rochester\, NY\, 14604\, United States
CATEGORIES:Featured,Luncheon
ATTACH;FMTTYPE=image/png:https://www.rochesterrotary.org/wp-content/uploads/2024/05/de-Asis-Rich.png
END:VEVENT
BEGIN:VEVENT
DTSTART;TZID=America/New_York:20250709T120000
DTEND;TZID=America/New_York:20250709T133000
DTSTAMP:20260422T192140
CREATED:20190619T194823Z
LAST-MODIFIED:20240701T143753Z
UID:10017058-1752062400-1752067800@www.rochesterrotary.org
SUMMARY:Friendship Committee
DESCRIPTION:Join us for lunch.
URL:https://www.rochesterrotary.org/event/friendship-committee-meeting/2025-07-09/
LOCATION:Shadow Lake Country Club\, 1850 Five Mile Line Road\, Penfield\, NY\, 14526\, United States
CATEGORIES:Committee
END:VEVENT
BEGIN:VEVENT
DTSTART;TZID=America/New_York:20250710T080000
DTEND;TZID=America/New_York:20250710T093000
DTSTAMP:20260422T192140
CREATED:20250630T170620Z
LAST-MODIFIED:20250630T170621Z
UID:10016787-1752134400-1752139800@www.rochesterrotary.org
SUMMARY:No Sunshine Camp Facilities Committee
DESCRIPTION:The committee will not meet in the month of July.
URL:https://www.rochesterrotary.org/event/sunshine-camp-facilities-committee-14/
LOCATION:Via Zoom
CATEGORIES:Committee
END:VEVENT
END:VCALENDAR