BEGIN:VCALENDAR
VERSION:2.0
PRODID:-//Rochester Rotary - ECPv6.15.20//NONSGML v1.0//EN
CALSCALE:GREGORIAN
METHOD:PUBLISH
X-WR-CALNAME:Rochester Rotary
X-ORIGINAL-URL:https://www.rochesterrotary.org
X-WR-CALDESC:Events for Rochester Rotary
REFRESH-INTERVAL;VALUE=DURATION:PT1H
X-Robots-Tag:noindex
X-PUBLISHED-TTL:PT1H
BEGIN:VTIMEZONE
TZID:America/New_York
BEGIN:DAYLIGHT
TZOFFSETFROM:-0500
TZOFFSETTO:-0400
TZNAME:EDT
DTSTART:20240310T070000
END:DAYLIGHT
BEGIN:STANDARD
TZOFFSETFROM:-0400
TZOFFSETTO:-0500
TZNAME:EST
DTSTART:20241103T060000
END:STANDARD
BEGIN:DAYLIGHT
TZOFFSETFROM:-0500
TZOFFSETTO:-0400
TZNAME:EDT
DTSTART:20250309T070000
END:DAYLIGHT
BEGIN:STANDARD
TZOFFSETFROM:-0400
TZOFFSETTO:-0500
TZNAME:EST
DTSTART:20251102T060000
END:STANDARD
BEGIN:DAYLIGHT
TZOFFSETFROM:-0500
TZOFFSETTO:-0400
TZNAME:EDT
DTSTART:20260308T070000
END:DAYLIGHT
BEGIN:STANDARD
TZOFFSETFROM:-0400
TZOFFSETTO:-0500
TZNAME:EST
DTSTART:20261101T060000
END:STANDARD
END:VTIMEZONE
BEGIN:VEVENT
DTSTART;TZID=America/New_York:20250402T120000
DTEND;TZID=America/New_York:20250402T130000
DTSTAMP:20260422T213220
CREATED:20240806T165428Z
LAST-MODIFIED:20251117T201954Z
UID:10017221-1743595200-1743598800@www.rochesterrotary.org
SUMMARY:Marketing Committee
DESCRIPTION:Help us build our Rotary brand.
URL:https://www.rochesterrotary.org/event/marketing-committee-17/2025-04-02/
LOCATION:Via Zoom
CATEGORIES:Committee
END:VEVENT
BEGIN:VEVENT
DTSTART;TZID=America/New_York:20250403T120000
DTEND;TZID=America/New_York:20250403T130000
DTSTAMP:20260422T213220
CREATED:20240701T144523Z
LAST-MODIFIED:20240701T144523Z
UID:10017114-1743681600-1743685200@www.rochesterrotary.org
SUMMARY:Membership Recruitment Committee
DESCRIPTION:
URL:https://www.rochesterrotary.org/event/membership-recruitment-committee-3/2025-04-03/
LOCATION:Via Zoom
CATEGORIES:Committee
END:VEVENT
BEGIN:VEVENT
DTSTART;TZID=America/New_York:20250408T120000
DTEND;TZID=America/New_York:20250408T130000
DTSTAMP:20260422T213220
CREATED:20250318T195524Z
LAST-MODIFIED:20250402T203626Z
UID:10017432-1744113600-1744117200@www.rochesterrotary.org
SUMMARY:Tuesday Luncheon Meeting
DESCRIPTION:Naomi Silver\, President\, CEO & COO of the Rochester Red Wings\, will be joining us at Comedy at the Carlson on Tuesday\, April 8th to present “Red Wings: Changes in our Business.” \nNaomi will talk about where the Red Wings are today in terms of the game\, MLB\, the Washsington Nationals\, and where they came from. \n  \nNaomi has been involved with the Red Wings her entire life. The Silver family has been devoted to Rochester Community Baseball for over a half century\, and Naomi has taken an active role for over three decades\, working her way up the corporate ladder. She is the daughter of Morrie and Anna Silver. Morrie literally saved baseball in Rochester\, and it is because of the Silver’s devotion to the community that Rochester’s franchise is among the most revered\, respected and the longest continuously operating franchise in all of baseball. Naomi honed her business skills\, assuming more responsibility and taking over different aspects of the business\, becoming the country’s first and only female at the helm of a professional Minor League baseball franchise. As president and CEO of the organization\, she has overseen the Red Wings most successful period in its history. Additionally\, Naomi now serves as the representative for Triple A baseball on Major League Baseball’s Governance Committee. \n  \nUse the form below to register for this luncheon
URL:https://www.rochesterrotary.org/event/tuesday-luncheon-meeting-85/
LOCATION:NY
CATEGORIES:Featured,Luncheon
ATTACH;FMTTYPE=image/jpeg:https://www.rochesterrotary.org/wp-content/uploads/2025/03/rn6ig3WL_400x400.jpg
END:VEVENT
BEGIN:VEVENT
DTSTART;TZID=America/New_York:20250409T080000
DTEND;TZID=America/New_York:20250409T090000
DTSTAMP:20260422T213220
CREATED:20250306T160821Z
LAST-MODIFIED:20250318T184821Z
UID:10017423-1744185600-1744189200@www.rochesterrotary.org
SUMMARY:DEI Breakfast Briefing
DESCRIPTION:The Diversity\, Equity\, and Inclusion (DEI) Committee holds quarterly DEI Education Breakfasts. Our next program is on Wednesday\, April 9th\, at 8:00 a.m. via Zoom. \nDEI Passes the Rotary 4-way Test presented by Rochester Rotary Club DEI Co-Chairs David Powe and Tom Mitchell. \nRotary International adopted a Code of Conduct on Diversity\, Equity and Inclusion (DEI) and a framework for its implementation in 2021. This code of conduct is consistent with Rotary’s long-standing values\, programs\, and services for supporting in the areas such as public health\, conflict prevention\, literacy & education\, economic development and protecting the environment. There is an effort with the current administration to end government\, non-profit\, and private organizations commitment to DEI initiatives\, policies and programs. The Rochester Rotary DEI committee co-chairs David Powe and Tom Mitchell have examined these efforts and challenges and have provided an argument to support Rotary’s commitment to Diversity\, Equity and Inclusion. This 1-hour presentation will include background on the issues\, facts and personal stories. ASL Interpreters will be available for this event. \n  \nUse the form below to register and receive the Zoom link.
URL:https://www.rochesterrotary.org/event/dei-breakfast-briefing-4/
LOCATION:NY
CATEGORIES:Event,Upcoming Event
END:VEVENT
BEGIN:VEVENT
DTSTART;TZID=America/New_York:20250409T120000
DTEND;TZID=America/New_York:20250409T133000
DTSTAMP:20260422T213220
CREATED:20190619T194823Z
LAST-MODIFIED:20240701T143753Z
UID:10017055-1744200000-1744205400@www.rochesterrotary.org
SUMMARY:Friendship Committee
DESCRIPTION:Join us for lunch.
URL:https://www.rochesterrotary.org/event/friendship-committee-meeting/2025-04-09/
LOCATION:Shadow Lake Country Club\, 1850 Five Mile Line Road\, Penfield\, NY\, 14526\, United States
CATEGORIES:Committee
END:VEVENT
BEGIN:VEVENT
DTSTART;TZID=America/New_York:20250409T160000
DTEND;TZID=America/New_York:20250409T170000
DTSTAMP:20260422T213220
CREATED:20250303T153221Z
LAST-MODIFIED:20250303T153236Z
UID:10017208-1744214400-1744218000@www.rochesterrotary.org
SUMMARY:Adopt-a-School Committee
DESCRIPTION:
URL:https://www.rochesterrotary.org/event/adopt-a-school-committee-6/
LOCATION:Rochester Rotary Office\, 180 Linden Oaks #200\, Rochester\, NY\, 14625\, United States
END:VEVENT
BEGIN:VEVENT
DTSTART;TZID=America/New_York:20250410T080000
DTEND;TZID=America/New_York:20250410T093000
DTSTAMP:20260422T213220
CREATED:20250313T130835Z
LAST-MODIFIED:20250313T130916Z
UID:10016784-1744272000-1744277400@www.rochesterrotary.org
SUMMARY:Sunshine Camp Facilities Committee
DESCRIPTION:Join us to work on projects and improvements a the Sunshine Camp.
URL:https://www.rochesterrotary.org/event/sunshine-camp-facilities-committee-12/
LOCATION:Sunshine Camp\, 809 Five Points Road\, Rush\, NY\, 14543
CATEGORIES:Committee
END:VEVENT
BEGIN:VEVENT
DTSTART;TZID=America/New_York:20250410T120000
DTEND;TZID=America/New_York:20250410T133000
DTSTAMP:20260422T213220
CREATED:20200708T170032Z
LAST-MODIFIED:20230628T204049Z
UID:10016911-1744286400-1744291800@www.rochesterrotary.org
SUMMARY:Membership Engagement Committee
DESCRIPTION:
URL:https://www.rochesterrotary.org/event/membership-engagement-committee/2025-04-10/
LOCATION:Via Zoom
CATEGORIES:Committee
END:VEVENT
BEGIN:VEVENT
DTSTART;TZID=America/New_York:20250411T090000
DTEND;TZID=America/New_York:20250411T100000
DTSTAMP:20260422T213220
CREATED:20240701T150459Z
LAST-MODIFIED:20240701T150459Z
UID:10017136-1744362000-1744365600@www.rochesterrotary.org
SUMMARY:International Service Committee
DESCRIPTION:Join us to help select our next international project.
URL:https://www.rochesterrotary.org/event/international-service-committee-6/2025-04-11/
LOCATION:Rochester Rotary Office\, 180 Linden Oaks #200\, Rochester\, NY\, 14625\, United States
CATEGORIES:Committee
END:VEVENT
BEGIN:VEVENT
DTSTART;TZID=America/New_York:20250415T120000
DTEND;TZID=America/New_York:20250415T130000
DTSTAMP:20260422T213220
CREATED:20250319T183354Z
LAST-MODIFIED:20250415T143127Z
UID:10017433-1744718400-1744722000@www.rochesterrotary.org
SUMMARY:Rotary on the Road
DESCRIPTION:Rochester Rotary is going on the Road for the April 15th Luncheon. We will be touring The Little Theater located at 240 East Ave\, Rochester at noon. \nChris Hastings\, WXXI’s new President & CEO will be sharing some quick remarks before we are shown a short film. \nThe Little Theatre officially opened on October 17\, 1929. A three-man orchestra seated in the upper rear left balcony provided accompaniment for the 299 persons attending. In keeping with its devotion to silent films\, The Little Theatre chose to be known as “The House of Silent Shadows\,” and its first presentation was the silent film “Cyrano de Bergerac.” \nIn January 2012\, the theatre took an innovative step toward sustainability by entering into a parent-subsidiary relationship with WXXI Public Broadcasting. Because of this merger\, The Little gained a newfound stability in a shifting\, growing downtown. \nSpace is limited for this luncheon. Please use the button below to register and secure your meal. \nTHIS LUNCHEON IS FULL
URL:https://www.rochesterrotary.org/event/rotary-on-the-road-2/
LOCATION:NY
CATEGORIES:Featured,Luncheon
ATTACH;FMTTYPE=image/jpeg:https://www.rochesterrotary.org/wp-content/uploads/2025/03/little-theatre-front-wxxi.jpg
END:VEVENT
BEGIN:VEVENT
DTSTART;TZID=America/New_York:20250416T120000
DTEND;TZID=America/New_York:20250416T133000
DTSTAMP:20260422T213220
CREATED:20190619T191412Z
LAST-MODIFIED:20240701T143557Z
UID:10017002-1744804800-1744810200@www.rochesterrotary.org
SUMMARY:Business to Business Committee
DESCRIPTION:We plan business tours for our members.
URL:https://www.rochesterrotary.org/event/business-to-business-committee/2025-04-16/
LOCATION:Via Zoom
CATEGORIES:Committee
END:VEVENT
BEGIN:VEVENT
DTSTART;TZID=America/New_York:20250417T083000
DTEND;TZID=America/New_York:20250417T100000
DTSTAMP:20260422T213220
CREATED:20241204T142716Z
LAST-MODIFIED:20241204T143305Z
UID:10017339-1744878600-1744884000@www.rochesterrotary.org
SUMMARY:School No. 8 Scholarship Committee
DESCRIPTION:Plan our scholars activities.
URL:https://www.rochesterrotary.org/event/school-no-8-scholarship-committee-6/2025-04-17/
LOCATION:Rochester Rotary Office\, 180 Linden Oaks #200\, Rochester\, NY\, 14625\, United States
CATEGORIES:Committee
END:VEVENT
BEGIN:VEVENT
DTSTART;TZID=America/New_York:20250422T120000
DTEND;TZID=America/New_York:20250422T130000
DTSTAMP:20260422T213220
CREATED:20250224T204959Z
LAST-MODIFIED:20250416T135413Z
UID:10017422-1745323200-1745326800@www.rochesterrotary.org
SUMMARY:Tuesday Luncheon Meeting
DESCRIPTION:Guest speaker\, Thomas F. Bonadio will be joining us on Tuesday\, April 22nd at Comedy @ the Carlson. \nThomas Bonadio\, General Partner of Impact Capital and Chairman of the Board of Directors at The Bonadio Group. He has devoted his efforts to serving commercial companies in the Rochester area and helping the firm grow from two people to its present size of over 1000 employees. Tom specializes in providing business advice to privately held companies and their owners\, with a particular emphasis on helping them maximize their value and return to shareholders. \nIf you are not a Rochester Rotarian but would like to attend the luncheon\, click here. \n  \nUse the form below to to register for this luncheon:
URL:https://www.rochesterrotary.org/event/tuesday-luncheon-meeting-84/
LOCATION:Comedy @ The Carlson\, 50 Carlson Road\, Rochester\, New York\, 14610
CATEGORIES:Featured,Luncheon
ATTACH;FMTTYPE=image/jpeg:https://www.rochesterrotary.org/wp-content/uploads/2025/02/tom-bonadio.jpg
END:VEVENT
BEGIN:VEVENT
DTSTART;TZID=America/New_York:20250424T120000
DTEND;TZID=America/New_York:20250424T130000
DTSTAMP:20260422T213220
CREATED:20250407T152335Z
LAST-MODIFIED:20250407T152335Z
UID:10017435-1745496000-1745499600@www.rochesterrotary.org
SUMMARY:Sunshine Camp Golf Invitational Committee
DESCRIPTION:
URL:https://www.rochesterrotary.org/event/sunshine-camp-golf-invitational-committee-5/
LOCATION:Via Zoom
CATEGORIES:Committee
END:VEVENT
BEGIN:VEVENT
DTSTART;TZID=America/New_York:20250428T120000
DTEND;TZID=America/New_York:20250428T130000
DTSTAMP:20260422T213220
CREATED:20230628T180205Z
LAST-MODIFIED:20250826T143529Z
UID:10016839-1745841600-1745845200@www.rochesterrotary.org
SUMMARY:Social Events & Activities Committee
DESCRIPTION:We meet quarterly to plan our fun activities for our members.
URL:https://www.rochesterrotary.org/event/social-events-activities-committee-8/2025-04-28/
LOCATION:Via Zoom
CATEGORIES:Committee
END:VEVENT
BEGIN:VEVENT
DTSTART;TZID=America/New_York:20250428T173000
DTEND;TZID=America/New_York:20250428T200000
DTSTAMP:20260422T213220
CREATED:20250402T180839Z
LAST-MODIFIED:20250423T131134Z
UID:10017434-1745861400-1745870400@www.rochesterrotary.org
SUMMARY:Rotary Chopped
DESCRIPTION:Get ready for an unforgettable evening of food\, fun\, and friendly competition at our Rotary Chopped Event\, inspired by the hit TV show Chopped!  Join us as three dynamic teams of two go head-to-head in a culinary showdown\, facing off with surprise ingredients to create a main entrée —all under pressure and all for bragging rights!\nA lively audience (that’s you!) will cheer on the chefs as they chop\, stir\, and plate their way through two intense rounds. A panel of esteemed judges will decide who takes home the title of Rotary Chopped Champions. \nMeet our chefs:\nKelly Bush – Union Tavern\nShaina Zazzaro – Effortlessly Healthy Meals\nOur very own Pete Sarratori – What a trooper! \nThis high-spirited evening is all in good fun and will include food\, drinks\, and plenty of camaraderie and laughs for everyone in attendance. \nFood and drinks will be included with your ticket. \nRegister for the Rotary Chopped Event below:
URL:https://www.rochesterrotary.org/event/rotary-chopped/
LOCATION:Sunshine Camp\, 809 Five Points Road\, Rush\, NY\, 14543
CATEGORIES:Event,Upcoming Event
END:VEVENT
BEGIN:VEVENT
DTSTART;TZID=America/New_York:20250429T120000
DTEND;TZID=America/New_York:20250429T130000
DTSTAMP:20260422T213220
CREATED:20250410T155221Z
LAST-MODIFIED:20250424T150640Z
UID:10017438-1745928000-1745931600@www.rochesterrotary.org
SUMMARY:Tuesday Luncheon Meeting
DESCRIPTION:Jerry Archibald\, Rochester Rotarian and Author of Underestimated\, Mentally Ill\, Yet Successful! will be sitting down with Past President\, Donna Dedee for another installment of our Rotary Spotlight series.  \nUnderestimated\, Mentally Ill\, Yet Successful Book Link \nCar-Chitecture Book Link \nUse the form below to register for this luncheon
URL:https://www.rochesterrotary.org/event/tuesday-luncheon-meeting-86/
LOCATION:Comedy @ The Carlson\, 50 Carlson Road\, Rochester\, New York\, 14610
CATEGORIES:Featured,Luncheon
ATTACH;FMTTYPE=image/jpeg:https://www.rochesterrotary.org/wp-content/uploads/2025/04/Archibald_Gerald_443-_254.jpeg
END:VEVENT
BEGIN:VEVENT
DTSTART;TZID=America/New_York:20250430T163000
DTEND;TZID=America/New_York:20250430T180000
DTSTAMP:20260422T213220
CREATED:20240626T184554Z
LAST-MODIFIED:20250321T130131Z
UID:10017000-1746030600-1746036000@www.rochesterrotary.org
SUMMARY:Joint Club/Charitable Trusts Board Meeting
DESCRIPTION:
URL:https://www.rochesterrotary.org/event/joint-club-charitable-trusts-board-meeting-4/
LOCATION:Rochester Rotary Office\, 180 Linden Oaks #200\, Rochester\, NY\, 14625\, United States
END:VEVENT
BEGIN:VEVENT
DTSTART;TZID=America/New_York:20250501T120000
DTEND;TZID=America/New_York:20250501T130000
DTSTAMP:20260422T213220
CREATED:20240701T144523Z
LAST-MODIFIED:20240701T144523Z
UID:10017115-1746100800-1746104400@www.rochesterrotary.org
SUMMARY:Membership Recruitment Committee
DESCRIPTION:
URL:https://www.rochesterrotary.org/event/membership-recruitment-committee-3/2025-05-01/
LOCATION:Via Zoom
CATEGORIES:Committee
END:VEVENT
BEGIN:VEVENT
DTSTART;TZID=America/New_York:20250506T120000
DTEND;TZID=America/New_York:20250506T130000
DTSTAMP:20260422T213220
CREATED:20250410T155930Z
LAST-MODIFIED:20250501T141118Z
UID:10017439-1746532800-1746536400@www.rochesterrotary.org
SUMMARY:Tuesday Luncheon Meeting
DESCRIPTION:Bob Duffy\, President and CEO of the Greater Rochester Chamber of Commerce\, will present to our club. \nRobert J. Duffy has led Greater Rochester Chamber of Commerce as President and Chief Executive Officer since January 1\, 2015. Prior to joining Greater Rochester Chamber\, Duffy served as New York State lieutenant governor from January 2011 until December 2014\, as well as Mayor of Rochester from January 2006 to January 2011 and Rochester Police Chief from March 1998 to April 2005. \nDuffy works with a great team at Greater Rochester Chamber to influence and grow the nine-county Finger Lakes Region’s business community through advocacy and support services. Under his leadership\, Greater Rochester Chamber has received statewide recognition including the 2024 Chuck Steiner Memorial Chamber of the Year Award from the Business Council of New York State. Additionally\, Greater Rochester Chamber has received 5-Star Accreditation from the U.S. Chamber of Commerce twice and is one of only four chambers in NYS to receive this honor. \n  \nUse the form below to register for this luncheon. \n 
URL:https://www.rochesterrotary.org/event/tuesday-luncheon-meeting-87/
LOCATION:NY
CATEGORIES:Featured,Luncheon
ATTACH;FMTTYPE=image/jpeg:https://www.rochesterrotary.org/wp-content/uploads/2025/04/Bob-Duffy-headshot-2024-002.jpg
END:VEVENT
BEGIN:VEVENT
DTSTART;TZID=America/New_York:20250508T080000
DTEND;TZID=America/New_York:20250508T093000
DTSTAMP:20260422T213220
CREATED:20250424T140807Z
LAST-MODIFIED:20250424T140834Z
UID:10016785-1746691200-1746696600@www.rochesterrotary.org
SUMMARY:No Sunshine Camp Facilities Committee
DESCRIPTION:The Sunshine Camp Facilities will not meet in May.
URL:https://www.rochesterrotary.org/event/sunshine-camp-facilities-committee-13/
LOCATION:Via Zoom
CATEGORIES:Committee
END:VEVENT
BEGIN:VEVENT
DTSTART;TZID=America/New_York:20250508T120000
DTEND;TZID=America/New_York:20250508T133000
DTSTAMP:20260422T213220
CREATED:20250428T201245Z
LAST-MODIFIED:20250428T201327Z
UID:10016912-1746705600-1746711000@www.rochesterrotary.org
SUMMARY:No Membership Engagement Committee
DESCRIPTION:The committee will not meet in the month of May.
URL:https://www.rochesterrotary.org/event/membership-engagement-committee-7/
LOCATION:NY
CATEGORIES:Committee
END:VEVENT
BEGIN:VEVENT
DTSTART;TZID=America/New_York:20250509T090000
DTEND;TZID=America/New_York:20250509T100000
DTSTAMP:20260422T213220
CREATED:20240701T150459Z
LAST-MODIFIED:20240701T150459Z
UID:10017137-1746781200-1746784800@www.rochesterrotary.org
SUMMARY:International Service Committee
DESCRIPTION:Join us to help select our next international project.
URL:https://www.rochesterrotary.org/event/international-service-committee-6/2025-05-09/
LOCATION:Rochester Rotary Office\, 180 Linden Oaks #200\, Rochester\, NY\, 14625\, United States
CATEGORIES:Committee
END:VEVENT
BEGIN:VEVENT
DTSTART;TZID=America/New_York:20250512T150000
DTEND;TZID=America/New_York:20250512T160000
DTSTAMP:20260422T213220
CREATED:20241021T203921Z
LAST-MODIFIED:20241021T203921Z
UID:10017283-1747062000-1747065600@www.rochesterrotary.org
SUMMARY:DEI Committee
DESCRIPTION:
URL:https://www.rochesterrotary.org/event/dei-committee-13/2025-05-12/
LOCATION:Via Zoom
CATEGORIES:Committee
END:VEVENT
BEGIN:VEVENT
DTSTART;TZID=America/New_York:20250513T141500
DTEND;TZID=America/New_York:20250513T150000
DTSTAMP:20260422T213220
CREATED:20240823T154614Z
LAST-MODIFIED:20250625T202602Z
UID:10017239-1747145700-1747148400@www.rochesterrotary.org
SUMMARY:Adopt-a-School Committee
DESCRIPTION:
URL:https://www.rochesterrotary.org/event/adopt-a-school-committee-5/2025-05-13/
LOCATION:Roberto Clemente School No. 8\, 1180 Saint Paul St.\, Rochester\, 14621\, United States
CATEGORIES:Committee
END:VEVENT
BEGIN:VEVENT
DTSTART;TZID=America/New_York:20250514T120000
DTEND;TZID=America/New_York:20250514T133000
DTSTAMP:20260422T213220
CREATED:20190619T194823Z
LAST-MODIFIED:20240701T143753Z
UID:10017056-1747224000-1747229400@www.rochesterrotary.org
SUMMARY:Friendship Committee
DESCRIPTION:Join us for lunch.
URL:https://www.rochesterrotary.org/event/friendship-committee-meeting/2025-05-14/
LOCATION:Shadow Lake Country Club\, 1850 Five Mile Line Road\, Penfield\, NY\, 14526\, United States
CATEGORIES:Committee
END:VEVENT
BEGIN:VEVENT
DTSTART;TZID=America/New_York:20250514T160000
DTEND;TZID=America/New_York:20250514T170000
DTSTAMP:20260422T213220
CREATED:20250102T205041Z
LAST-MODIFIED:20250819T202829Z
UID:10017403-1747238400-1747242000@www.rochesterrotary.org
SUMMARY:Rotary Boot Camp
DESCRIPTION:Rotary Boot Camp is a quick “training” on all the “ins” and “outs” of Rochester Rotary. We ask that all new members attend one session.
URL:https://www.rochesterrotary.org/event/rotary-boot-camp-17/
LOCATION:Via Zoom
END:VEVENT
BEGIN:VEVENT
DTSTART;TZID=America/New_York:20250515T173000
DTEND;TZID=America/New_York:20250515T193000
DTSTAMP:20260422T213220
CREATED:20250407T203812Z
LAST-MODIFIED:20250501T153529Z
UID:10017437-1747330200-1747337400@www.rochesterrotary.org
SUMMARY:Rochester Rotary Member Roundup
DESCRIPTION:Join us on Thursday\, May 15th for our Rotary Roundup at Fairport Brewing Company on University Ave. \nOur club is growing\, in large part due to our reputation for combining networking\, fun and fellowship while working together to enrich the lives of fellow Rochesterians. \n  \nCurrent Members – Rotary Roundup makes it easy for you to add terrific members to our club – simply invite someone you know who you think would be a great addition to our club.  This FREE event includes appetizers and a complimentary first drink for you and your guest. Use the first form below to register you and your guest! \n  \nNon-Members – We invite you to personally experience a little of what Rochester Rotary has to offer by joining us for this happy hour! If you are not connected with a current member please use the second form below to register! \n  \nRochester Rotary’s membership consists of business and civic leaders dedicated to serving our community’s children and youth. Check out our Key initiatives to learn more. \nRotary is an international organization comprised of members form all races\, ethnic groups and religions who join together in fellowship to tackle both local challenges and some of the world’s biggest problems such as providing clean water\, eradicating diseases\, increasing literacy\, and protecting the environment. \n  \n  \n\nIf you are a Rochester Rotarian\, please use the form below to register:\n  \n\n  \nIf you are not a Rotarian but are interested in attending\, please fill out the form below and we will connect you with a host!\n  \n\n\n                \n                        Name(Required)\n                            \n                            \n                                                    \n                                                    First\n                                                \n                            \n                            \n                                                    \n                                                    Last\n                                                \n                            \n                        Email(Required)\n                            \n                        Title(Required)Company(Required)Name of Rotarian/Organization where you learned about this event:(Required)CAPTCHA
URL:https://www.rochesterrotary.org/event/rochester-rotary-member-roundup/
LOCATION:Fairport Brewing Company\, 1044 University Ave\, Rochester\, NY\, 14607\, United States
CATEGORIES:Event,Upcoming Event
END:VEVENT
BEGIN:VEVENT
DTSTART;TZID=America/New_York:20250520T170000
DTEND;TZID=America/New_York:20250520T183000
DTSTAMP:20260422T213220
CREATED:20250423T154631Z
LAST-MODIFIED:20250515T135920Z
UID:10017446-1747760400-1747765800@www.rochesterrotary.org
SUMMARY:Rotary On the Road - Constellations Brands
DESCRIPTION:Join us for an evening Rotary on the Road tour of the new Constellation Brands headquarters at 50 E Broad St\, Rochester\, NY 14614. This meeting will take place of our regular Tuesday luncheon. More information to come. \nThe Fortune 500 company moved into the newly renovated 170\,000 square-foot riverfront campus at the beginning of June 2024. To enhance employees’ in-office experience and continue to foster collaboration and productivity\, the new office space was designed to optimize a combination of hybrid and remote working arrangements\, offering more collaboration spaces\, open offices for hoteling\, and other features like state-of-the-art collaboration technology. \nConstellation’s move to this location is one of the major cornerstone projects of the city-sponsored ROC the Riverway initiative \,which consolidates more than two dozen transformational projects along the Genesee River to restore and contemporize Rochester’s riverfront as a destination hub for entertainment\, businesses\, and outdoor recreation. \nSpace is limited! Please email Kellianne@rochesterrotary.org to register.
URL:https://www.rochesterrotary.org/event/rotary-on-the-road-constellations-brands/
LOCATION:NY
CATEGORIES:Featured,Luncheon
ATTACH;FMTTYPE=image/jpeg:https://www.rochesterrotary.org/wp-content/uploads/2025/04/constellation_brands_logo.jpg
END:VEVENT
BEGIN:VEVENT
DTSTART;TZID=America/New_York:20250521T120000
DTEND;TZID=America/New_York:20250521T133000
DTSTAMP:20260422T213220
CREATED:20190619T191412Z
LAST-MODIFIED:20240701T143557Z
UID:10017003-1747828800-1747834200@www.rochesterrotary.org
SUMMARY:Business to Business Committee
DESCRIPTION:We plan business tours for our members.
URL:https://www.rochesterrotary.org/event/business-to-business-committee/2025-05-21/
LOCATION:Via Zoom
CATEGORIES:Committee
END:VEVENT
END:VCALENDAR