BEGIN:VCALENDAR
VERSION:2.0
PRODID:-//Rochester Rotary - ECPv6.15.20//NONSGML v1.0//EN
CALSCALE:GREGORIAN
METHOD:PUBLISH
X-ORIGINAL-URL:https://www.rochesterrotary.org
X-WR-CALDESC:Events for Rochester Rotary
REFRESH-INTERVAL;VALUE=DURATION:PT1H
X-Robots-Tag:noindex
X-PUBLISHED-TTL:PT1H
BEGIN:VTIMEZONE
TZID:America/New_York
BEGIN:DAYLIGHT
TZOFFSETFROM:-0500
TZOFFSETTO:-0400
TZNAME:EDT
DTSTART:20240310T070000
END:DAYLIGHT
BEGIN:STANDARD
TZOFFSETFROM:-0400
TZOFFSETTO:-0500
TZNAME:EST
DTSTART:20241103T060000
END:STANDARD
BEGIN:DAYLIGHT
TZOFFSETFROM:-0500
TZOFFSETTO:-0400
TZNAME:EDT
DTSTART:20250309T070000
END:DAYLIGHT
BEGIN:STANDARD
TZOFFSETFROM:-0400
TZOFFSETTO:-0500
TZNAME:EST
DTSTART:20251102T060000
END:STANDARD
BEGIN:DAYLIGHT
TZOFFSETFROM:-0500
TZOFFSETTO:-0400
TZNAME:EDT
DTSTART:20260308T070000
END:DAYLIGHT
BEGIN:STANDARD
TZOFFSETFROM:-0400
TZOFFSETTO:-0500
TZNAME:EST
DTSTART:20261101T060000
END:STANDARD
END:VTIMEZONE
BEGIN:VEVENT
DTSTART;TZID=America/New_York:20250917T120000
DTEND;TZID=America/New_York:20250917T133000
DTSTAMP:20260425T184231
CREATED:20190619T191412Z
LAST-MODIFIED:20240701T143557Z
UID:10017007-1758110400-1758115800@www.rochesterrotary.org
SUMMARY:Business to Business Committee
DESCRIPTION:We plan business tours for our members.
URL:https://www.rochesterrotary.org/event/business-to-business-committee/2025-09-17/
LOCATION:Via Zoom
CATEGORIES:Committee
END:VEVENT
BEGIN:VEVENT
DTSTART;TZID=America/New_York:20250917T163000
DTEND;TZID=America/New_York:20250917T173000
DTSTAMP:20260425T184231
CREATED:20250508T185715Z
LAST-MODIFIED:20250508T185715Z
UID:10017467-1758126600-1758130200@www.rochesterrotary.org
SUMMARY:RRCT Board Meeting
DESCRIPTION:
URL:https://www.rochesterrotary.org/event/rrct-board-meeting-10/
LOCATION:Rochester Rotary Office\, 180 Linden Oaks #200\, Rochester\, NY\, 14625\, United States
CATEGORIES:Boards
END:VEVENT
BEGIN:VEVENT
DTSTART;TZID=America/New_York:20250918T083000
DTEND;TZID=America/New_York:20250918T100000
DTSTAMP:20260425T184231
CREATED:20241204T142716Z
LAST-MODIFIED:20241204T143305Z
UID:10017344-1758184200-1758189600@www.rochesterrotary.org
SUMMARY:School No. 8 Scholarship Committee
DESCRIPTION:Plan our scholars activities.
URL:https://www.rochesterrotary.org/event/school-no-8-scholarship-committee-6/2025-09-18/
LOCATION:Rochester Rotary Office\, 180 Linden Oaks #200\, Rochester\, NY\, 14625\, United States
CATEGORIES:Committee
END:VEVENT
BEGIN:VEVENT
DTSTART;TZID=America/New_York:20250918T163000
DTEND;TZID=America/New_York:20250918T180000
DTSTAMP:20260425T184231
CREATED:20250904T134027Z
LAST-MODIFIED:20250918T131656Z
UID:10017689-1758213000-1758218400@www.rochesterrotary.org
SUMMARY:B2B Tour - L3 Harris Customer Experience Center
DESCRIPTION:The B2B committee will take us on a tour of the L3 Harris Customer Experience Center\, located at the Massari Building\, 29 Humboldt Street\, Rochester\, NY 14610 on Thursday\, September 18th. (Waiting for time confirmation) \nThe Customer Experience Center (CEC) is a state-of-the-art product exhibit showcasing a nearly full suite of L3Harris Tactical Communications radio products. Among the radios on display are the AN/PRC-163 Multi-channel Handheld Radio and the RF-7850D Multi-channel Modular System.  \nEvery month\, the CEC accommodates a variety of visitors and delegations – from internal executives and critical B2B partners as well as domestic and foreign defense liaisons. \nVisitors enjoy a guided\, hands-on tour of the industry-leading radio products that make the Tactical Communications segment the most consistently valuable component of L3Harris Communication Systems – both in terms of revenue and global operational impact. \nSeveral interactive monitors within the CEC provide a top-down view of a variety of common Concepts of Operation (CONOP) for how a particular product or system of products are deployed in the field. \nThis tour covers more than physical radio hardware\, we’ll also aim to discuss: \n\nTypical product lifecycle\nProduct accessories\nHow our Type 1 & Type 3 waveform portfolios are purposefully engineered to meet a variety of customer use cases\nCurrent operational impact of our products\nForward-looking international product family roadmap and how the current competitive landscape is shaping innovation\nQ&A\n\nRegistration is closed!
URL:https://www.rochesterrotary.org/event/b2b-tour-l3-harris-customer-experience-center/
LOCATION:Massari Building\, 97 Humboldt Street\, Rochester\, New York\, 14610
CATEGORIES:Event
END:VEVENT
BEGIN:VEVENT
DTSTART;TZID=America/New_York:20250923T120000
DTEND;TZID=America/New_York:20250923T130000
DTSTAMP:20260425T184231
CREATED:20250828T175427Z
LAST-MODIFIED:20250911T134158Z
UID:10017687-1758628800-1758632400@www.rochesterrotary.org
SUMMARY:Tuesday Luncheon Meeting
DESCRIPTION:We will be meeting back at the Comedy @ The Carlson for our Tuesday\, September 23rd luncheon. We are so excited to announce that we will be utilizing their new space\, The Carlson\, right next door.  Please use the entrance ramp near the new patio. \n  \nThe Business Case for Climate Action: Moderated by Abigail McHugh-Grifa\, Executive Director of Climate Solutions Accelerator. \nClimate change is both a threat and an opportunity for businesses here in the Rochester region\, and understanding the pros and cons of different climate solutions can be a complex challenge. This panel of sustainability experts will describe how they approach this challenge and why they believe climate action is worth the investment. \n  \nMeet the Panelists: \n\nAbigail McHugh-Grifa is the Executive Director of the Climate Solutions Accelerator of the Genesee-Finger Lakes Region and a member of New York State’s Climate Justice Working Group.\nKathryn Walker is the Executive Director of the Center for Sustainable Materials Management\, where she leads statewide efforts to build a circular economy and reduce waste. She also serves on the boards of the NYS Product Stewardship Council and Rochester Ecology Partners\, advancing community connections to nature and climate solutions.\nTrish Donohue is the Director of Global Sustainability at Bausch + Lomb Corporation where she is responsible for setting sustainability strategy for the company.  She was previously with the New York State Pollution Prevention Institute at RIT and Xerox Corporation.\nMark Maddalina\, AIA\, LEED AP BD+C\, is a Principal Architect and the Sustainable Design Director at SWBR. Mark champions sustainability for the firm and oversees their participation in the AIA 2030 Commitment\, as the firm seeks to design carbon neutral building projects by 2030\, and his portfolio includes many certified LEED buildings.\nGeorge McConochie co-founded GreenSpark Solar in 2002 and\, as COO\, has overseen its growth into a nationally ranked clean energy company—recognized as the #1 Community Solar EPC in the country\, a perennial Top Workplace\, and one of Rochester’s fastest growing businesses.\n\n  \nTo provide our venue with an accurate count\, we ask that you please sign up if you are planning on attending this luncheon. You will not get charged if you are no longer able to attend.
URL:https://www.rochesterrotary.org/event/tuesday-luncheon-meeting-139/
LOCATION:Comedy @ The Carlson\, 50 Carlson Road\, Rochester\, New York\, 14610
CATEGORIES:Featured,Luncheon
ATTACH;FMTTYPE=image/png:https://www.rochesterrotary.org/wp-content/uploads/2025/08/9.23-luncheon.png
END:VEVENT
BEGIN:VEVENT
DTSTART;TZID=America/New_York:20250923T160000
DTEND;TZID=America/New_York:20250923T170000
DTSTAMP:20260425T184231
CREATED:20250819T202925Z
LAST-MODIFIED:20250819T202925Z
UID:10017682-1758643200-1758646800@www.rochesterrotary.org
SUMMARY:Rotary Boot Camp
DESCRIPTION:Rotary Boot Camp is a quick “training” on all the “ins” and “outs” of Rochester Rotary. We ask that all new members attend one session.
URL:https://www.rochesterrotary.org/event/rotary-boot-camp-18/
LOCATION:Via Zoom
CATEGORIES:Committee
END:VEVENT
BEGIN:VEVENT
DTSTART;TZID=America/New_York:20250924T120000
DTEND;TZID=America/New_York:20250924T130000
DTSTAMP:20260425T184231
CREATED:20250828T130908Z
LAST-MODIFIED:20250828T130908Z
UID:10017685-1758715200-1758718800@www.rochesterrotary.org
SUMMARY:Marketing Committee
DESCRIPTION:Help us build our Rotary brand.
URL:https://www.rochesterrotary.org/event/marketing-committee-19/
LOCATION:Via Zoom
CATEGORIES:Committee
END:VEVENT
BEGIN:VEVENT
DTSTART;TZID=America/New_York:20250924T163000
DTEND;TZID=America/New_York:20250924T190000
DTSTAMP:20260425T184231
CREATED:20250828T131555Z
LAST-MODIFIED:20250918T131722Z
UID:10017686-1758731400-1758740400@www.rochesterrotary.org
SUMMARY:Happy Hour - Rochester Yacht Club
DESCRIPTION:Join us for another Happy Hour at the Rochester Yacht Club. We will be meeting at 4:30 pm on Wednesday\, September 24th.
URL:https://www.rochesterrotary.org/event/happy-hour-rochester-yacht-club/
CATEGORIES:Event,Upcoming Event
END:VEVENT
BEGIN:VEVENT
DTSTART;TZID=America/New_York:20250925T163000
DTEND;TZID=America/New_York:20250925T173000
DTSTAMP:20260425T184231
CREATED:20250625T131819Z
LAST-MODIFIED:20250625T131819Z
UID:10017489-1758817800-1758821400@www.rochesterrotary.org
SUMMARY:Rochester Rotary Club Board Meeting
DESCRIPTION:
URL:https://www.rochesterrotary.org/event/rochester-rotary-club-board-meeting-14/2025-09-25/
LOCATION:Rochester Rotary Office\, 180 Linden Oaks #200\, Rochester\, NY\, 14625\, United States
END:VEVENT
BEGIN:VEVENT
DTSTART;TZID=America/New_York:20250930T120000
DTEND;TZID=America/New_York:20250930T130000
DTSTAMP:20260425T184231
CREATED:20250828T180850Z
LAST-MODIFIED:20250926T153332Z
UID:10017688-1759233600-1759237200@www.rochesterrotary.org
SUMMARY:Tuesday Luncheon Meeting
DESCRIPTION:Join us at the Carlson to hear from guest speaker Rochester Rotarian\, Angelica Pilato. \nDr. Angelica Pilato\, “Angel”\, served more than five years on active duty in the U.S. Air Force\, including Southeast Asia\, and later retired as a Lieutenant Colonel from the Air Force Reserve. A Rochester native\, she earned her B.S. from RIT and her doctorate from Oregon State University. \nThe War That Never Ended” shines a light on the 80 million (80\,000\,000) unexploded ordnance (UXO) left behind in Laos after the Vietnam War ended in 1975. These bombs remain just as lethal today as when they were dropped\, continuing to kill and injure innocent civilians—most tragically\, children. In partnership with MAG (The Mines Advisory Group)\, an international nonprofit dedicated to clearing war-torn countries of UXO\, the No More UXO in Laos Project was launched in 2023. This program explores how these deadly remnants got there\, the dangerous but vital work of the deminers who remove them\, and the life-saving impact of the project’s successes. \n  \nTo provide our venue with an accurate count\, we ask that you please sign up if you are planning on attending this luncheon. You will not get charged if you are no longer able to attend.
URL:https://www.rochesterrotary.org/event/tuesday-luncheon-meeting-140/
LOCATION:Comedy @ The Carlson\, 50 Carlson Road\, Rochester\, New York\, 14610
CATEGORIES:Featured,Luncheon
ATTACH;FMTTYPE=image/jpeg:https://www.rochesterrotary.org/wp-content/uploads/2025/08/Angel-Pilato-with-hand-scaled.jpg
END:VEVENT
BEGIN:VEVENT
DTSTART;TZID=America/New_York:20251002T120000
DTEND;TZID=America/New_York:20251002T130000
DTSTAMP:20260425T184231
CREATED:20250625T201749Z
LAST-MODIFIED:20250625T201749Z
UID:10017572-1759406400-1759410000@www.rochesterrotary.org
SUMMARY:Membership Recruitment Committee
DESCRIPTION:
URL:https://www.rochesterrotary.org/event/membership-recruitment-committee-13/2025-10-02/
LOCATION:Via Zoom
CATEGORIES:Committee
END:VEVENT
BEGIN:VEVENT
DTSTART;TZID=America/New_York:20251007T120000
DTEND;TZID=America/New_York:20251007T130000
DTSTAMP:20260425T184231
CREATED:20250918T155025Z
LAST-MODIFIED:20251001T160949Z
UID:10017691-1759838400-1759842000@www.rochesterrotary.org
SUMMARY:Tuesday Luncheon Meeting
DESCRIPTION:Join us at the Carlson to hear from guest speaker Wade Cook\, Executive Director of AIM Photonics. \nAIM Photonics At the 10 Year Mark \nPhotonic integrated circuits are found throughout every AI data center and in your phones and tablets. In the near future\, they will be found in quantum sensors\, portable atomic clocks\, and ultra-sensitive\, low-cost medical diagnostic devices. The AIM Photonics Institute is an international leader in developing this technology of the future\, which we do from facilities in Albany NY and on Lake Avenue here in Rochester. This past June\, the Institute marked its 10-year anniversary as a non-profit public-private partnership. This presentation will touch on an amazing technology\, on what that tech means for daily life (and for some major social trends)\, and on the Institute’s role in growing the US photonic industry. \nTo provide our venue with an accurate count\, we ask that you please sign up if you are planning on attending this luncheon. You will not get charged if you are no longer able to attend.
URL:https://www.rochesterrotary.org/event/tuesday-luncheon-meeting-141/
LOCATION:The Carlson\, 50 Carlson Road\, Rochester\, NY\, 14608\, United States
CATEGORIES:Featured,Luncheon
ATTACH;FMTTYPE=image/jpeg:https://www.rochesterrotary.org/wp-content/uploads/2025/09/Wade-Cook.jpg
END:VEVENT
BEGIN:VEVENT
DTSTART;TZID=America/New_York:20251008T120000
DTEND;TZID=America/New_York:20251008T133000
DTSTAMP:20260425T184231
CREATED:20190619T194823Z
LAST-MODIFIED:20240701T143753Z
UID:10017061-1759924800-1759930200@www.rochesterrotary.org
SUMMARY:Friendship Committee
DESCRIPTION:Join us for lunch.
URL:https://www.rochesterrotary.org/event/friendship-committee-meeting/2025-10-08/
LOCATION:Shadow Lake Country Club\, 1850 Five Mile Line Road\, Penfield\, NY\, 14526\, United States
CATEGORIES:Committee
END:VEVENT
BEGIN:VEVENT
DTSTART;TZID=America/New_York:20251009T080000
DTEND;TZID=America/New_York:20251009T093000
DTSTAMP:20260425T184231
CREATED:20230213T192402Z
LAST-MODIFIED:20230628T203411Z
UID:10016790-1759996800-1760002200@www.rochesterrotary.org
SUMMARY:Sunshine Camp Facilities Committee
DESCRIPTION:Join us to work on projects and improvements a the Sunshine Camp.
URL:https://www.rochesterrotary.org/event/sunshine-camp-facilities-committee-4/2025-10-09/
LOCATION:Via Zoom
CATEGORIES:Committee
END:VEVENT
BEGIN:VEVENT
DTSTART;TZID=America/New_York:20251009T120000
DTEND;TZID=America/New_York:20251009T133000
DTSTAMP:20260425T184231
CREATED:20200708T170032Z
LAST-MODIFIED:20230628T204049Z
UID:10016917-1760011200-1760016600@www.rochesterrotary.org
SUMMARY:Membership Engagement Committee
DESCRIPTION:
URL:https://www.rochesterrotary.org/event/membership-engagement-committee/2025-10-09/
LOCATION:Via Zoom
CATEGORIES:Committee
END:VEVENT
BEGIN:VEVENT
DTSTART;TZID=America/New_York:20251010T090000
DTEND;TZID=America/New_York:20251010T100000
DTSTAMP:20260425T184231
CREATED:20240701T150459Z
LAST-MODIFIED:20240701T150459Z
UID:10017142-1760086800-1760090400@www.rochesterrotary.org
SUMMARY:International Service Committee
DESCRIPTION:Join us to help select our next international project.
URL:https://www.rochesterrotary.org/event/international-service-committee-6/2025-10-10/
LOCATION:Rochester Rotary Office\, 180 Linden Oaks #200\, Rochester\, NY\, 14625\, United States
CATEGORIES:Committee
END:VEVENT
BEGIN:VEVENT
DTSTART;TZID=America/New_York:20251011T090000
DTEND;TZID=America/New_York:20251011T130000
DTSTAMP:20260425T184231
CREATED:20251001T164556Z
LAST-MODIFIED:20251001T164556Z
UID:10017694-1760173200-1760187600@www.rochesterrotary.org
SUMMARY:Citywide Rotary Service Project - Lewis Street YMCA
DESCRIPTION:After a fantastic turnout for our very first Citywide Rotary Service Project at Open Door Mission last month\, we are delighted to announce our next project at the Lewis Street YMCA in downtown Rochester on Saturday\, October 11th. \nWe are looking for volunteers to help with some light indoor painting\, cleaning\, and yard work at a playground next to the facility. Weather permitting\, we will need 8 people indoors and 6 outdoors. We are planning to work 9:00 am – 1:00 pm with some flexibility if needed. \n  \nPlease fill out the form below if you are able to volunteer!
URL:https://www.rochesterrotary.org/event/citywide-rotary-service-project-lewis-street-ymca/
LOCATION:Lewis St. YMCA\, 53 Lewis Street\, Rochester\, NY\, 14605\, United States
CATEGORIES:Event
END:VEVENT
BEGIN:VEVENT
DTSTART;TZID=America/New_York:20251014T120000
DTEND;TZID=America/New_York:20251014T130000
DTSTAMP:20260425T184231
CREATED:20250926T153505Z
LAST-MODIFIED:20251013T191413Z
UID:10017693-1760443200-1760446800@www.rochesterrotary.org
SUMMARY:Tuesday Luncheon Meeting
DESCRIPTION:Join us at The Carlson at noon to hear from Adam Bierton\, one of America’s leading pumpkin carving experts and founder of Chick’ N Out. \nCarving Out Creativity: From Pumpkins to Poultry \nAs a professional pumpkin carver and founder of Rochester’s own Chick’n Out\, Adam Bierton has built a career blending creativity\, craftsmanship\, and community. From winning national carving competitions and appearing on the Food Network to opening one of the city’s most talked-about restaurants\, Adam shares how artistic passion and entrepreneurial spirit can grow side by side. \nIn this talk\, he’ll showcase his pumpkin art\, reveal behind-the-scenes carving techniques\, and discuss the journey of building Chick’n Out from a viral pop-up to a cornerstone of Rochester’s food scene. Expect creativity\, inspiration\, and maybe even a few carving secrets along the way. \n  \nTo provide our venue with an accurate count\, we ask that you please sign up if you are planning on attending this luncheon. You will not get charged if you are no longer able to attend.
URL:https://www.rochesterrotary.org/event/tuesday-luncheon-meeting-142/
LOCATION:The Carlson\, 50 Carlson Road\, Rochester\, NY\, 14608\, United States
CATEGORIES:Featured,Luncheon
ATTACH;FMTTYPE=image/jpeg:https://www.rochesterrotary.org/wp-content/uploads/2025/09/pumpkin-Pro-Adam-Bierton.jpg
END:VEVENT
BEGIN:VEVENT
DTSTART;TZID=America/New_York:20251014T141500
DTEND;TZID=America/New_York:20251014T151500
DTSTAMP:20260425T184232
CREATED:20250626T182125Z
LAST-MODIFIED:20250626T182125Z
UID:10017634-1760451300-1760454900@www.rochesterrotary.org
SUMMARY:Adopt-a-School Committee
DESCRIPTION:
URL:https://www.rochesterrotary.org/event/adopt-a-school-committee-8/2025-10-14/
LOCATION:Roberto Clemente School No. 8\, 1180 Saint Paul St.\, Rochester\, 14621\, United States
CATEGORIES:Committee
END:VEVENT
BEGIN:VEVENT
DTSTART;TZID=America/New_York:20251015T120000
DTEND;TZID=America/New_York:20251015T133000
DTSTAMP:20260425T184232
CREATED:20190619T191412Z
LAST-MODIFIED:20240701T143557Z
UID:10017008-1760529600-1760535000@www.rochesterrotary.org
SUMMARY:Business to Business Committee
DESCRIPTION:We plan business tours for our members.
URL:https://www.rochesterrotary.org/event/business-to-business-committee/2025-10-15/
LOCATION:Via Zoom
CATEGORIES:Committee
END:VEVENT
BEGIN:VEVENT
DTSTART;TZID=America/New_York:20251016T083000
DTEND;TZID=America/New_York:20251016T100000
DTSTAMP:20260425T184232
CREATED:20241204T142716Z
LAST-MODIFIED:20241204T143305Z
UID:10017345-1760603400-1760608800@www.rochesterrotary.org
SUMMARY:School No. 8 Scholarship Committee
DESCRIPTION:Plan our scholars activities.
URL:https://www.rochesterrotary.org/event/school-no-8-scholarship-committee-6/2025-10-16/
LOCATION:Rochester Rotary Office\, 180 Linden Oaks #200\, Rochester\, NY\, 14625\, United States
CATEGORIES:Committee
END:VEVENT
BEGIN:VEVENT
DTSTART;TZID=America/New_York:20251017T163000
DTEND;TZID=America/New_York:20251017T220000
DTSTAMP:20260425T184232
CREATED:20240917T155948Z
LAST-MODIFIED:20250918T194147Z
UID:10017254-1760718600-1760738400@www.rochesterrotary.org
SUMMARY:Trail Mix 5K + Beer Fest
DESCRIPTION:We are holding our annual Sunshine Camp Trail Mix 5K + Beer Fest on Friday\, October 17th. \nRun or walk our paved and dirt trails through our 157-acre camp located out in Rush\, NY. Register today and you will enjoy great music from The Dawgs\, beer & cider (list coming soon)\, Macarollin’ and Vasko’s food trucks. Family-friendly activities including a bounce house\, train rides\, games and more. \n5K race begins at 4:30 p.m. \nBeer Fest begins at 5:00 p.m. (come early to cheer on the runners) \nREGISTER HERE
URL:https://www.rochesterrotary.org/event/trail-mix-5k-beer-fest/
LOCATION:Sunshine Camp\, 809 Five Points Road\, Rush\, NY\, 14543
CATEGORIES:Event,Upcoming Event
ATTACH;FMTTYPE=image/png:https://www.rochesterrotary.org/wp-content/uploads/2024/03/Beer-Fest.png
END:VEVENT
BEGIN:VEVENT
DTSTART;TZID=America/New_York:20251021T120000
DTEND;TZID=America/New_York:20251021T130000
DTSTAMP:20260425T184232
CREATED:20251006T163336Z
LAST-MODIFIED:20251006T164321Z
UID:10017697-1761048000-1761051600@www.rochesterrotary.org
SUMMARY:No Tuesday Luncheon
DESCRIPTION:We will not be holding a Tuesday luncheon today\, October 21st.  Join us for some upcoming social outings! \n\nOctober 17th – Trail Mix 5K and Beer Fest \nOctober 22nd – Happy Hour at Lovin’ Cup at 4:30 pm\nOctober 29th – Pauly’s 2nd annual Pasta Dinner at the Sunshine Camp
URL:https://www.rochesterrotary.org/event/no-tuesday-luncheon-8/
CATEGORIES:Luncheon
END:VEVENT
BEGIN:VEVENT
DTSTART;TZID=America/New_York:20251022T163000
DTEND;TZID=America/New_York:20251022T190000
DTSTAMP:20260425T184232
CREATED:20251006T181520Z
LAST-MODIFIED:20251006T181520Z
UID:10017698-1761150600-1761159600@www.rochesterrotary.org
SUMMARY:Happy Hour
DESCRIPTION:Lovin’ Cup Co-owner and Rochester Rotarian\, Ric Carley\, will be hosting a happy hour on Wednesday\, October 22nd\, starting at 4:30 pm. Live music starts at 7 pm!
URL:https://www.rochesterrotary.org/event/happy-hour-3/
LOCATION:Lovin Cup\, 300 Park Point\, Rochester\, New York\, 14623
CATEGORIES:Event
END:VEVENT
BEGIN:VEVENT
DTSTART;TZID=America/New_York:20251027T083000
DTEND;TZID=America/New_York:20251027T093000
DTSTAMP:20260425T184232
CREATED:20250826T152319Z
LAST-MODIFIED:20250826T152319Z
UID:10016845-1761553800-1761557400@www.rochesterrotary.org
SUMMARY:Social Events & Activities Committee
DESCRIPTION:We meet quarterly to plan our fun activities for our members.
URL:https://www.rochesterrotary.org/event/social-events-activities-committee-22/
LOCATION:Village Bakery & Cafe\, 145 Culver Rd\, Rochester\, 14620\, United States
CATEGORIES:Committee
END:VEVENT
BEGIN:VEVENT
DTSTART;TZID=America/New_York:20251028T120000
DTEND;TZID=America/New_York:20251028T130000
DTSTAMP:20260425T184232
CREATED:20251001T202441Z
LAST-MODIFIED:20251027T202547Z
UID:10017696-1761652800-1761656400@www.rochesterrotary.org
SUMMARY:Tuesday Luncheon Meeting
DESCRIPTION:Celebrate Rotary Foundation Month (November) through fellowship at the Carlson! \nNovember is recognized throughout the Rotary world as Rotary Foundation Month—a special time dedicated to increasing awareness of the Foundation’s impact\, encouraging support among Rotarians\, and celebrating its achievements globally. This month\, clubs and members share stories\, recognize donors\, and inspire continued partnership to “do good in the world” through the power of collective giving \nTo provide our venue with an accurate count\, we ask that you please sign up if you are planning on attending this luncheon. You will not get charged if you are no longer able to attend.
URL:https://www.rochesterrotary.org/event/tuesday-luncheon-meeting-143/
LOCATION:The Carlson\, 50 Carlson Road\, Rochester\, NY\, 14608\, United States
CATEGORIES:Featured,Luncheon
ATTACH;FMTTYPE=image/jpeg:https://www.rochesterrotary.org/wp-content/uploads/2025/10/541015708_10166385901687729_4234444671862757952_n.jpg
END:VEVENT
BEGIN:VEVENT
DTSTART;TZID=America/New_York:20251029T173000
DTEND;TZID=America/New_York:20251029T190000
DTSTAMP:20260425T184232
CREATED:20251001T173259Z
LAST-MODIFIED:20251028T184823Z
UID:10017695-1761759000-1761764400@www.rochesterrotary.org
SUMMARY:Pauly's Pasta Dinner
DESCRIPTION:Get ready for a true Italian feast – Pauly style! \nPast-President Pauly is bringing a taste of his American-Italian heritage straight to you\, with homemade pasta\, rich garden-fresh sauce (straight from the Sunshine Camp garden!)\, savory meatballs\, sizzling sausage\, and all the classic Italian fixings served up family-style. Throw on your comfiest clothes and come hungry! Tickets are $25 to help cover the cost of food! Children under 10 eat for free!  \nWhen: October 29th at 5:30 PM \nWhere: Sunshine Camp\, 809 Five Points Road \n  \nRegistration is closed – Walk-ins Welcomed! Reach out to Kellianne@rochesterrotary.org if you are interested in attending.
URL:https://www.rochesterrotary.org/event/paulys-pasta-dinner/
LOCATION:Sunshine Camp\, 809 Five Points Road\, Rush\, NY\, 14543
CATEGORIES:Event,Upcoming Event
ATTACH;FMTTYPE=image/jpeg:https://www.rochesterrotary.org/wp-content/uploads/2025/10/IMG_0570.jpg
END:VEVENT
BEGIN:VEVENT
DTSTART;TZID=America/New_York:20251031T120000
DTEND;TZID=America/New_York:20251031T130000
DTSTAMP:20260425T184232
CREATED:20251016T190948Z
LAST-MODIFIED:20251016T191023Z
UID:10017490-1761912000-1761915600@www.rochesterrotary.org
SUMMARY:Rochester Rotary Club Board Meeting
DESCRIPTION:
URL:https://www.rochesterrotary.org/event/rochester-rotary-club-board-meeting-17/
LOCATION:Via Zoom
END:VEVENT
BEGIN:VEVENT
DTSTART;TZID=America/New_York:20251104T120000
DTEND;TZID=America/New_York:20251104T130000
DTSTAMP:20260425T184232
CREATED:20251015T180339Z
LAST-MODIFIED:20251030T135608Z
UID:10017704-1762257600-1762261200@www.rochesterrotary.org
SUMMARY:Tuesday Luncheon Meeting
DESCRIPTION:Join us at the Rochester Riverside Convention Center to hear from Dr. Joseph Stefko\, President and CEO of OneROC. \nAccelerating Greater: A OneROC Update \nSix years into its work\, OneROC – Greater Rochester’s regional economic alliance – is driving results. With its original capacity-building plan now fully activated\, OneROC is advancing some of the region’s most ambitious efforts and contributing to progress that is flipping the script on what’s possible for our economic future. This presentation will provide an update on key economic metrics and strategic initiatives – including the Regional Tech Hub and Regional Revitalization Partnership – that are strengthening the region’s competitive capacity and driving real\, measurable progress. \n  \nTo provide our venue with an accurate count\, we ask that you please sign up if you are planning on attending this luncheon. You will not get charged if you are no longer able to attend.
URL:https://www.rochesterrotary.org/event/tuesday-luncheon-meeting-147/
LOCATION:Riverside Convention Center\, 123 East Main Street\, Rochester\, NY\, 14604\, United States
CATEGORIES:Featured,Luncheon
ATTACH;FMTTYPE=image/jpeg:https://www.rochesterrotary.org/wp-content/uploads/2025/10/Joe-Stefko_4960-1-Retouched-scaled.jpg
END:VEVENT
BEGIN:VEVENT
DTSTART;TZID=America/New_York:20251105T173000
DTEND;TZID=America/New_York:20251105T183000
DTSTAMP:20260425T184232
CREATED:20251021T125433Z
LAST-MODIFIED:20251030T135635Z
UID:10017711-1762363800-1762367400@www.rochesterrotary.org
SUMMARY:Indulge Your Senses: An Exclusive Chocolate Tasting Experience
DESCRIPTION:Wednesday\, November 5th\, 5:30 – 6:30 PM\nPrepare for pure bliss as you unlock the complex\, hidden world of fine chocolate. Laughing Gull Chocolate Founder\, Lindsay Tarnoff will guide us through sampling a broad range of exquisite high-quality chocolates made with locally and ethically sourced ingredients and share the fascinating story of chocolate\, from bean to bar. \nWhat to Expect: \n\nA Guided Sensory Journey: Learn the techniques of a true chocolate connoisseur—how to look\, touch\, smell\, and listen to the snap before the tasting begins.\nExplore a Spectrum of Flavors: Experience notes you never knew existed in chocolate\, from fruity and floral to earthy and nutty.\nThe Story of Chocolate: Hear the history\, the artistry\, and the sustainable sourcing behind the world’s favorite treat.\n\nLimited to 14 participants. Don’t miss this chance to transform the way you think about chocolate forever! \n$35. \n 
URL:https://www.rochesterrotary.org/event/indulge-your-senses-an-exclusive-chocolate-tasting-experience/
LOCATION:Laughing Gull Chocolates\, 1868 East Main Street\, Rochester\, NY\, 14609\, United States
CATEGORIES:Event,Upcoming Event
ATTACH;FMTTYPE=image/png:https://www.rochesterrotary.org/wp-content/uploads/2025/10/Laughing-Gull-Chocolates.png
END:VEVENT
END:VCALENDAR