BEGIN:VCALENDAR
VERSION:2.0
PRODID:-//Rochester Rotary - ECPv6.15.20//NONSGML v1.0//EN
CALSCALE:GREGORIAN
METHOD:PUBLISH
X-WR-CALNAME:Rochester Rotary
X-ORIGINAL-URL:https://www.rochesterrotary.org
X-WR-CALDESC:Events for Rochester Rotary
REFRESH-INTERVAL;VALUE=DURATION:PT1H
X-Robots-Tag:noindex
X-PUBLISHED-TTL:PT1H
BEGIN:VTIMEZONE
TZID:America/New_York
BEGIN:DAYLIGHT
TZOFFSETFROM:-0500
TZOFFSETTO:-0400
TZNAME:EDT
DTSTART:20250309T070000
END:DAYLIGHT
BEGIN:STANDARD
TZOFFSETFROM:-0400
TZOFFSETTO:-0500
TZNAME:EST
DTSTART:20251102T060000
END:STANDARD
BEGIN:DAYLIGHT
TZOFFSETFROM:-0500
TZOFFSETTO:-0400
TZNAME:EDT
DTSTART:20260308T070000
END:DAYLIGHT
BEGIN:STANDARD
TZOFFSETFROM:-0400
TZOFFSETTO:-0500
TZNAME:EST
DTSTART:20261101T060000
END:STANDARD
BEGIN:DAYLIGHT
TZOFFSETFROM:-0500
TZOFFSETTO:-0400
TZNAME:EDT
DTSTART:20270314T070000
END:DAYLIGHT
BEGIN:STANDARD
TZOFFSETFROM:-0400
TZOFFSETTO:-0500
TZNAME:EST
DTSTART:20271107T060000
END:STANDARD
END:VTIMEZONE
BEGIN:VEVENT
DTSTART;TZID=America/New_York:20260202T083000
DTEND;TZID=America/New_York:20260202T093000
DTSTAMP:20260420T101821
CREATED:20250827T181654Z
LAST-MODIFIED:20251028T171324Z
UID:10016848-1770021000-1770024600@www.rochesterrotary.org
SUMMARY:Social Events & Activities Committee
DESCRIPTION:We meet quarterly to plan our fun activities for our members.
URL:https://www.rochesterrotary.org/event/social-events-activities-committee-23/
LOCATION:Village Bakery & Cafe\, 145 Culver Rd\, Rochester\, 14620\, United States
CATEGORIES:Committee
END:VEVENT
BEGIN:VEVENT
DTSTART;TZID=America/New_York:20260203T120000
DTEND;TZID=America/New_York:20260203T130000
DTSTAMP:20260420T101821
CREATED:20260123T140449Z
LAST-MODIFIED:20260128T150554Z
UID:10017759-1770120000-1770123600@www.rochesterrotary.org
SUMMARY:Tuesday Luncheon Meeting
DESCRIPTION:Located in the beautiful Finger Lakes Region of New York State along the rolling hills of Seneca Lake\, Red Jacket Orchards has mastered the art of harvesting and pressing premium fruits and juices! Three generations of the Nicholson family have grown apples and summer fruits\, including berries\, currants\, cherries\, peaches\, plums\, and the largest apricot orchard on the East Coast. \nBrian Nicholson\, Owner and CEO of Red Jacket Orchards\, will be joining us on Tuesday\, February 3rd at Locust Hill Country Club. \n  \nUse the form below to register:
URL:https://www.rochesterrotary.org/event/tuesday-luncheon-meeting-153/
LOCATION:Locust Hill Country Club
CATEGORIES:Featured,Luncheon
ATTACH;FMTTYPE=image/png:https://www.rochesterrotary.org/wp-content/uploads/2026/01/Brian-Nicholson.png
END:VEVENT
BEGIN:VEVENT
DTSTART;TZID=America/New_York:20260203T160000
DTEND;TZID=America/New_York:20260203T170000
DTSTAMP:20260420T101821
CREATED:20260114T162547Z
LAST-MODIFIED:20260114T162547Z
UID:10017754-1770134400-1770138000@www.rochesterrotary.org
SUMMARY:Rotary Boot Camp
DESCRIPTION:Rotary Boot Camp is a quick “training” on all the “ins” and “outs” of Rochester Rotary. We ask that all new members attend one session.
URL:https://www.rochesterrotary.org/event/rotary-boot-camp-20/
LOCATION:Via Zoom
END:VEVENT
BEGIN:VEVENT
DTSTART;TZID=America/New_York:20260210T120000
DTEND;TZID=America/New_York:20260210T130000
DTSTAMP:20260420T101821
CREATED:20260121T175932Z
LAST-MODIFIED:20260209T160308Z
UID:10017758-1770724800-1770728400@www.rochesterrotary.org
SUMMARY:Tuesday Luncheon Meeting
DESCRIPTION:Join us at Locust Hill Country Club on Tuesday\, February 10th – \nRochester Rotary’s Global Vision: Uniting for Good in Uganda \nNext week’s luncheon will be one you won’t want to miss. I’ll be sharing the story behind a Global Grant project that is truly unlike any other Rochester Rotary has taken on — a WASH (Water\, Sanitation\, and Hygiene) initiative to bring clean water to two districts in Uganda. \nThis journey started more than a year ago with a smaller District Simplified Grant and a partnership with the Ugandan Water Project. We saw how something as simple as clean water could transform lives\, schools\, and entire communities. That success inspired us to think bigger. \nLast February\, I had the privilege of traveling to Uganda\, where I met families and children whose daily lives revolve around the search for clean water. Their resilience and gratitude left a lasting impression on me — and it solidified our resolve to do more. \nNow\, after months of collaboration\, planning\, and tireless fundraising\, we’re in the final stages of a $100\,000 Global Grant that will bring safe\, sustainable water access to over 12\,500 people. This is Rotary at its finest — ordinary people doing extraordinary things together. \nI can’t wait to share the full story next week — how this dream came to life\, what it will mean for the communities we’re helping\, and how each of you plays a part in this transformative effort. Come ready to be inspired by what happens when we truly Unite for Good. \nSee you at lunch\,\nPresident Rich \nPlease use the form below to register for this luncheon:
URL:https://www.rochesterrotary.org/event/tuesday-luncheon-meeting-152/
LOCATION:Locust Hill Country Club
CATEGORIES:Event,Featured,Luncheon
ATTACH;FMTTYPE=image/png:https://www.rochesterrotary.org/wp-content/uploads/2026/01/uganda.png
END:VEVENT
BEGIN:VEVENT
DTSTART;TZID=America/New_York:20260210T141500
DTEND;TZID=America/New_York:20260210T151500
DTSTAMP:20260420T101821
CREATED:20250626T182125Z
LAST-MODIFIED:20250626T182125Z
UID:10017636-1770732900-1770736500@www.rochesterrotary.org
SUMMARY:Adopt-a-School Committee
DESCRIPTION:
URL:https://www.rochesterrotary.org/event/adopt-a-school-committee-8/2026-02-10/
LOCATION:Roberto Clemente School No. 8\, 1180 Saint Paul St.\, Rochester\, 14621\, United States
CATEGORIES:Committee
END:VEVENT
BEGIN:VEVENT
DTSTART;TZID=America/New_York:20260211T120000
DTEND;TZID=America/New_York:20260211T133000
DTSTAMP:20260420T101821
CREATED:20190619T194823Z
LAST-MODIFIED:20240701T143753Z
UID:10017065-1770811200-1770816600@www.rochesterrotary.org
SUMMARY:Friendship Committee
DESCRIPTION:Join us for lunch.
URL:https://www.rochesterrotary.org/event/friendship-committee-meeting/2026-02-11/
LOCATION:Shadow Lake Country Club\, 1850 Five Mile Line Road\, Penfield\, NY\, 14526\, United States
CATEGORIES:Committee
END:VEVENT
BEGIN:VEVENT
DTSTART;TZID=America/New_York:20260212T080000
DTEND;TZID=America/New_York:20260212T093000
DTSTAMP:20260420T101821
CREATED:20230213T192402Z
LAST-MODIFIED:20230628T203411Z
UID:10016794-1770883200-1770888600@www.rochesterrotary.org
SUMMARY:Sunshine Camp Facilities Committee
DESCRIPTION:Join us to work on projects and improvements a the Sunshine Camp.
URL:https://www.rochesterrotary.org/event/sunshine-camp-facilities-committee-4/2026-02-12/
LOCATION:Via Zoom
CATEGORIES:Committee
END:VEVENT
BEGIN:VEVENT
DTSTART;TZID=America/New_York:20260212T120000
DTEND;TZID=America/New_York:20260212T133000
DTSTAMP:20260420T101821
CREATED:20200708T170032Z
LAST-MODIFIED:20230628T204049Z
UID:10016921-1770897600-1770903000@www.rochesterrotary.org
SUMMARY:Membership Engagement Committee
DESCRIPTION:
URL:https://www.rochesterrotary.org/event/membership-engagement-committee/2026-02-12/
LOCATION:Via Zoom
CATEGORIES:Committee
END:VEVENT
BEGIN:VEVENT
DTSTART;TZID=America/New_York:20260212T170000
DTEND;TZID=America/New_York:20260212T200000
DTSTAMP:20260420T101821
CREATED:20260119T190031Z
LAST-MODIFIED:20260121T150520Z
UID:10017757-1770915600-1770926400@www.rochesterrotary.org
SUMMARY:WROC Tour and Happy Hour
DESCRIPTION:Rochester Rotary B2B Tour: WROC News 8 Behind-the-Scenes Experience\nJoin us for a unique Rochester Rotary B2B Tour at WROC News 8 on Thursday\, February 12th—including a happy hour and an off-stage look at the live 6:00 PM news broadcast. \nWe’ll start with a Happy Hour at 5:00 PM in the WROC lobby\, featuring light appetizers\, wine\, and beer—a relaxed chance to connect with fellow Rotarians and guests before the tour begins. \nAfter happy hour\, we’ll head behind the scenes for a tour of the station\, then enjoy a rare opportunity to watch the 6:00 PM News live from off-stage\, viewing the broadcast from the side as it happens in real time. \nEvent Details \n\nDate: Thursday\, February 12\nTime: Happy Hour begins at 5:00 PM | Live News viewing at 6:00 PM\nLocation: WROC News 8\, 201 Humboldt St\, Rochester\, NY 14610\nCost: $10 per person\nIncludes: Light apps + wine & beer during happy hour\, behind-the-scenes tour\, and off-stage viewing of the 6 PM newscast\n\nThis is one of those “you don’t get to do this every day” Rochester experiences—come for the connections\, stay for the backstage magic.
URL:https://www.rochesterrotary.org/event/wroc-tour-and-happy-hour/
LOCATION:WROC\, 201 Humboldt Street\, Rochester\, NY\, 14610\, United States
CATEGORIES:Event,Upcoming Event
ATTACH;FMTTYPE=image/jpeg:https://www.rochesterrotary.org/wp-content/uploads/2026/01/wroc_tv_logo.jpg
END:VEVENT
BEGIN:VEVENT
DTSTART;TZID=America/New_York:20260213T080000
DTEND;TZID=America/New_York:20260213T170000
DTSTAMP:20260420T101821
CREATED:20260108T152530Z
LAST-MODIFIED:20260123T190608Z
UID:10017750-1770969600-1771002000@www.rochesterrotary.org
SUMMARY:Rotary Award Nomination
DESCRIPTION:Please fill out the nomination form below for the Annual Rochester Rotary Award by Friday\, February 13th \n• Complete this nomination form in its entirety.\n• Submit letters from additional supporters of your nominee. (While we are sure your nominee has many advocates\, please send no more than three letters.)\n• Deadline for submission is Friday\, February 13th\n• Supporter letters should be sent to: \nRochester Rotary Award Committee\nRochester Rotary Club\n180 Linden Oaks\, Suite 200\nRochester\, NY 14625 \nQuestions? Call 585-546-7435 x201 or myrna@rochesterrotary.org \n\n\n                \n                        Nominator*\n                            \n                            \n                                                    \n                                                    First\n                                                \n                            \n                            \n                                                    \n                                                    Last\n                                                \n                            \n                        Nominator- Title and Employer*Nominator Email*\n                            \n                        Nominator Phone*Nominee*\n                            \n                            \n                                                    \n                                                    First\n                                                \n                            \n                            \n                                                    \n                                                    Last\n                                                \n                            \n                        Nominee Title and Employer*Nominee Phone*Short Essay*\n          \n            \n            \n            \n            \n            \n            \n            \n            \n            \n            \n            \n            \n            \n        \n                        \n                        \n\n  \nList of past recipients
URL:https://www.rochesterrotary.org/event/rotary-award-nomination/
CATEGORIES:Upcoming Event
ATTACH;FMTTYPE=image/png:https://www.rochesterrotary.org/wp-content/uploads/2023/01/Rotary-Award-Event-Pic-for-web.png
END:VEVENT
BEGIN:VEVENT
DTSTART;TZID=America/New_York:20260213T090000
DTEND;TZID=America/New_York:20260213T100000
DTSTAMP:20260420T101821
CREATED:20240701T150459Z
LAST-MODIFIED:20240701T150459Z
UID:10017146-1770973200-1770976800@www.rochesterrotary.org
SUMMARY:International Service Committee
DESCRIPTION:Join us to help select our next international project.
URL:https://www.rochesterrotary.org/event/international-service-committee-6/2026-02-13/
LOCATION:Rochester Rotary Office\, 180 Linden Oaks #200\, Rochester\, NY\, 14625\, United States
CATEGORIES:Committee
END:VEVENT
BEGIN:VEVENT
DTSTART;TZID=America/New_York:20260217T120000
DTEND;TZID=America/New_York:20260217T130000
DTSTAMP:20260420T101821
CREATED:20260128T182322Z
LAST-MODIFIED:20260212T200908Z
UID:10017761-1771329600-1771333200@www.rochesterrotary.org
SUMMARY:Tuesday Luncheon Meeting
DESCRIPTION:Join us at Locust Hill Country Club to hear Larry Glass\, AI Expert\, present “Artificial Intelligence: Leading Ethically in a Rapidly Changing World.” \nThis presentation offers a plain-language look at AI’s growing role in the workplace\, focusing on its impact on people\, trust\, and leadership rather than just the technology. Participants will gain a fresh perspective by moving beyond technical jargon to see how AI affects the vital human connections that define our organizations. Ultimately\, the session emphasizes that introducing AI responsibly is a shared leadership obligation\, not just a technical decision. \nLarry R. Glass\, PhD\, MPH is a scientist\, consultant\, and executive coach with more than 35 years of experience helping organizations make thoughtful decisions in complex and uncertain environments. He is a former Principal Scientist and Technical Manager with a background in public health and risk assessment\, where his work focused on protecting people and communities while supporting responsible innovation. \nPlease use the form to register below:
URL:https://www.rochesterrotary.org/event/tuesday-luncheon-meeting-154/
LOCATION:Locust Hill Country Club
CATEGORIES:Featured,Luncheon
ATTACH;FMTTYPE=image/jpeg:https://www.rochesterrotary.org/wp-content/uploads/2026/01/Larry-Glass-1.jpg
END:VEVENT
BEGIN:VEVENT
DTSTART;TZID=America/New_York:20260218T120000
DTEND;TZID=America/New_York:20260218T133000
DTSTAMP:20260420T101821
CREATED:20190619T191412Z
LAST-MODIFIED:20240701T143557Z
UID:10017012-1771416000-1771421400@www.rochesterrotary.org
SUMMARY:Business to Business Committee
DESCRIPTION:We plan business tours for our members.
URL:https://www.rochesterrotary.org/event/business-to-business-committee/2026-02-18/
LOCATION:Via Zoom
CATEGORIES:Committee
END:VEVENT
BEGIN:VEVENT
DTSTART;TZID=America/New_York:20260219T083000
DTEND;TZID=America/New_York:20260219T100000
DTSTAMP:20260420T101821
CREATED:20241204T142716Z
LAST-MODIFIED:20241204T143305Z
UID:10017349-1771489800-1771495200@www.rochesterrotary.org
SUMMARY:School No. 8 Scholarship Committee
DESCRIPTION:Plan our scholars activities.
URL:https://www.rochesterrotary.org/event/school-no-8-scholarship-committee-6/2026-02-19/
LOCATION:Rochester Rotary Office\, 180 Linden Oaks #200\, Rochester\, NY\, 14625\, United States
CATEGORIES:Committee
END:VEVENT
BEGIN:VEVENT
DTSTART;TZID=America/New_York:20260224T120000
DTEND;TZID=America/New_York:20260224T130000
DTSTAMP:20260420T101821
CREATED:20260210T135138Z
LAST-MODIFIED:20260224T140309Z
UID:10017824-1771934400-1771938000@www.rochesterrotary.org
SUMMARY:Rotary on the Road - Rev BBQ
DESCRIPTION:Join us for another Rotary on the Road on Tuesday\, February 24th\, at Rev BBQ located at 1290 University Ave\, Rochester\, NY 14607. Enjoy an incredible Southern-style meal while you hear from the restaurant owners about their fantastic story. \n  \nWhen The Revelry first opened on University Avenue in 2013\, its focus was an upscale take on Lowcountry South Carolina cuisine\, but its menu evolved over time. Now it has returned to its Southern roots\, with a new focus on barbecue and a new name: Rev BBQ. The establishments are part of the SCN Hospitality restaurant group\, which also runs Velvet Belly\, Branca Midtown\, Patron Saint\, Bitter Honey\, and Ziggy’s. The owners of Rev BBQ Outpost are Joshua Miles\, Tom Riggio\, Truman Tolefree\, Chelsea Felton\, and Zack Mikida. \n  \nThis will take place as our usual Tuesday Luncheon meeting. Please note that we will not have a non-eater fee. Vegitarian options are available. We will be sitting in their upstairs dining area. This space is not accessible. \nREGISTRATION IS CLOSED
URL:https://www.rochesterrotary.org/event/rotary-on-the-road-rev-bbq/
LOCATION:Rev BBQ\, 1290 University Ave\, Rochester\, NY\, 14607\, United States
CATEGORIES:Featured,Luncheon
ATTACH;FMTTYPE=image/png:https://www.rochesterrotary.org/wp-content/uploads/2026/02/REV-BBQ-logo.png
END:VEVENT
BEGIN:VEVENT
DTSTART;TZID=America/New_York:20260225T120000
DTEND;TZID=America/New_York:20260225T130000
DTSTAMP:20260420T101821
CREATED:20260205T201442Z
LAST-MODIFIED:20260205T201442Z
UID:10017764-1772020800-1772024400@www.rochesterrotary.org
SUMMARY:Membership Recruitment Committee
DESCRIPTION:
URL:https://www.rochesterrotary.org/event/membership-recruitment-committee-17/2026-02-25/
LOCATION:Via Zoom
CATEGORIES:Committee
END:VEVENT
BEGIN:VEVENT
DTSTART;TZID=America/New_York:20260226T163000
DTEND;TZID=America/New_York:20260226T173000
DTSTAMP:20260420T101821
CREATED:20250625T131819Z
LAST-MODIFIED:20250625T131819Z
UID:10017494-1772123400-1772127000@www.rochesterrotary.org
SUMMARY:Rochester Rotary Club Board Meeting
DESCRIPTION:
URL:https://www.rochesterrotary.org/event/rochester-rotary-club-board-meeting-14/2026-02-26/
LOCATION:Rochester Rotary Office\, 180 Linden Oaks #200\, Rochester\, NY\, 14625\, United States
END:VEVENT
BEGIN:VEVENT
DTSTART;TZID=America/New_York:20260227T190000
DTEND;TZID=America/New_York:20260227T220000
DTSTAMP:20260420T101821
CREATED:20260129T141652Z
LAST-MODIFIED:20260227T203533Z
UID:10017762-1772218800-1772229600@www.rochesterrotary.org
SUMMARY:Viva Las Vegas - Casino Night
DESCRIPTION:Roll the dice and join friends\, family\, and colleagues for an unforgettable Viva Las Vegas–themed Casino Night filled with exciting games\, delicious food\, festive libations\, and nonstop fun. \nStep into the glitz and glamour of Vegas. Think classic Rat Pack\, glamorous showgirl sparkle\, sharp suits\, cocktail dresses\, and bold Vegas flair. Place your bets\, play your hand\, and enjoy a night where the lights are bright and the stakes are for a great cause. \nHosted by the Rochester Rotary New Member Class of 2025\, this fun-filled evening supports the Rochester Rotary Sunshine Camp\, a 157-acre camp in Rush\, NY that provides more than 2\,500 children with disabilities a life-changing summer experience each year\, completely free of charge. \nThe odds are in your favor for a great night\, cause what happens in Vegas\, stays in Vegas. ♠️♥️♣️♦️ \nRegistration: 6:30 pm \nGambling Opens: 7:00 pm \nWalk-ins Welcome! \nClick here to register\n 
URL:https://www.rochesterrotary.org/event/viva-las-vegas-casino-night/
CATEGORIES:Event,Upcoming Event
END:VEVENT
BEGIN:VEVENT
DTSTART;TZID=America/New_York:20260303T120000
DTEND;TZID=America/New_York:20260303T130000
DTSTAMP:20260420T101821
CREATED:20260210T191731Z
LAST-MODIFIED:20260225T144854Z
UID:10017825-1772539200-1772542800@www.rochesterrotary.org
SUMMARY:Tuesday Luncheon Meeting
DESCRIPTION:Join us at Locus Hill Country Club at noon on Tuesday\, March 3rd\, with guest speaker Paul Constantine\, Retail Manager & Museum Curator at FIFCO USA. \nPaul will be presenting “A Brief Discussion on the History of the Genesee Brewery.” \nPaul will discuss the evolution of the Genesee\, its connection to Rochester\, in a general overview of the brewery’s place in the U.S. brewing industry over the years. \nPaul has been with Genesee for about fourteen years. He was originally hired to assist in providing content for a museum section of the Genesee Brew House. Once opened\, Paul stayed on as Retail Manager\, but he still oversees the museum section and is responsible for educating the staff about beer styles. \n  \nUse the form below to register
URL:https://www.rochesterrotary.org/event/tuesday-luncheon-meeting-155/
LOCATION:Locust Hill Country Club
CATEGORIES:Featured,Luncheon
ATTACH;FMTTYPE=image/jpeg:https://www.rochesterrotary.org/wp-content/uploads/2026/01/Paul-Headshot-scaled.jpg
END:VEVENT
BEGIN:VEVENT
DTSTART;TZID=America/New_York:20260304T120000
DTEND;TZID=America/New_York:20260304T130000
DTSTAMP:20260420T101821
CREATED:20251117T202221Z
LAST-MODIFIED:20251117T202232Z
UID:10017227-1772625600-1772629200@www.rochesterrotary.org
SUMMARY:Marketing Committee
DESCRIPTION:Help us build our Rotary brand.
URL:https://www.rochesterrotary.org/event/marketing-committee-22/
LOCATION:Via Zoom
CATEGORIES:Committee
END:VEVENT
BEGIN:VEVENT
DTSTART;TZID=America/New_York:20260304T163000
DTEND;TZID=America/New_York:20260304T183000
DTSTAMP:20260420T101821
CREATED:20260212T182618Z
LAST-MODIFIED:20260216T163647Z
UID:10017826-1772641800-1772649000@www.rochesterrotary.org
SUMMARY:X-Golf Pittsford Happy Hour
DESCRIPTION:Tee Up & Happy Hour at X-Golf Wednesday\, March 4 | 4:30–6:30 PM \nJoin us for a fun\, casual evening at the golf simulator! Whether you’re a seasoned golfer or want to swing a club for fun\, this is a great way to connect and unwind. \nGolfers \n\n12 golf spots available\n$30 per golfer\nBring your own clubs or rent from X-Golf\n\nNon-golfers \n\nNo fee\nUnlimited spots\n\nCome for the golf\, stay for the networking and drinks. Golfing spots are limited\, so grab yours before they’re gone!
URL:https://www.rochesterrotary.org/event/x-golf-pittsford-happy-hour/
LOCATION:X-Golf Pittsford\, 3349 Monroe Ave #2\, Rochester\, NY\, 14618\, United States
CATEGORIES:Event,Upcoming Event
ATTACH;FMTTYPE=image/jpeg:https://www.rochesterrotary.org/wp-content/uploads/2026/02/xgolf.jpg
END:VEVENT
BEGIN:VEVENT
DTSTART;TZID=America/New_York:20260306T083000
DTEND;TZID=America/New_York:20260306T090000
DTSTAMP:20260420T101821
CREATED:20260216T165425Z
LAST-MODIFIED:20260225T183710Z
UID:10017829-1772785800-1772787600@www.rochesterrotary.org
SUMMARY:B2B Tour - Carestream Health Rochester
DESCRIPTION:Carestream Health (Rochester) Manufacturing Tour — Rochester Rotary B2B Tour\nFriday\, March 6 | 8:30 AM\nCarestream Health\, Inc. | 150 Verona St\, Rochester\, NY 14608 \nJoin Rochester Rotary’s Business-to-Business (B2B) Tour for a behind-the-scenes look inside Carestream Health’s Rochester manufacturing operations—where advanced digital X-ray imaging systems are built for both medical and industrial use. You’ll learn how digital radiography works\, what makes detectors “smart\,” and why the requirements for healthcare imaging differ from non-destructive testing in heavy industry. \nTour highlights include:\n• Digital Radiography mobile and room X-ray systems\n• Digital Radiography detectors\n• Non-Destructive Testing (NDT) systems\, including rigid and flexible detectors and NDT readers \nWhat you’ll take away:\nA practical understanding of how X-ray imaging supports patient care in clinical environments—and how similar imaging principles are adapted for industrial inspection to detect defects and verify quality without damaging materials. \n  \nPlease use the form below to register for this tour – Guests are welcome!
URL:https://www.rochesterrotary.org/event/b2b-tour-carestream-health-rochester/
LOCATION:Carestream Health\, 150 Verona St.\, Rochester\, NY\, 14608
CATEGORIES:Event
END:VEVENT
BEGIN:VEVENT
DTSTART;TZID=America/New_York:20260310T120000
DTEND;TZID=America/New_York:20260310T130000
DTSTAMP:20260420T101821
CREATED:20260216T183838Z
LAST-MODIFIED:20260304T133136Z
UID:10017830-1773144000-1773147600@www.rochesterrotary.org
SUMMARY:Tuesday Luncheon Meeting
DESCRIPTION:It’s that time of year again for our Annual St. Patty’s Day Luncheon. Hon. Richard A. Dollinger will be presenting “Patrick O’Rorke – Rochester’s Irish Hero.” \nThe presentation will introduce Rochester resident Patrick H. O’Rorke\, his Irish family in Rochester\, the West Point grad\, recruiter of the “Rochester Race Horses” volunteer brigade\, his Civil War career\, and the hero of Little Round Top at Gettysburg. You do not want to miss out on this meeting! \nPlease use the form below if you are planning to attend this luncheon. We have a non-eater fee of $10. You must pre-register as a non-eater. All walk-ins will be charged the $32 luncheon price.
URL:https://www.rochesterrotary.org/event/tuesday-luncheon-meeting-156/
LOCATION:Locust Hill Country Club
CATEGORIES:Featured,Luncheon
ATTACH;FMTTYPE=image/jpeg:https://www.rochesterrotary.org/wp-content/uploads/2026/02/RAD-Headshot-scaled.jpg
END:VEVENT
BEGIN:VEVENT
DTSTART;TZID=America/New_York:20260310T160000
DTEND;TZID=America/New_York:20260310T170000
DTSTAMP:20260420T101821
CREATED:20250626T182013Z
LAST-MODIFIED:20250626T182013Z
UID:10017632-1773158400-1773162000@www.rochesterrotary.org
SUMMARY:Adopt-a-School Committee
DESCRIPTION:
URL:https://www.rochesterrotary.org/event/adopt-a-school-committee-7/2026-03-10/
LOCATION:Rochester Rotary Office\, 180 Linden Oaks #200\, Rochester\, NY\, 14625\, United States
CATEGORIES:Committee
END:VEVENT
BEGIN:VEVENT
DTSTART;TZID=America/New_York:20260311T120000
DTEND;TZID=America/New_York:20260311T133000
DTSTAMP:20260420T101821
CREATED:20190619T194823Z
LAST-MODIFIED:20240701T143753Z
UID:10017066-1773230400-1773235800@www.rochesterrotary.org
SUMMARY:Friendship Committee
DESCRIPTION:Join us for lunch.
URL:https://www.rochesterrotary.org/event/friendship-committee-meeting/2026-03-11/
LOCATION:Shadow Lake Country Club\, 1850 Five Mile Line Road\, Penfield\, NY\, 14526\, United States
CATEGORIES:Committee
END:VEVENT
BEGIN:VEVENT
DTSTART;TZID=America/New_York:20260312T080000
DTEND;TZID=America/New_York:20260312T093000
DTSTAMP:20260420T101821
CREATED:20230213T192402Z
LAST-MODIFIED:20230628T203411Z
UID:10016795-1773302400-1773307800@www.rochesterrotary.org
SUMMARY:Sunshine Camp Facilities Committee
DESCRIPTION:Join us to work on projects and improvements a the Sunshine Camp.
URL:https://www.rochesterrotary.org/event/sunshine-camp-facilities-committee-4/2026-03-12/
LOCATION:Via Zoom
CATEGORIES:Committee
END:VEVENT
BEGIN:VEVENT
DTSTART;TZID=America/New_York:20260312T120000
DTEND;TZID=America/New_York:20260312T133000
DTSTAMP:20260420T101821
CREATED:20200708T170032Z
LAST-MODIFIED:20230628T204049Z
UID:10016922-1773316800-1773322200@www.rochesterrotary.org
SUMMARY:Membership Engagement Committee
DESCRIPTION:
URL:https://www.rochesterrotary.org/event/membership-engagement-committee/2026-03-12/
LOCATION:Via Zoom
CATEGORIES:Committee
END:VEVENT
BEGIN:VEVENT
DTSTART;TZID=America/New_York:20260313T090000
DTEND;TZID=America/New_York:20260313T100000
DTSTAMP:20260420T101821
CREATED:20240701T150459Z
LAST-MODIFIED:20240701T150459Z
UID:10017147-1773392400-1773396000@www.rochesterrotary.org
SUMMARY:International Service Committee
DESCRIPTION:Join us to help select our next international project.
URL:https://www.rochesterrotary.org/event/international-service-committee-6/2026-03-13/
LOCATION:Rochester Rotary Office\, 180 Linden Oaks #200\, Rochester\, NY\, 14625\, United States
CATEGORIES:Committee
END:VEVENT
BEGIN:VEVENT
DTSTART;TZID=America/New_York:20260317T113000
DTEND;TZID=America/New_York:20260317T130000
DTSTAMP:20260420T101821
CREATED:20260216T184758Z
LAST-MODIFIED:20260311T152533Z
UID:10017831-1773747000-1773752400@www.rochesterrotary.org
SUMMARY:Tuesday Luncheon Meeting
DESCRIPTION:Finger Lakes Reds: A second look. \nWhen we think of the Finger Lakes wine region\, the first thing that comes to mind is Riesling\, aromatic whites\, and sparkling wines.\nBut what about the reds? As a region\, the Finger Lakes holds a wide diversity of red grapes planted under vine\, and have roots connected to historic origins in France\, Northern Italy\, Austria\, Germany\, & even the Republic of Georgia. Red wine production and winemaking has come a long way in the last 15 years\, and deserves a second look. Better yet\, another taste. \nJoin us at Locust Hill Country Club on Tuesday\, March 17th to hear from Finger Lakes Native\, Thera Clark. From 2020-2024\, Thera served as the Resident Sommelier at Standing Stone Vineyards and at Hermann J. Wiemer\, where she spearheaded The Library. Thrilled to bring her broad knowledge and love of wine back to the region\, Thera now works with local restaurants and chefs\, and teaches at New York Kitchen & Forge Wine Cellars. Thera holds the WSET Level 3 Certificate. \nThe meeting will start promptly at 11:45 am to accommodate the Annual Meeting of the Membership \nUse the form below to register for this luncheon. \n\n 
URL:https://www.rochesterrotary.org/event/tuesday-luncheon-meeting-157/
LOCATION:Locust Hill Country Club
CATEGORIES:Featured,Luncheon
ATTACH;FMTTYPE=image/jpeg:https://www.rochesterrotary.org/wp-content/uploads/2026/02/Thera-Clark-scaled.jpeg
END:VEVENT
BEGIN:VEVENT
DTSTART;TZID=America/New_York:20260318T120000
DTEND;TZID=America/New_York:20260318T133000
DTSTAMP:20260420T101821
CREATED:20190619T191412Z
LAST-MODIFIED:20240701T143557Z
UID:10017013-1773835200-1773840600@www.rochesterrotary.org
SUMMARY:Business to Business Committee
DESCRIPTION:We plan business tours for our members.
URL:https://www.rochesterrotary.org/event/business-to-business-committee/2026-03-18/
LOCATION:Via Zoom
CATEGORIES:Committee
END:VEVENT
END:VCALENDAR