BEGIN:VCALENDAR
VERSION:2.0
PRODID:-//Rochester Rotary - ECPv6.15.20//NONSGML v1.0//EN
CALSCALE:GREGORIAN
METHOD:PUBLISH
X-ORIGINAL-URL:https://www.rochesterrotary.org
X-WR-CALDESC:Events for Rochester Rotary
REFRESH-INTERVAL;VALUE=DURATION:PT1H
X-Robots-Tag:noindex
X-PUBLISHED-TTL:PT1H
BEGIN:VTIMEZONE
TZID:America/New_York
BEGIN:DAYLIGHT
TZOFFSETFROM:-0500
TZOFFSETTO:-0400
TZNAME:EDT
DTSTART:20270314T070000
END:DAYLIGHT
BEGIN:STANDARD
TZOFFSETFROM:-0400
TZOFFSETTO:-0500
TZNAME:EST
DTSTART:20271107T060000
END:STANDARD
BEGIN:DAYLIGHT
TZOFFSETFROM:-0500
TZOFFSETTO:-0400
TZNAME:EDT
DTSTART:20280312T070000
END:DAYLIGHT
BEGIN:STANDARD
TZOFFSETFROM:-0400
TZOFFSETTO:-0500
TZNAME:EST
DTSTART:20281105T060000
END:STANDARD
BEGIN:DAYLIGHT
TZOFFSETFROM:-0500
TZOFFSETTO:-0400
TZNAME:EDT
DTSTART:20290311T070000
END:DAYLIGHT
BEGIN:STANDARD
TZOFFSETFROM:-0400
TZOFFSETTO:-0500
TZNAME:EST
DTSTART:20291104T060000
END:STANDARD
BEGIN:DAYLIGHT
TZOFFSETFROM:-0500
TZOFFSETTO:-0400
TZNAME:EDT
DTSTART:20300310T070000
END:DAYLIGHT
BEGIN:STANDARD
TZOFFSETFROM:-0400
TZOFFSETTO:-0500
TZNAME:EST
DTSTART:20301103T060000
END:STANDARD
END:VTIMEZONE
BEGIN:VEVENT
DTSTART;TZID=America/New_York:20281025T120000
DTEND;TZID=America/New_York:20281025T130000
DTSTAMP:20260425T164426
CREATED:20260205T201442Z
LAST-MODIFIED:20260205T201442Z
UID:10017796-1856088000-1856091600@www.rochesterrotary.org
SUMMARY:Membership Recruitment Committee
DESCRIPTION:
URL:https://www.rochesterrotary.org/event/membership-recruitment-committee-17/2028-10-25/
LOCATION:Via Zoom
CATEGORIES:Committee
END:VEVENT
BEGIN:VEVENT
DTSTART;TZID=America/New_York:20281108T120000
DTEND;TZID=America/New_York:20281108T133000
DTSTAMP:20260425T164426
CREATED:20190619T194823Z
LAST-MODIFIED:20240701T143753Z
UID:10017098-1857297600-1857303000@www.rochesterrotary.org
SUMMARY:Friendship Committee
DESCRIPTION:Join us for lunch.
URL:https://www.rochesterrotary.org/event/friendship-committee-meeting/2028-11-08/
LOCATION:Shadow Lake Country Club\, 1850 Five Mile Line Road\, Penfield\, NY\, 14526\, United States
CATEGORIES:Committee
END:VEVENT
BEGIN:VEVENT
DTSTART;TZID=America/New_York:20281109T080000
DTEND;TZID=America/New_York:20281109T093000
DTSTAMP:20260425T164426
CREATED:20230213T192402Z
LAST-MODIFIED:20230628T203411Z
UID:10016827-1857369600-1857375000@www.rochesterrotary.org
SUMMARY:Sunshine Camp Facilities Committee
DESCRIPTION:Join us to work on projects and improvements a the Sunshine Camp.
URL:https://www.rochesterrotary.org/event/sunshine-camp-facilities-committee-4/2028-11-09/
LOCATION:Via Zoom
CATEGORIES:Committee
END:VEVENT
BEGIN:VEVENT
DTSTART;TZID=America/New_York:20281109T120000
DTEND;TZID=America/New_York:20281109T133000
DTSTAMP:20260425T164426
CREATED:20200708T170032Z
LAST-MODIFIED:20230628T204049Z
UID:10016954-1857384000-1857389400@www.rochesterrotary.org
SUMMARY:Membership Engagement Committee
DESCRIPTION:
URL:https://www.rochesterrotary.org/event/membership-engagement-committee/2028-11-09/
LOCATION:Via Zoom
CATEGORIES:Committee
END:VEVENT
BEGIN:VEVENT
DTSTART;TZID=America/New_York:20281110T090000
DTEND;TZID=America/New_York:20281110T100000
DTSTAMP:20260425T164426
CREATED:20240701T150459Z
LAST-MODIFIED:20240701T150459Z
UID:10017179-1857459600-1857463200@www.rochesterrotary.org
SUMMARY:International Service Committee
DESCRIPTION:Join us to help select our next international project.
URL:https://www.rochesterrotary.org/event/international-service-committee-6/2028-11-10/
LOCATION:Rochester Rotary Office\, 180 Linden Oaks #200\, Rochester\, NY\, 14625\, United States
CATEGORIES:Committee
END:VEVENT
BEGIN:VEVENT
DTSTART;TZID=America/New_York:20281113T150000
DTEND;TZID=America/New_York:20281113T160000
DTSTAMP:20260425T164426
CREATED:20241021T203921Z
LAST-MODIFIED:20241021T203921Z
UID:10017304-1857740400-1857744000@www.rochesterrotary.org
SUMMARY:DEI Committee
DESCRIPTION:
URL:https://www.rochesterrotary.org/event/dei-committee-13/2028-11-13/
LOCATION:Via Zoom
CATEGORIES:Committee
END:VEVENT
BEGIN:VEVENT
DTSTART;TZID=America/New_York:20281115T120000
DTEND;TZID=America/New_York:20281115T133000
DTSTAMP:20260425T164426
CREATED:20190619T191412Z
LAST-MODIFIED:20240701T143557Z
UID:10017045-1857902400-1857907800@www.rochesterrotary.org
SUMMARY:Business to Business Committee
DESCRIPTION:We plan business tours for our members.
URL:https://www.rochesterrotary.org/event/business-to-business-committee/2028-11-15/
LOCATION:Via Zoom
CATEGORIES:Committee
END:VEVENT
BEGIN:VEVENT
DTSTART;TZID=America/New_York:20281122T120000
DTEND;TZID=America/New_York:20281122T130000
DTSTAMP:20260425T164426
CREATED:20260205T201442Z
LAST-MODIFIED:20260205T201442Z
UID:10017797-1858507200-1858510800@www.rochesterrotary.org
SUMMARY:Membership Recruitment Committee
DESCRIPTION:
URL:https://www.rochesterrotary.org/event/membership-recruitment-committee-17/2028-11-22/
LOCATION:Via Zoom
CATEGORIES:Committee
END:VEVENT
BEGIN:VEVENT
DTSTART;TZID=America/New_York:20281127T120000
DTEND;TZID=America/New_York:20281127T130000
DTSTAMP:20260425T164426
CREATED:20230628T180205Z
LAST-MODIFIED:20250826T143529Z
UID:10016882-1858939200-1858942800@www.rochesterrotary.org
SUMMARY:Social Events & Activities Committee
DESCRIPTION:We meet quarterly to plan our fun activities for our members.
URL:https://www.rochesterrotary.org/event/social-events-activities-committee-8/2028-11-27/
LOCATION:Via Zoom
CATEGORIES:Committee
END:VEVENT
BEGIN:VEVENT
DTSTART;TZID=America/New_York:20281208T090000
DTEND;TZID=America/New_York:20281208T100000
DTSTAMP:20260425T164426
CREATED:20240701T150459Z
LAST-MODIFIED:20240701T150459Z
UID:10017180-1859878800-1859882400@www.rochesterrotary.org
SUMMARY:International Service Committee
DESCRIPTION:Join us to help select our next international project.
URL:https://www.rochesterrotary.org/event/international-service-committee-6/2028-12-08/
LOCATION:Rochester Rotary Office\, 180 Linden Oaks #200\, Rochester\, NY\, 14625\, United States
CATEGORIES:Committee
END:VEVENT
BEGIN:VEVENT
DTSTART;TZID=America/New_York:20281213T120000
DTEND;TZID=America/New_York:20281213T133000
DTSTAMP:20260425T164426
CREATED:20190619T194823Z
LAST-MODIFIED:20240701T143753Z
UID:10017099-1860321600-1860327000@www.rochesterrotary.org
SUMMARY:Friendship Committee
DESCRIPTION:Join us for lunch.
URL:https://www.rochesterrotary.org/event/friendship-committee-meeting/2028-12-13/
LOCATION:Shadow Lake Country Club\, 1850 Five Mile Line Road\, Penfield\, NY\, 14526\, United States
CATEGORIES:Committee
END:VEVENT
BEGIN:VEVENT
DTSTART;TZID=America/New_York:20281214T080000
DTEND;TZID=America/New_York:20281214T093000
DTSTAMP:20260425T164426
CREATED:20230213T192402Z
LAST-MODIFIED:20230628T203411Z
UID:10016828-1860393600-1860399000@www.rochesterrotary.org
SUMMARY:Sunshine Camp Facilities Committee
DESCRIPTION:Join us to work on projects and improvements a the Sunshine Camp.
URL:https://www.rochesterrotary.org/event/sunshine-camp-facilities-committee-4/2028-12-14/
LOCATION:Via Zoom
CATEGORIES:Committee
END:VEVENT
BEGIN:VEVENT
DTSTART;TZID=America/New_York:20281214T120000
DTEND;TZID=America/New_York:20281214T133000
DTSTAMP:20260425T164426
CREATED:20200708T170032Z
LAST-MODIFIED:20230628T204049Z
UID:10016955-1860408000-1860413400@www.rochesterrotary.org
SUMMARY:Membership Engagement Committee
DESCRIPTION:
URL:https://www.rochesterrotary.org/event/membership-engagement-committee/2028-12-14/
LOCATION:Via Zoom
CATEGORIES:Committee
END:VEVENT
BEGIN:VEVENT
DTSTART;TZID=America/New_York:20281220T120000
DTEND;TZID=America/New_York:20281220T133000
DTSTAMP:20260425T164426
CREATED:20190619T191412Z
LAST-MODIFIED:20240701T143557Z
UID:10017046-1860926400-1860931800@www.rochesterrotary.org
SUMMARY:Business to Business Committee
DESCRIPTION:We plan business tours for our members.
URL:https://www.rochesterrotary.org/event/business-to-business-committee/2028-12-20/
LOCATION:Via Zoom
CATEGORIES:Committee
END:VEVENT
BEGIN:VEVENT
DTSTART;TZID=America/New_York:20281225T120000
DTEND;TZID=America/New_York:20281225T130000
DTSTAMP:20260425T164426
CREATED:20230628T180205Z
LAST-MODIFIED:20250826T143529Z
UID:10016883-1861358400-1861362000@www.rochesterrotary.org
SUMMARY:Social Events & Activities Committee
DESCRIPTION:We meet quarterly to plan our fun activities for our members.
URL:https://www.rochesterrotary.org/event/social-events-activities-committee-8/2028-12-25/
LOCATION:Via Zoom
CATEGORIES:Committee
END:VEVENT
BEGIN:VEVENT
DTSTART;TZID=America/New_York:20281227T120000
DTEND;TZID=America/New_York:20281227T130000
DTSTAMP:20260425T164426
CREATED:20260205T201442Z
LAST-MODIFIED:20260205T201442Z
UID:10017798-1861531200-1861534800@www.rochesterrotary.org
SUMMARY:Membership Recruitment Committee
DESCRIPTION:
URL:https://www.rochesterrotary.org/event/membership-recruitment-committee-17/2028-12-27/
LOCATION:Via Zoom
CATEGORIES:Committee
END:VEVENT
BEGIN:VEVENT
DTSTART;TZID=America/New_York:20290108T150000
DTEND;TZID=America/New_York:20290108T160000
DTSTAMP:20260425T164426
CREATED:20241021T203921Z
LAST-MODIFIED:20241021T203921Z
UID:10017305-1862578800-1862582400@www.rochesterrotary.org
SUMMARY:DEI Committee
DESCRIPTION:
URL:https://www.rochesterrotary.org/event/dei-committee-13/2029-01-08/
LOCATION:Via Zoom
CATEGORIES:Committee
END:VEVENT
BEGIN:VEVENT
DTSTART;TZID=America/New_York:20290110T120000
DTEND;TZID=America/New_York:20290110T133000
DTSTAMP:20260425T164426
CREATED:20190619T194823Z
LAST-MODIFIED:20240701T143753Z
UID:10017100-1862740800-1862746200@www.rochesterrotary.org
SUMMARY:Friendship Committee
DESCRIPTION:Join us for lunch.
URL:https://www.rochesterrotary.org/event/friendship-committee-meeting/2029-01-10/
LOCATION:Shadow Lake Country Club\, 1850 Five Mile Line Road\, Penfield\, NY\, 14526\, United States
CATEGORIES:Committee
END:VEVENT
BEGIN:VEVENT
DTSTART;TZID=America/New_York:20290111T080000
DTEND;TZID=America/New_York:20290111T093000
DTSTAMP:20260425T164426
CREATED:20230213T192402Z
LAST-MODIFIED:20230628T203411Z
UID:10016829-1862812800-1862818200@www.rochesterrotary.org
SUMMARY:Sunshine Camp Facilities Committee
DESCRIPTION:Join us to work on projects and improvements a the Sunshine Camp.
URL:https://www.rochesterrotary.org/event/sunshine-camp-facilities-committee-4/2029-01-11/
LOCATION:Via Zoom
CATEGORIES:Committee
END:VEVENT
BEGIN:VEVENT
DTSTART;TZID=America/New_York:20290111T120000
DTEND;TZID=America/New_York:20290111T133000
DTSTAMP:20260425T164426
CREATED:20200708T170032Z
LAST-MODIFIED:20230628T204049Z
UID:10016956-1862827200-1862832600@www.rochesterrotary.org
SUMMARY:Membership Engagement Committee
DESCRIPTION:
URL:https://www.rochesterrotary.org/event/membership-engagement-committee/2029-01-11/
LOCATION:Via Zoom
CATEGORIES:Committee
END:VEVENT
BEGIN:VEVENT
DTSTART;TZID=America/New_York:20290112T090000
DTEND;TZID=America/New_York:20290112T100000
DTSTAMP:20260425T164426
CREATED:20240701T150459Z
LAST-MODIFIED:20240701T150459Z
UID:10017181-1862902800-1862906400@www.rochesterrotary.org
SUMMARY:International Service Committee
DESCRIPTION:Join us to help select our next international project.
URL:https://www.rochesterrotary.org/event/international-service-committee-6/2029-01-12/
LOCATION:Rochester Rotary Office\, 180 Linden Oaks #200\, Rochester\, NY\, 14625\, United States
CATEGORIES:Committee
END:VEVENT
BEGIN:VEVENT
DTSTART;TZID=America/New_York:20290117T120000
DTEND;TZID=America/New_York:20290117T133000
DTSTAMP:20260425T164426
CREATED:20190619T191412Z
LAST-MODIFIED:20240701T143557Z
UID:10017047-1863345600-1863351000@www.rochesterrotary.org
SUMMARY:Business to Business Committee
DESCRIPTION:We plan business tours for our members.
URL:https://www.rochesterrotary.org/event/business-to-business-committee/2029-01-17/
LOCATION:Via Zoom
CATEGORIES:Committee
END:VEVENT
BEGIN:VEVENT
DTSTART;TZID=America/New_York:20290122T120000
DTEND;TZID=America/New_York:20290122T130000
DTSTAMP:20260425T164426
CREATED:20230628T180205Z
LAST-MODIFIED:20250826T143529Z
UID:10016884-1863777600-1863781200@www.rochesterrotary.org
SUMMARY:Social Events & Activities Committee
DESCRIPTION:We meet quarterly to plan our fun activities for our members.
URL:https://www.rochesterrotary.org/event/social-events-activities-committee-8/2029-01-22/
LOCATION:Via Zoom
CATEGORIES:Committee
END:VEVENT
BEGIN:VEVENT
DTSTART;TZID=America/New_York:20290124T120000
DTEND;TZID=America/New_York:20290124T130000
DTSTAMP:20260425T164426
CREATED:20260205T201442Z
LAST-MODIFIED:20260205T201442Z
UID:10017799-1863950400-1863954000@www.rochesterrotary.org
SUMMARY:Membership Recruitment Committee
DESCRIPTION:
URL:https://www.rochesterrotary.org/event/membership-recruitment-committee-17/2029-01-24/
LOCATION:Via Zoom
CATEGORIES:Committee
END:VEVENT
BEGIN:VEVENT
DTSTART;TZID=America/New_York:20290208T080000
DTEND;TZID=America/New_York:20290208T093000
DTSTAMP:20260425T164426
CREATED:20230213T192402Z
LAST-MODIFIED:20230628T203411Z
UID:10016830-1865232000-1865237400@www.rochesterrotary.org
SUMMARY:Sunshine Camp Facilities Committee
DESCRIPTION:Join us to work on projects and improvements a the Sunshine Camp.
URL:https://www.rochesterrotary.org/event/sunshine-camp-facilities-committee-4/2029-02-08/
LOCATION:Via Zoom
CATEGORIES:Committee
END:VEVENT
BEGIN:VEVENT
DTSTART;TZID=America/New_York:20290208T120000
DTEND;TZID=America/New_York:20290208T133000
DTSTAMP:20260425T164426
CREATED:20200708T170032Z
LAST-MODIFIED:20230628T204049Z
UID:10016957-1865246400-1865251800@www.rochesterrotary.org
SUMMARY:Membership Engagement Committee
DESCRIPTION:
URL:https://www.rochesterrotary.org/event/membership-engagement-committee/2029-02-08/
LOCATION:Via Zoom
CATEGORIES:Committee
END:VEVENT
BEGIN:VEVENT
DTSTART;TZID=America/New_York:20290209T090000
DTEND;TZID=America/New_York:20290209T100000
DTSTAMP:20260425T164426
CREATED:20240701T150459Z
LAST-MODIFIED:20240701T150459Z
UID:10017182-1865322000-1865325600@www.rochesterrotary.org
SUMMARY:International Service Committee
DESCRIPTION:Join us to help select our next international project.
URL:https://www.rochesterrotary.org/event/international-service-committee-6/2029-02-09/
LOCATION:Rochester Rotary Office\, 180 Linden Oaks #200\, Rochester\, NY\, 14625\, United States
CATEGORIES:Committee
END:VEVENT
BEGIN:VEVENT
DTSTART;TZID=America/New_York:20290214T120000
DTEND;TZID=America/New_York:20290214T133000
DTSTAMP:20260425T164426
CREATED:20190619T194823Z
LAST-MODIFIED:20240701T143753Z
UID:10017101-1865764800-1865770200@www.rochesterrotary.org
SUMMARY:Friendship Committee
DESCRIPTION:Join us for lunch.
URL:https://www.rochesterrotary.org/event/friendship-committee-meeting/2029-02-14/
LOCATION:Shadow Lake Country Club\, 1850 Five Mile Line Road\, Penfield\, NY\, 14526\, United States
CATEGORIES:Committee
END:VEVENT
BEGIN:VEVENT
DTSTART;TZID=America/New_York:20290221T120000
DTEND;TZID=America/New_York:20290221T133000
DTSTAMP:20260425T164426
CREATED:20190619T191412Z
LAST-MODIFIED:20240701T143557Z
UID:10017048-1866369600-1866375000@www.rochesterrotary.org
SUMMARY:Business to Business Committee
DESCRIPTION:We plan business tours for our members.
URL:https://www.rochesterrotary.org/event/business-to-business-committee/2029-02-21/
LOCATION:Via Zoom
CATEGORIES:Committee
END:VEVENT
BEGIN:VEVENT
DTSTART;TZID=America/New_York:20290226T120000
DTEND;TZID=America/New_York:20290226T130000
DTSTAMP:20260425T164426
CREATED:20230628T180205Z
LAST-MODIFIED:20250826T143529Z
UID:10016885-1866801600-1866805200@www.rochesterrotary.org
SUMMARY:Social Events & Activities Committee
DESCRIPTION:We meet quarterly to plan our fun activities for our members.
URL:https://www.rochesterrotary.org/event/social-events-activities-committee-8/2029-02-26/
LOCATION:Via Zoom
CATEGORIES:Committee
END:VEVENT
END:VCALENDAR