BEGIN:VCALENDAR
VERSION:2.0
PRODID:-//Rochester Rotary - ECPv6.15.20//NONSGML v1.0//EN
CALSCALE:GREGORIAN
METHOD:PUBLISH
X-WR-CALNAME:Rochester Rotary
X-ORIGINAL-URL:https://www.rochesterrotary.org
X-WR-CALDESC:Events for Rochester Rotary
REFRESH-INTERVAL;VALUE=DURATION:PT1H
X-Robots-Tag:noindex
X-PUBLISHED-TTL:PT1H
BEGIN:VTIMEZONE
TZID:America/New_York
BEGIN:DAYLIGHT
TZOFFSETFROM:-0500
TZOFFSETTO:-0400
TZNAME:EDT
DTSTART:20270314T070000
END:DAYLIGHT
BEGIN:STANDARD
TZOFFSETFROM:-0400
TZOFFSETTO:-0500
TZNAME:EST
DTSTART:20271107T060000
END:STANDARD
BEGIN:DAYLIGHT
TZOFFSETFROM:-0500
TZOFFSETTO:-0400
TZNAME:EDT
DTSTART:20280312T070000
END:DAYLIGHT
BEGIN:STANDARD
TZOFFSETFROM:-0400
TZOFFSETTO:-0500
TZNAME:EST
DTSTART:20281105T060000
END:STANDARD
BEGIN:DAYLIGHT
TZOFFSETFROM:-0500
TZOFFSETTO:-0400
TZNAME:EDT
DTSTART:20290311T070000
END:DAYLIGHT
BEGIN:STANDARD
TZOFFSETFROM:-0400
TZOFFSETTO:-0500
TZNAME:EST
DTSTART:20291104T060000
END:STANDARD
END:VTIMEZONE
BEGIN:VEVENT
DTSTART;TZID=America/New_York:20280810T080000
DTEND;TZID=America/New_York:20280810T093000
DTSTAMP:20260425T125521
CREATED:20230213T192402Z
LAST-MODIFIED:20230628T203411Z
UID:10016824-1849507200-1849512600@www.rochesterrotary.org
SUMMARY:Sunshine Camp Facilities Committee
DESCRIPTION:Join us to work on projects and improvements a the Sunshine Camp.
URL:https://www.rochesterrotary.org/event/sunshine-camp-facilities-committee-4/2028-08-10/
LOCATION:Via Zoom
CATEGORIES:Committee
END:VEVENT
BEGIN:VEVENT
DTSTART;TZID=America/New_York:20280810T120000
DTEND;TZID=America/New_York:20280810T133000
DTSTAMP:20260425T125521
CREATED:20200708T170032Z
LAST-MODIFIED:20230628T204049Z
UID:10016951-1849521600-1849527000@www.rochesterrotary.org
SUMMARY:Membership Engagement Committee
DESCRIPTION:
URL:https://www.rochesterrotary.org/event/membership-engagement-committee/2028-08-10/
LOCATION:Via Zoom
CATEGORIES:Committee
END:VEVENT
BEGIN:VEVENT
DTSTART;TZID=America/New_York:20280811T090000
DTEND;TZID=America/New_York:20280811T100000
DTSTAMP:20260425T125521
CREATED:20240701T150459Z
LAST-MODIFIED:20240701T150459Z
UID:10017176-1849597200-1849600800@www.rochesterrotary.org
SUMMARY:International Service Committee
DESCRIPTION:Join us to help select our next international project.
URL:https://www.rochesterrotary.org/event/international-service-committee-6/2028-08-11/
LOCATION:Rochester Rotary Office\, 180 Linden Oaks #200\, Rochester\, NY\, 14625\, United States
CATEGORIES:Committee
END:VEVENT
BEGIN:VEVENT
DTSTART;TZID=America/New_York:20280816T120000
DTEND;TZID=America/New_York:20280816T133000
DTSTAMP:20260425T125521
CREATED:20190619T191412Z
LAST-MODIFIED:20240701T143557Z
UID:10017042-1850040000-1850045400@www.rochesterrotary.org
SUMMARY:Business to Business Committee
DESCRIPTION:We plan business tours for our members.
URL:https://www.rochesterrotary.org/event/business-to-business-committee/2028-08-16/
LOCATION:Via Zoom
CATEGORIES:Committee
END:VEVENT
BEGIN:VEVENT
DTSTART;TZID=America/New_York:20280823T120000
DTEND;TZID=America/New_York:20280823T130000
DTSTAMP:20260425T125521
CREATED:20260205T201442Z
LAST-MODIFIED:20260205T201442Z
UID:10017794-1850644800-1850648400@www.rochesterrotary.org
SUMMARY:Membership Recruitment Committee
DESCRIPTION:
URL:https://www.rochesterrotary.org/event/membership-recruitment-committee-17/2028-08-23/
LOCATION:Via Zoom
CATEGORIES:Committee
END:VEVENT
BEGIN:VEVENT
DTSTART;TZID=America/New_York:20280828T120000
DTEND;TZID=America/New_York:20280828T130000
DTSTAMP:20260425T125521
CREATED:20230628T180205Z
LAST-MODIFIED:20250826T143529Z
UID:10016879-1851076800-1851080400@www.rochesterrotary.org
SUMMARY:Social Events & Activities Committee
DESCRIPTION:We meet quarterly to plan our fun activities for our members.
URL:https://www.rochesterrotary.org/event/social-events-activities-committee-8/2028-08-28/
LOCATION:Via Zoom
CATEGORIES:Committee
END:VEVENT
BEGIN:VEVENT
DTSTART;TZID=America/New_York:20280908T090000
DTEND;TZID=America/New_York:20280908T100000
DTSTAMP:20260425T125521
CREATED:20240701T150459Z
LAST-MODIFIED:20240701T150459Z
UID:10017177-1852016400-1852020000@www.rochesterrotary.org
SUMMARY:International Service Committee
DESCRIPTION:Join us to help select our next international project.
URL:https://www.rochesterrotary.org/event/international-service-committee-6/2028-09-08/
LOCATION:Rochester Rotary Office\, 180 Linden Oaks #200\, Rochester\, NY\, 14625\, United States
CATEGORIES:Committee
END:VEVENT
BEGIN:VEVENT
DTSTART;TZID=America/New_York:20280911T150000
DTEND;TZID=America/New_York:20280911T160000
DTSTAMP:20260425T125521
CREATED:20241021T203921Z
LAST-MODIFIED:20241021T203921Z
UID:10017303-1852297200-1852300800@www.rochesterrotary.org
SUMMARY:DEI Committee
DESCRIPTION:
URL:https://www.rochesterrotary.org/event/dei-committee-13/2028-09-11/
LOCATION:Via Zoom
CATEGORIES:Committee
END:VEVENT
BEGIN:VEVENT
DTSTART;TZID=America/New_York:20280913T120000
DTEND;TZID=America/New_York:20280913T133000
DTSTAMP:20260425T125521
CREATED:20190619T194823Z
LAST-MODIFIED:20240701T143753Z
UID:10017096-1852459200-1852464600@www.rochesterrotary.org
SUMMARY:Friendship Committee
DESCRIPTION:Join us for lunch.
URL:https://www.rochesterrotary.org/event/friendship-committee-meeting/2028-09-13/
LOCATION:Shadow Lake Country Club\, 1850 Five Mile Line Road\, Penfield\, NY\, 14526\, United States
CATEGORIES:Committee
END:VEVENT
BEGIN:VEVENT
DTSTART;TZID=America/New_York:20280914T080000
DTEND;TZID=America/New_York:20280914T093000
DTSTAMP:20260425T125521
CREATED:20230213T192402Z
LAST-MODIFIED:20230628T203411Z
UID:10016825-1852531200-1852536600@www.rochesterrotary.org
SUMMARY:Sunshine Camp Facilities Committee
DESCRIPTION:Join us to work on projects and improvements a the Sunshine Camp.
URL:https://www.rochesterrotary.org/event/sunshine-camp-facilities-committee-4/2028-09-14/
LOCATION:Via Zoom
CATEGORIES:Committee
END:VEVENT
BEGIN:VEVENT
DTSTART;TZID=America/New_York:20280914T120000
DTEND;TZID=America/New_York:20280914T133000
DTSTAMP:20260425T125521
CREATED:20200708T170032Z
LAST-MODIFIED:20230628T204049Z
UID:10016952-1852545600-1852551000@www.rochesterrotary.org
SUMMARY:Membership Engagement Committee
DESCRIPTION:
URL:https://www.rochesterrotary.org/event/membership-engagement-committee/2028-09-14/
LOCATION:Via Zoom
CATEGORIES:Committee
END:VEVENT
BEGIN:VEVENT
DTSTART;TZID=America/New_York:20280920T120000
DTEND;TZID=America/New_York:20280920T133000
DTSTAMP:20260425T125521
CREATED:20190619T191412Z
LAST-MODIFIED:20240701T143557Z
UID:10017043-1853064000-1853069400@www.rochesterrotary.org
SUMMARY:Business to Business Committee
DESCRIPTION:We plan business tours for our members.
URL:https://www.rochesterrotary.org/event/business-to-business-committee/2028-09-20/
LOCATION:Via Zoom
CATEGORIES:Committee
END:VEVENT
BEGIN:VEVENT
DTSTART;TZID=America/New_York:20280925T120000
DTEND;TZID=America/New_York:20280925T130000
DTSTAMP:20260425T125521
CREATED:20230628T180205Z
LAST-MODIFIED:20250826T143529Z
UID:10016880-1853496000-1853499600@www.rochesterrotary.org
SUMMARY:Social Events & Activities Committee
DESCRIPTION:We meet quarterly to plan our fun activities for our members.
URL:https://www.rochesterrotary.org/event/social-events-activities-committee-8/2028-09-25/
LOCATION:Via Zoom
CATEGORIES:Committee
END:VEVENT
BEGIN:VEVENT
DTSTART;TZID=America/New_York:20280927T120000
DTEND;TZID=America/New_York:20280927T130000
DTSTAMP:20260425T125521
CREATED:20260205T201442Z
LAST-MODIFIED:20260205T201442Z
UID:10017795-1853668800-1853672400@www.rochesterrotary.org
SUMMARY:Membership Recruitment Committee
DESCRIPTION:
URL:https://www.rochesterrotary.org/event/membership-recruitment-committee-17/2028-09-27/
LOCATION:Via Zoom
CATEGORIES:Committee
END:VEVENT
BEGIN:VEVENT
DTSTART;TZID=America/New_York:20281011T120000
DTEND;TZID=America/New_York:20281011T133000
DTSTAMP:20260425T125521
CREATED:20190619T194823Z
LAST-MODIFIED:20240701T143753Z
UID:10017097-1854878400-1854883800@www.rochesterrotary.org
SUMMARY:Friendship Committee
DESCRIPTION:Join us for lunch.
URL:https://www.rochesterrotary.org/event/friendship-committee-meeting/2028-10-11/
LOCATION:Shadow Lake Country Club\, 1850 Five Mile Line Road\, Penfield\, NY\, 14526\, United States
CATEGORIES:Committee
END:VEVENT
BEGIN:VEVENT
DTSTART;TZID=America/New_York:20281012T080000
DTEND;TZID=America/New_York:20281012T093000
DTSTAMP:20260425T125521
CREATED:20230213T192402Z
LAST-MODIFIED:20230628T203411Z
UID:10016826-1854950400-1854955800@www.rochesterrotary.org
SUMMARY:Sunshine Camp Facilities Committee
DESCRIPTION:Join us to work on projects and improvements a the Sunshine Camp.
URL:https://www.rochesterrotary.org/event/sunshine-camp-facilities-committee-4/2028-10-12/
LOCATION:Via Zoom
CATEGORIES:Committee
END:VEVENT
BEGIN:VEVENT
DTSTART;TZID=America/New_York:20281012T120000
DTEND;TZID=America/New_York:20281012T133000
DTSTAMP:20260425T125521
CREATED:20200708T170032Z
LAST-MODIFIED:20230628T204049Z
UID:10016953-1854964800-1854970200@www.rochesterrotary.org
SUMMARY:Membership Engagement Committee
DESCRIPTION:
URL:https://www.rochesterrotary.org/event/membership-engagement-committee/2028-10-12/
LOCATION:Via Zoom
CATEGORIES:Committee
END:VEVENT
BEGIN:VEVENT
DTSTART;TZID=America/New_York:20281013T090000
DTEND;TZID=America/New_York:20281013T100000
DTSTAMP:20260425T125521
CREATED:20240701T150459Z
LAST-MODIFIED:20240701T150459Z
UID:10017178-1855040400-1855044000@www.rochesterrotary.org
SUMMARY:International Service Committee
DESCRIPTION:Join us to help select our next international project.
URL:https://www.rochesterrotary.org/event/international-service-committee-6/2028-10-13/
LOCATION:Rochester Rotary Office\, 180 Linden Oaks #200\, Rochester\, NY\, 14625\, United States
CATEGORIES:Committee
END:VEVENT
BEGIN:VEVENT
DTSTART;TZID=America/New_York:20281018T120000
DTEND;TZID=America/New_York:20281018T133000
DTSTAMP:20260425T125521
CREATED:20190619T191412Z
LAST-MODIFIED:20240701T143557Z
UID:10017044-1855483200-1855488600@www.rochesterrotary.org
SUMMARY:Business to Business Committee
DESCRIPTION:We plan business tours for our members.
URL:https://www.rochesterrotary.org/event/business-to-business-committee/2028-10-18/
LOCATION:Via Zoom
CATEGORIES:Committee
END:VEVENT
BEGIN:VEVENT
DTSTART;TZID=America/New_York:20281023T120000
DTEND;TZID=America/New_York:20281023T130000
DTSTAMP:20260425T125521
CREATED:20230628T180205Z
LAST-MODIFIED:20250826T143529Z
UID:10016881-1855915200-1855918800@www.rochesterrotary.org
SUMMARY:Social Events & Activities Committee
DESCRIPTION:We meet quarterly to plan our fun activities for our members.
URL:https://www.rochesterrotary.org/event/social-events-activities-committee-8/2028-10-23/
LOCATION:Via Zoom
CATEGORIES:Committee
END:VEVENT
BEGIN:VEVENT
DTSTART;TZID=America/New_York:20281025T120000
DTEND;TZID=America/New_York:20281025T130000
DTSTAMP:20260425T125521
CREATED:20260205T201442Z
LAST-MODIFIED:20260205T201442Z
UID:10017796-1856088000-1856091600@www.rochesterrotary.org
SUMMARY:Membership Recruitment Committee
DESCRIPTION:
URL:https://www.rochesterrotary.org/event/membership-recruitment-committee-17/2028-10-25/
LOCATION:Via Zoom
CATEGORIES:Committee
END:VEVENT
BEGIN:VEVENT
DTSTART;TZID=America/New_York:20281108T120000
DTEND;TZID=America/New_York:20281108T133000
DTSTAMP:20260425T125521
CREATED:20190619T194823Z
LAST-MODIFIED:20240701T143753Z
UID:10017098-1857297600-1857303000@www.rochesterrotary.org
SUMMARY:Friendship Committee
DESCRIPTION:Join us for lunch.
URL:https://www.rochesterrotary.org/event/friendship-committee-meeting/2028-11-08/
LOCATION:Shadow Lake Country Club\, 1850 Five Mile Line Road\, Penfield\, NY\, 14526\, United States
CATEGORIES:Committee
END:VEVENT
BEGIN:VEVENT
DTSTART;TZID=America/New_York:20281109T080000
DTEND;TZID=America/New_York:20281109T093000
DTSTAMP:20260425T125521
CREATED:20230213T192402Z
LAST-MODIFIED:20230628T203411Z
UID:10016827-1857369600-1857375000@www.rochesterrotary.org
SUMMARY:Sunshine Camp Facilities Committee
DESCRIPTION:Join us to work on projects and improvements a the Sunshine Camp.
URL:https://www.rochesterrotary.org/event/sunshine-camp-facilities-committee-4/2028-11-09/
LOCATION:Via Zoom
CATEGORIES:Committee
END:VEVENT
BEGIN:VEVENT
DTSTART;TZID=America/New_York:20281109T120000
DTEND;TZID=America/New_York:20281109T133000
DTSTAMP:20260425T125521
CREATED:20200708T170032Z
LAST-MODIFIED:20230628T204049Z
UID:10016954-1857384000-1857389400@www.rochesterrotary.org
SUMMARY:Membership Engagement Committee
DESCRIPTION:
URL:https://www.rochesterrotary.org/event/membership-engagement-committee/2028-11-09/
LOCATION:Via Zoom
CATEGORIES:Committee
END:VEVENT
BEGIN:VEVENT
DTSTART;TZID=America/New_York:20281110T090000
DTEND;TZID=America/New_York:20281110T100000
DTSTAMP:20260425T125521
CREATED:20240701T150459Z
LAST-MODIFIED:20240701T150459Z
UID:10017179-1857459600-1857463200@www.rochesterrotary.org
SUMMARY:International Service Committee
DESCRIPTION:Join us to help select our next international project.
URL:https://www.rochesterrotary.org/event/international-service-committee-6/2028-11-10/
LOCATION:Rochester Rotary Office\, 180 Linden Oaks #200\, Rochester\, NY\, 14625\, United States
CATEGORIES:Committee
END:VEVENT
BEGIN:VEVENT
DTSTART;TZID=America/New_York:20281113T150000
DTEND;TZID=America/New_York:20281113T160000
DTSTAMP:20260425T125521
CREATED:20241021T203921Z
LAST-MODIFIED:20241021T203921Z
UID:10017304-1857740400-1857744000@www.rochesterrotary.org
SUMMARY:DEI Committee
DESCRIPTION:
URL:https://www.rochesterrotary.org/event/dei-committee-13/2028-11-13/
LOCATION:Via Zoom
CATEGORIES:Committee
END:VEVENT
BEGIN:VEVENT
DTSTART;TZID=America/New_York:20281115T120000
DTEND;TZID=America/New_York:20281115T133000
DTSTAMP:20260425T125521
CREATED:20190619T191412Z
LAST-MODIFIED:20240701T143557Z
UID:10017045-1857902400-1857907800@www.rochesterrotary.org
SUMMARY:Business to Business Committee
DESCRIPTION:We plan business tours for our members.
URL:https://www.rochesterrotary.org/event/business-to-business-committee/2028-11-15/
LOCATION:Via Zoom
CATEGORIES:Committee
END:VEVENT
BEGIN:VEVENT
DTSTART;TZID=America/New_York:20281122T120000
DTEND;TZID=America/New_York:20281122T130000
DTSTAMP:20260425T125521
CREATED:20260205T201442Z
LAST-MODIFIED:20260205T201442Z
UID:10017797-1858507200-1858510800@www.rochesterrotary.org
SUMMARY:Membership Recruitment Committee
DESCRIPTION:
URL:https://www.rochesterrotary.org/event/membership-recruitment-committee-17/2028-11-22/
LOCATION:Via Zoom
CATEGORIES:Committee
END:VEVENT
BEGIN:VEVENT
DTSTART;TZID=America/New_York:20281127T120000
DTEND;TZID=America/New_York:20281127T130000
DTSTAMP:20260425T125521
CREATED:20230628T180205Z
LAST-MODIFIED:20250826T143529Z
UID:10016882-1858939200-1858942800@www.rochesterrotary.org
SUMMARY:Social Events & Activities Committee
DESCRIPTION:We meet quarterly to plan our fun activities for our members.
URL:https://www.rochesterrotary.org/event/social-events-activities-committee-8/2028-11-27/
LOCATION:Via Zoom
CATEGORIES:Committee
END:VEVENT
BEGIN:VEVENT
DTSTART;TZID=America/New_York:20281208T090000
DTEND;TZID=America/New_York:20281208T100000
DTSTAMP:20260425T125521
CREATED:20240701T150459Z
LAST-MODIFIED:20240701T150459Z
UID:10017180-1859878800-1859882400@www.rochesterrotary.org
SUMMARY:International Service Committee
DESCRIPTION:Join us to help select our next international project.
URL:https://www.rochesterrotary.org/event/international-service-committee-6/2028-12-08/
LOCATION:Rochester Rotary Office\, 180 Linden Oaks #200\, Rochester\, NY\, 14625\, United States
CATEGORIES:Committee
END:VEVENT
END:VCALENDAR