BEGIN:VCALENDAR
VERSION:2.0
PRODID:-//Rochester Rotary - ECPv6.15.20//NONSGML v1.0//EN
CALSCALE:GREGORIAN
METHOD:PUBLISH
X-WR-CALNAME:Rochester Rotary
X-ORIGINAL-URL:https://www.rochesterrotary.org
X-WR-CALDESC:Events for Rochester Rotary
REFRESH-INTERVAL;VALUE=DURATION:PT1H
X-Robots-Tag:noindex
X-PUBLISHED-TTL:PT1H
BEGIN:VTIMEZONE
TZID:America/New_York
BEGIN:DAYLIGHT
TZOFFSETFROM:-0500
TZOFFSETTO:-0400
TZNAME:EDT
DTSTART:20260308T070000
END:DAYLIGHT
BEGIN:STANDARD
TZOFFSETFROM:-0400
TZOFFSETTO:-0500
TZNAME:EST
DTSTART:20261101T060000
END:STANDARD
BEGIN:DAYLIGHT
TZOFFSETFROM:-0500
TZOFFSETTO:-0400
TZNAME:EDT
DTSTART:20270314T070000
END:DAYLIGHT
BEGIN:STANDARD
TZOFFSETFROM:-0400
TZOFFSETTO:-0500
TZNAME:EST
DTSTART:20271107T060000
END:STANDARD
BEGIN:DAYLIGHT
TZOFFSETFROM:-0500
TZOFFSETTO:-0400
TZNAME:EDT
DTSTART:20280312T070000
END:DAYLIGHT
BEGIN:STANDARD
TZOFFSETFROM:-0400
TZOFFSETTO:-0500
TZNAME:EST
DTSTART:20281105T060000
END:STANDARD
BEGIN:DAYLIGHT
TZOFFSETFROM:-0500
TZOFFSETTO:-0400
TZNAME:EDT
DTSTART:20290311T070000
END:DAYLIGHT
BEGIN:STANDARD
TZOFFSETFROM:-0400
TZOFFSETTO:-0500
TZNAME:EST
DTSTART:20291104T060000
END:STANDARD
END:VTIMEZONE
BEGIN:VEVENT
DTSTART;TZID=America/New_York:20271117T120000
DTEND;TZID=America/New_York:20271117T133000
DTSTAMP:20260423T004749
CREATED:20190619T191412Z
LAST-MODIFIED:20240701T143557Z
UID:10017033-1826452800-1826458200@www.rochesterrotary.org
SUMMARY:Business to Business Committee
DESCRIPTION:We plan business tours for our members.
URL:https://www.rochesterrotary.org/event/business-to-business-committee/2027-11-17/
LOCATION:Via Zoom
CATEGORIES:Committee
END:VEVENT
BEGIN:VEVENT
DTSTART;TZID=America/New_York:20271118T083000
DTEND;TZID=America/New_York:20271118T100000
DTSTAMP:20260423T004749
CREATED:20241204T142716Z
LAST-MODIFIED:20241204T143305Z
UID:10017370-1826526600-1826532000@www.rochesterrotary.org
SUMMARY:School No. 8 Scholarship Committee
DESCRIPTION:Plan our scholars activities.
URL:https://www.rochesterrotary.org/event/school-no-8-scholarship-committee-6/2027-11-18/
LOCATION:Rochester Rotary Office\, 180 Linden Oaks #200\, Rochester\, NY\, 14625\, United States
CATEGORIES:Committee
END:VEVENT
BEGIN:VEVENT
DTSTART;TZID=America/New_York:20271122T120000
DTEND;TZID=America/New_York:20271122T130000
DTSTAMP:20260423T004749
CREATED:20230628T180205Z
LAST-MODIFIED:20250826T143529Z
UID:10016870-1826884800-1826888400@www.rochesterrotary.org
SUMMARY:Social Events & Activities Committee
DESCRIPTION:We meet quarterly to plan our fun activities for our members.
URL:https://www.rochesterrotary.org/event/social-events-activities-committee-8/2027-11-22/
LOCATION:Via Zoom
CATEGORIES:Committee
END:VEVENT
BEGIN:VEVENT
DTSTART;TZID=America/New_York:20271124T120000
DTEND;TZID=America/New_York:20271124T130000
DTSTAMP:20260423T004749
CREATED:20260205T201442Z
LAST-MODIFIED:20260205T201442Z
UID:10017785-1827057600-1827061200@www.rochesterrotary.org
SUMMARY:Membership Recruitment Committee
DESCRIPTION:
URL:https://www.rochesterrotary.org/event/membership-recruitment-committee-17/2027-11-24/
LOCATION:Via Zoom
CATEGORIES:Committee
END:VEVENT
BEGIN:VEVENT
DTSTART;TZID=America/New_York:20271208T120000
DTEND;TZID=America/New_York:20271208T133000
DTSTAMP:20260423T004749
CREATED:20190619T194823Z
LAST-MODIFIED:20240701T143753Z
UID:10017087-1828267200-1828272600@www.rochesterrotary.org
SUMMARY:Friendship Committee
DESCRIPTION:Join us for lunch.
URL:https://www.rochesterrotary.org/event/friendship-committee-meeting/2027-12-08/
LOCATION:Shadow Lake Country Club\, 1850 Five Mile Line Road\, Penfield\, NY\, 14526\, United States
CATEGORIES:Committee
END:VEVENT
BEGIN:VEVENT
DTSTART;TZID=America/New_York:20271209T080000
DTEND;TZID=America/New_York:20271209T093000
DTSTAMP:20260423T004749
CREATED:20230213T192402Z
LAST-MODIFIED:20230628T203411Z
UID:10016816-1828339200-1828344600@www.rochesterrotary.org
SUMMARY:Sunshine Camp Facilities Committee
DESCRIPTION:Join us to work on projects and improvements a the Sunshine Camp.
URL:https://www.rochesterrotary.org/event/sunshine-camp-facilities-committee-4/2027-12-09/
LOCATION:Via Zoom
CATEGORIES:Committee
END:VEVENT
BEGIN:VEVENT
DTSTART;TZID=America/New_York:20271209T120000
DTEND;TZID=America/New_York:20271209T133000
DTSTAMP:20260423T004749
CREATED:20200708T170032Z
LAST-MODIFIED:20230628T204049Z
UID:10016943-1828353600-1828359000@www.rochesterrotary.org
SUMMARY:Membership Engagement Committee
DESCRIPTION:
URL:https://www.rochesterrotary.org/event/membership-engagement-committee/2027-12-09/
LOCATION:Via Zoom
CATEGORIES:Committee
END:VEVENT
BEGIN:VEVENT
DTSTART;TZID=America/New_York:20271210T090000
DTEND;TZID=America/New_York:20271210T100000
DTSTAMP:20260423T004749
CREATED:20240701T150459Z
LAST-MODIFIED:20240701T150459Z
UID:10017168-1828429200-1828432800@www.rochesterrotary.org
SUMMARY:International Service Committee
DESCRIPTION:Join us to help select our next international project.
URL:https://www.rochesterrotary.org/event/international-service-committee-6/2027-12-10/
LOCATION:Rochester Rotary Office\, 180 Linden Oaks #200\, Rochester\, NY\, 14625\, United States
CATEGORIES:Committee
END:VEVENT
BEGIN:VEVENT
DTSTART;TZID=America/New_York:20271215T120000
DTEND;TZID=America/New_York:20271215T133000
DTSTAMP:20260423T004749
CREATED:20190619T191412Z
LAST-MODIFIED:20240701T143557Z
UID:10017034-1828872000-1828877400@www.rochesterrotary.org
SUMMARY:Business to Business Committee
DESCRIPTION:We plan business tours for our members.
URL:https://www.rochesterrotary.org/event/business-to-business-committee/2027-12-15/
LOCATION:Via Zoom
CATEGORIES:Committee
END:VEVENT
BEGIN:VEVENT
DTSTART;TZID=America/New_York:20271216T083000
DTEND;TZID=America/New_York:20271216T100000
DTSTAMP:20260423T004749
CREATED:20241204T142716Z
LAST-MODIFIED:20241204T143305Z
UID:10017371-1828945800-1828951200@www.rochesterrotary.org
SUMMARY:School No. 8 Scholarship Committee
DESCRIPTION:Plan our scholars activities.
URL:https://www.rochesterrotary.org/event/school-no-8-scholarship-committee-6/2027-12-16/
LOCATION:Rochester Rotary Office\, 180 Linden Oaks #200\, Rochester\, NY\, 14625\, United States
CATEGORIES:Committee
END:VEVENT
BEGIN:VEVENT
DTSTART;TZID=America/New_York:20271222T120000
DTEND;TZID=America/New_York:20271222T130000
DTSTAMP:20260423T004749
CREATED:20260205T201442Z
LAST-MODIFIED:20260205T201442Z
UID:10017786-1829476800-1829480400@www.rochesterrotary.org
SUMMARY:Membership Recruitment Committee
DESCRIPTION:
URL:https://www.rochesterrotary.org/event/membership-recruitment-committee-17/2027-12-22/
LOCATION:Via Zoom
CATEGORIES:Committee
END:VEVENT
BEGIN:VEVENT
DTSTART;TZID=America/New_York:20271227T120000
DTEND;TZID=America/New_York:20271227T130000
DTSTAMP:20260423T004749
CREATED:20230628T180205Z
LAST-MODIFIED:20250826T143529Z
UID:10016871-1829908800-1829912400@www.rochesterrotary.org
SUMMARY:Social Events & Activities Committee
DESCRIPTION:We meet quarterly to plan our fun activities for our members.
URL:https://www.rochesterrotary.org/event/social-events-activities-committee-8/2027-12-27/
LOCATION:Via Zoom
CATEGORIES:Committee
END:VEVENT
BEGIN:VEVENT
DTSTART;TZID=America/New_York:20280110T150000
DTEND;TZID=America/New_York:20280110T160000
DTSTAMP:20260423T004749
CREATED:20241021T203921Z
LAST-MODIFIED:20241021T203921Z
UID:10017299-1831129200-1831132800@www.rochesterrotary.org
SUMMARY:DEI Committee
DESCRIPTION:
URL:https://www.rochesterrotary.org/event/dei-committee-13/2028-01-10/
LOCATION:Via Zoom
CATEGORIES:Committee
END:VEVENT
BEGIN:VEVENT
DTSTART;TZID=America/New_York:20280112T120000
DTEND;TZID=America/New_York:20280112T133000
DTSTAMP:20260423T004749
CREATED:20190619T194823Z
LAST-MODIFIED:20240701T143753Z
UID:10017088-1831291200-1831296600@www.rochesterrotary.org
SUMMARY:Friendship Committee
DESCRIPTION:Join us for lunch.
URL:https://www.rochesterrotary.org/event/friendship-committee-meeting/2028-01-12/
LOCATION:Shadow Lake Country Club\, 1850 Five Mile Line Road\, Penfield\, NY\, 14526\, United States
CATEGORIES:Committee
END:VEVENT
BEGIN:VEVENT
DTSTART;TZID=America/New_York:20280113T080000
DTEND;TZID=America/New_York:20280113T093000
DTSTAMP:20260423T004749
CREATED:20230213T192402Z
LAST-MODIFIED:20230628T203411Z
UID:10016817-1831363200-1831368600@www.rochesterrotary.org
SUMMARY:Sunshine Camp Facilities Committee
DESCRIPTION:Join us to work on projects and improvements a the Sunshine Camp.
URL:https://www.rochesterrotary.org/event/sunshine-camp-facilities-committee-4/2028-01-13/
LOCATION:Via Zoom
CATEGORIES:Committee
END:VEVENT
BEGIN:VEVENT
DTSTART;TZID=America/New_York:20280113T120000
DTEND;TZID=America/New_York:20280113T133000
DTSTAMP:20260423T004749
CREATED:20200708T170032Z
LAST-MODIFIED:20230628T204049Z
UID:10016944-1831377600-1831383000@www.rochesterrotary.org
SUMMARY:Membership Engagement Committee
DESCRIPTION:
URL:https://www.rochesterrotary.org/event/membership-engagement-committee/2028-01-13/
LOCATION:Via Zoom
CATEGORIES:Committee
END:VEVENT
BEGIN:VEVENT
DTSTART;TZID=America/New_York:20280114T090000
DTEND;TZID=America/New_York:20280114T100000
DTSTAMP:20260423T004749
CREATED:20240701T150459Z
LAST-MODIFIED:20240701T150459Z
UID:10017169-1831453200-1831456800@www.rochesterrotary.org
SUMMARY:International Service Committee
DESCRIPTION:Join us to help select our next international project.
URL:https://www.rochesterrotary.org/event/international-service-committee-6/2028-01-14/
LOCATION:Rochester Rotary Office\, 180 Linden Oaks #200\, Rochester\, NY\, 14625\, United States
CATEGORIES:Committee
END:VEVENT
BEGIN:VEVENT
DTSTART;TZID=America/New_York:20280119T120000
DTEND;TZID=America/New_York:20280119T133000
DTSTAMP:20260423T004749
CREATED:20190619T191412Z
LAST-MODIFIED:20240701T143557Z
UID:10017035-1831896000-1831901400@www.rochesterrotary.org
SUMMARY:Business to Business Committee
DESCRIPTION:We plan business tours for our members.
URL:https://www.rochesterrotary.org/event/business-to-business-committee/2028-01-19/
LOCATION:Via Zoom
CATEGORIES:Committee
END:VEVENT
BEGIN:VEVENT
DTSTART;TZID=America/New_York:20280120T083000
DTEND;TZID=America/New_York:20280120T100000
DTSTAMP:20260423T004749
CREATED:20241204T142716Z
LAST-MODIFIED:20241204T143305Z
UID:10017372-1831969800-1831975200@www.rochesterrotary.org
SUMMARY:School No. 8 Scholarship Committee
DESCRIPTION:Plan our scholars activities.
URL:https://www.rochesterrotary.org/event/school-no-8-scholarship-committee-6/2028-01-20/
LOCATION:Rochester Rotary Office\, 180 Linden Oaks #200\, Rochester\, NY\, 14625\, United States
CATEGORIES:Committee
END:VEVENT
BEGIN:VEVENT
DTSTART;TZID=America/New_York:20280124T120000
DTEND;TZID=America/New_York:20280124T130000
DTSTAMP:20260423T004749
CREATED:20230628T180205Z
LAST-MODIFIED:20250826T143529Z
UID:10016872-1832328000-1832331600@www.rochesterrotary.org
SUMMARY:Social Events & Activities Committee
DESCRIPTION:We meet quarterly to plan our fun activities for our members.
URL:https://www.rochesterrotary.org/event/social-events-activities-committee-8/2028-01-24/
LOCATION:Via Zoom
CATEGORIES:Committee
END:VEVENT
BEGIN:VEVENT
DTSTART;TZID=America/New_York:20280126T120000
DTEND;TZID=America/New_York:20280126T130000
DTSTAMP:20260423T004749
CREATED:20260205T201442Z
LAST-MODIFIED:20260205T201442Z
UID:10017787-1832500800-1832504400@www.rochesterrotary.org
SUMMARY:Membership Recruitment Committee
DESCRIPTION:
URL:https://www.rochesterrotary.org/event/membership-recruitment-committee-17/2028-01-26/
LOCATION:Via Zoom
CATEGORIES:Committee
END:VEVENT
BEGIN:VEVENT
DTSTART;TZID=America/New_York:20280209T120000
DTEND;TZID=America/New_York:20280209T133000
DTSTAMP:20260423T004749
CREATED:20190619T194823Z
LAST-MODIFIED:20240701T143753Z
UID:10017089-1833710400-1833715800@www.rochesterrotary.org
SUMMARY:Friendship Committee
DESCRIPTION:Join us for lunch.
URL:https://www.rochesterrotary.org/event/friendship-committee-meeting/2028-02-09/
LOCATION:Shadow Lake Country Club\, 1850 Five Mile Line Road\, Penfield\, NY\, 14526\, United States
CATEGORIES:Committee
END:VEVENT
BEGIN:VEVENT
DTSTART;TZID=America/New_York:20280210T080000
DTEND;TZID=America/New_York:20280210T093000
DTSTAMP:20260423T004749
CREATED:20230213T192402Z
LAST-MODIFIED:20230628T203411Z
UID:10016818-1833782400-1833787800@www.rochesterrotary.org
SUMMARY:Sunshine Camp Facilities Committee
DESCRIPTION:Join us to work on projects and improvements a the Sunshine Camp.
URL:https://www.rochesterrotary.org/event/sunshine-camp-facilities-committee-4/2028-02-10/
LOCATION:Via Zoom
CATEGORIES:Committee
END:VEVENT
BEGIN:VEVENT
DTSTART;TZID=America/New_York:20280210T120000
DTEND;TZID=America/New_York:20280210T133000
DTSTAMP:20260423T004749
CREATED:20200708T170032Z
LAST-MODIFIED:20230628T204049Z
UID:10016945-1833796800-1833802200@www.rochesterrotary.org
SUMMARY:Membership Engagement Committee
DESCRIPTION:
URL:https://www.rochesterrotary.org/event/membership-engagement-committee/2028-02-10/
LOCATION:Via Zoom
CATEGORIES:Committee
END:VEVENT
BEGIN:VEVENT
DTSTART;TZID=America/New_York:20280211T090000
DTEND;TZID=America/New_York:20280211T100000
DTSTAMP:20260423T004749
CREATED:20240701T150459Z
LAST-MODIFIED:20240701T150459Z
UID:10017170-1833872400-1833876000@www.rochesterrotary.org
SUMMARY:International Service Committee
DESCRIPTION:Join us to help select our next international project.
URL:https://www.rochesterrotary.org/event/international-service-committee-6/2028-02-11/
LOCATION:Rochester Rotary Office\, 180 Linden Oaks #200\, Rochester\, NY\, 14625\, United States
CATEGORIES:Committee
END:VEVENT
BEGIN:VEVENT
DTSTART;TZID=America/New_York:20280216T120000
DTEND;TZID=America/New_York:20280216T133000
DTSTAMP:20260423T004749
CREATED:20190619T191412Z
LAST-MODIFIED:20240701T143557Z
UID:10017036-1834315200-1834320600@www.rochesterrotary.org
SUMMARY:Business to Business Committee
DESCRIPTION:We plan business tours for our members.
URL:https://www.rochesterrotary.org/event/business-to-business-committee/2028-02-16/
LOCATION:Via Zoom
CATEGORIES:Committee
END:VEVENT
BEGIN:VEVENT
DTSTART;TZID=America/New_York:20280217T083000
DTEND;TZID=America/New_York:20280217T100000
DTSTAMP:20260423T004749
CREATED:20241204T142716Z
LAST-MODIFIED:20241204T143305Z
UID:10017373-1834389000-1834394400@www.rochesterrotary.org
SUMMARY:School No. 8 Scholarship Committee
DESCRIPTION:Plan our scholars activities.
URL:https://www.rochesterrotary.org/event/school-no-8-scholarship-committee-6/2028-02-17/
LOCATION:Rochester Rotary Office\, 180 Linden Oaks #200\, Rochester\, NY\, 14625\, United States
CATEGORIES:Committee
END:VEVENT
BEGIN:VEVENT
DTSTART;TZID=America/New_York:20280223T120000
DTEND;TZID=America/New_York:20280223T130000
DTSTAMP:20260423T004749
CREATED:20260205T201442Z
LAST-MODIFIED:20260205T201442Z
UID:10017788-1834920000-1834923600@www.rochesterrotary.org
SUMMARY:Membership Recruitment Committee
DESCRIPTION:
URL:https://www.rochesterrotary.org/event/membership-recruitment-committee-17/2028-02-23/
LOCATION:Via Zoom
CATEGORIES:Committee
END:VEVENT
BEGIN:VEVENT
DTSTART;TZID=America/New_York:20280228T120000
DTEND;TZID=America/New_York:20280228T130000
DTSTAMP:20260423T004749
CREATED:20230628T180205Z
LAST-MODIFIED:20250826T143529Z
UID:10016873-1835352000-1835355600@www.rochesterrotary.org
SUMMARY:Social Events & Activities Committee
DESCRIPTION:We meet quarterly to plan our fun activities for our members.
URL:https://www.rochesterrotary.org/event/social-events-activities-committee-8/2028-02-28/
LOCATION:Via Zoom
CATEGORIES:Committee
END:VEVENT
BEGIN:VEVENT
DTSTART;TZID=America/New_York:20280308T120000
DTEND;TZID=America/New_York:20280308T133000
DTSTAMP:20260423T004749
CREATED:20190619T194823Z
LAST-MODIFIED:20240701T143753Z
UID:10017090-1836129600-1836135000@www.rochesterrotary.org
SUMMARY:Friendship Committee
DESCRIPTION:Join us for lunch.
URL:https://www.rochesterrotary.org/event/friendship-committee-meeting/2028-03-08/
LOCATION:Shadow Lake Country Club\, 1850 Five Mile Line Road\, Penfield\, NY\, 14526\, United States
CATEGORIES:Committee
END:VEVENT
END:VCALENDAR