BEGIN:VCALENDAR
VERSION:2.0
PRODID:-//Rochester Rotary - ECPv6.15.20//NONSGML v1.0//EN
CALSCALE:GREGORIAN
METHOD:PUBLISH
X-ORIGINAL-URL:https://www.rochesterrotary.org
X-WR-CALDESC:Events for Rochester Rotary
REFRESH-INTERVAL;VALUE=DURATION:PT1H
X-Robots-Tag:noindex
X-PUBLISHED-TTL:PT1H
BEGIN:VTIMEZONE
TZID:America/New_York
BEGIN:DAYLIGHT
TZOFFSETFROM:-0500
TZOFFSETTO:-0400
TZNAME:EDT
DTSTART:20260308T070000
END:DAYLIGHT
BEGIN:STANDARD
TZOFFSETFROM:-0400
TZOFFSETTO:-0500
TZNAME:EST
DTSTART:20261101T060000
END:STANDARD
BEGIN:DAYLIGHT
TZOFFSETFROM:-0500
TZOFFSETTO:-0400
TZNAME:EDT
DTSTART:20270314T070000
END:DAYLIGHT
BEGIN:STANDARD
TZOFFSETFROM:-0400
TZOFFSETTO:-0500
TZNAME:EST
DTSTART:20271107T060000
END:STANDARD
BEGIN:DAYLIGHT
TZOFFSETFROM:-0500
TZOFFSETTO:-0400
TZNAME:EDT
DTSTART:20280312T070000
END:DAYLIGHT
BEGIN:STANDARD
TZOFFSETFROM:-0400
TZOFFSETTO:-0500
TZNAME:EST
DTSTART:20281105T060000
END:STANDARD
END:VTIMEZONE
BEGIN:VEVENT
DTSTART;TZID=America/New_York:20270108T090000
DTEND;TZID=America/New_York:20270108T100000
DTSTAMP:20260424T063759
CREATED:20240701T150459Z
LAST-MODIFIED:20240701T150459Z
UID:10017157-1799398800-1799402400@www.rochesterrotary.org
SUMMARY:International Service Committee
DESCRIPTION:Join us to help select our next international project.
URL:https://www.rochesterrotary.org/event/international-service-committee-6/2027-01-08/
LOCATION:Rochester Rotary Office\, 180 Linden Oaks #200\, Rochester\, NY\, 14625\, United States
CATEGORIES:Committee
END:VEVENT
BEGIN:VEVENT
DTSTART;TZID=America/New_York:20270111T150000
DTEND;TZID=America/New_York:20270111T160000
DTSTAMP:20260424T063759
CREATED:20241021T203921Z
LAST-MODIFIED:20241021T203921Z
UID:10017293-1799679600-1799683200@www.rochesterrotary.org
SUMMARY:DEI Committee
DESCRIPTION:
URL:https://www.rochesterrotary.org/event/dei-committee-13/2027-01-11/
LOCATION:Via Zoom
CATEGORIES:Committee
END:VEVENT
BEGIN:VEVENT
DTSTART;TZID=America/New_York:20270113T120000
DTEND;TZID=America/New_York:20270113T133000
DTSTAMP:20260424T063759
CREATED:20190619T194823Z
LAST-MODIFIED:20240701T143753Z
UID:10017076-1799841600-1799847000@www.rochesterrotary.org
SUMMARY:Friendship Committee
DESCRIPTION:Join us for lunch.
URL:https://www.rochesterrotary.org/event/friendship-committee-meeting/2027-01-13/
LOCATION:Shadow Lake Country Club\, 1850 Five Mile Line Road\, Penfield\, NY\, 14526\, United States
CATEGORIES:Committee
END:VEVENT
BEGIN:VEVENT
DTSTART;TZID=America/New_York:20270114T080000
DTEND;TZID=America/New_York:20270114T093000
DTSTAMP:20260424T063759
CREATED:20230213T192402Z
LAST-MODIFIED:20230628T203411Z
UID:10016805-1799913600-1799919000@www.rochesterrotary.org
SUMMARY:Sunshine Camp Facilities Committee
DESCRIPTION:Join us to work on projects and improvements a the Sunshine Camp.
URL:https://www.rochesterrotary.org/event/sunshine-camp-facilities-committee-4/2027-01-14/
LOCATION:Via Zoom
CATEGORIES:Committee
END:VEVENT
BEGIN:VEVENT
DTSTART;TZID=America/New_York:20270114T120000
DTEND;TZID=America/New_York:20270114T133000
DTSTAMP:20260424T063759
CREATED:20200708T170032Z
LAST-MODIFIED:20230628T204049Z
UID:10016932-1799928000-1799933400@www.rochesterrotary.org
SUMMARY:Membership Engagement Committee
DESCRIPTION:
URL:https://www.rochesterrotary.org/event/membership-engagement-committee/2027-01-14/
LOCATION:Via Zoom
CATEGORIES:Committee
END:VEVENT
BEGIN:VEVENT
DTSTART;TZID=America/New_York:20270120T120000
DTEND;TZID=America/New_York:20270120T133000
DTSTAMP:20260424T063759
CREATED:20190619T191412Z
LAST-MODIFIED:20240701T143557Z
UID:10017023-1800446400-1800451800@www.rochesterrotary.org
SUMMARY:Business to Business Committee
DESCRIPTION:We plan business tours for our members.
URL:https://www.rochesterrotary.org/event/business-to-business-committee/2027-01-20/
LOCATION:Via Zoom
CATEGORIES:Committee
END:VEVENT
BEGIN:VEVENT
DTSTART;TZID=America/New_York:20270121T083000
DTEND;TZID=America/New_York:20270121T100000
DTSTAMP:20260424T063759
CREATED:20241204T142716Z
LAST-MODIFIED:20241204T143305Z
UID:10017360-1800520200-1800525600@www.rochesterrotary.org
SUMMARY:School No. 8 Scholarship Committee
DESCRIPTION:Plan our scholars activities.
URL:https://www.rochesterrotary.org/event/school-no-8-scholarship-committee-6/2027-01-21/
LOCATION:Rochester Rotary Office\, 180 Linden Oaks #200\, Rochester\, NY\, 14625\, United States
CATEGORIES:Committee
END:VEVENT
BEGIN:VEVENT
DTSTART;TZID=America/New_York:20270125T120000
DTEND;TZID=America/New_York:20270125T130000
DTSTAMP:20260424T063759
CREATED:20230628T180205Z
LAST-MODIFIED:20250826T143529Z
UID:10016860-1800878400-1800882000@www.rochesterrotary.org
SUMMARY:Social Events & Activities Committee
DESCRIPTION:We meet quarterly to plan our fun activities for our members.
URL:https://www.rochesterrotary.org/event/social-events-activities-committee-8/2027-01-25/
LOCATION:Via Zoom
CATEGORIES:Committee
END:VEVENT
BEGIN:VEVENT
DTSTART;TZID=America/New_York:20270127T120000
DTEND;TZID=America/New_York:20270127T130000
DTSTAMP:20260424T063759
CREATED:20260205T201442Z
LAST-MODIFIED:20260205T201442Z
UID:10017775-1801051200-1801054800@www.rochesterrotary.org
SUMMARY:Membership Recruitment Committee
DESCRIPTION:
URL:https://www.rochesterrotary.org/event/membership-recruitment-committee-17/2027-01-27/
LOCATION:Via Zoom
CATEGORIES:Committee
END:VEVENT
END:VCALENDAR